BEGIN:VCALENDAR
VERSION:2.0
PRODID:-//News from Native California - ECPv6.15.18//NONSGML v1.0//EN
CALSCALE:GREGORIAN
METHOD:PUBLISH
X-ORIGINAL-URL:https://newsfromnativecalifornia.com
X-WR-CALDESC:Events for News from Native California
REFRESH-INTERVAL;VALUE=DURATION:PT1H
X-Robots-Tag:noindex
X-PUBLISHED-TTL:PT1H
BEGIN:VTIMEZONE
TZID:America/Los_Angeles
BEGIN:DAYLIGHT
TZOFFSETFROM:-0800
TZOFFSETTO:-0700
TZNAME:PDT
DTSTART:20250309T100000
END:DAYLIGHT
BEGIN:STANDARD
TZOFFSETFROM:-0700
TZOFFSETTO:-0800
TZNAME:PST
DTSTART:20251102T090000
END:STANDARD
BEGIN:DAYLIGHT
TZOFFSETFROM:-0800
TZOFFSETTO:-0700
TZNAME:PDT
DTSTART:20260308T100000
END:DAYLIGHT
BEGIN:STANDARD
TZOFFSETFROM:-0700
TZOFFSETTO:-0800
TZNAME:PST
DTSTART:20261101T090000
END:STANDARD
BEGIN:DAYLIGHT
TZOFFSETFROM:-0800
TZOFFSETTO:-0700
TZNAME:PDT
DTSTART:20270314T100000
END:DAYLIGHT
BEGIN:STANDARD
TZOFFSETFROM:-0700
TZOFFSETTO:-0800
TZNAME:PST
DTSTART:20271107T090000
END:STANDARD
END:VTIMEZONE
BEGIN:VEVENT
DTSTART;VALUE=DATE:20260214
DTEND;VALUE=DATE:20260511
DTSTAMP:20260420T054028
CREATED:20260222T223425Z
LAST-MODIFIED:20260222T223425Z
UID:17855-1771027200-1778457599@newsfromnativecalifornia.com
SUMMARY:Momím Wené | Medicine Water: Flowing through Indian Country
DESCRIPTION:This Valentine’s day through May 10th enjoy the paintings\, basketry\, jewelry and other works from over 30 Native artists — love letters\, if you will\, to water. The exhibition “Momím Wené: Medicine Water” was curated by the Shingle Springs Band of Miwok Indians Exhibits and Collections Center. Starting in central California Nisenan territory\, it is now flowing to the home of the Ukiah Valley Pomo\, where their voices have been integrated into the story.
URL:https://newsfromnativecalifornia.com/event/momim-wene-medicine-water-flowing-through-indian-country/
LOCATION:Grace Hudson Museum & Sun House\, 431 South Main Street\, Ukiah\, CA\, United States
CATEGORIES:Art Show
END:VEVENT
BEGIN:VEVENT
DTSTART;VALUE=DATE:20260307
DTEND;VALUE=DATE:20260727
DTSTAMP:20260420T054028
CREATED:20260222T224917Z
LAST-MODIFIED:20260222T224917Z
UID:17856-1772841600-1785110399@newsfromnativecalifornia.com
SUMMARY:Raymond LeBeau: Field(s) of View
DESCRIPTION:Raymond LeBeau: Field(s) of View is a solo exhibition by local Pit River\, Lakota\, and Cahuilla artist\, Raymond LeBeau. The exhibition reflects his perspective as a Native Pit River artist shaped by his northeastern California homelands and coastal environments. \nThrough paintings\, drawings\, maps\, and found-object assemblages\, he explores history\, lived experiences\, and the cultural influences that shape his world. Together\, these works form a layered landscape of memory\, place\, and an ongoing story.\n\nRaymond LeBeau: Field(s) of View is\, in part due\, to the Shingle Springs Band of Miwok Indians’ commitment to supporting Indigenous artists. Raymond LeBeau is the recipient of the 2025 Emerging Artists Exhibits Award.  \nOn view: March 7 – July 26\, 2026.\nOpening reception: March 7\, 5:00-7:00pm. Free admission! 
URL:https://newsfromnativecalifornia.com/event/raymond-lebeau-fields-of-view/
LOCATION:Maidu Museum & Historic Site\, 1970 Johnson Ranch Drive\, Roseville\, CA\, 95661\, United States
CATEGORIES:Art Show,Artist Showcase
END:VEVENT
END:VCALENDAR