BEGIN:VCALENDAR
VERSION:2.0
PRODID:-//News from Native California - ECPv6.15.18//NONSGML v1.0//EN
CALSCALE:GREGORIAN
METHOD:PUBLISH
X-ORIGINAL-URL:https://newsfromnativecalifornia.com
X-WR-CALDESC:Events for News from Native California
REFRESH-INTERVAL;VALUE=DURATION:PT1H
X-Robots-Tag:noindex
X-PUBLISHED-TTL:PT1H
BEGIN:VTIMEZONE
TZID:America/Los_Angeles
BEGIN:DAYLIGHT
TZOFFSETFROM:-0800
TZOFFSETTO:-0700
TZNAME:PDT
DTSTART:20210314T100000
END:DAYLIGHT
BEGIN:STANDARD
TZOFFSETFROM:-0700
TZOFFSETTO:-0800
TZNAME:PST
DTSTART:20211107T090000
END:STANDARD
BEGIN:DAYLIGHT
TZOFFSETFROM:-0800
TZOFFSETTO:-0700
TZNAME:PDT
DTSTART:20220313T100000
END:DAYLIGHT
BEGIN:STANDARD
TZOFFSETFROM:-0700
TZOFFSETTO:-0800
TZNAME:PST
DTSTART:20221106T090000
END:STANDARD
BEGIN:DAYLIGHT
TZOFFSETFROM:-0800
TZOFFSETTO:-0700
TZNAME:PDT
DTSTART:20230312T100000
END:DAYLIGHT
BEGIN:STANDARD
TZOFFSETFROM:-0700
TZOFFSETTO:-0800
TZNAME:PST
DTSTART:20231105T090000
END:STANDARD
END:VTIMEZONE
BEGIN:VEVENT
DTSTART;VALUE=DATE:20221107
DTEND;VALUE=DATE:20221108
DTSTAMP:20260423T084632
CREATED:20220829T210642Z
LAST-MODIFIED:20220829T210642Z
UID:11170-1667779200-1667865599@newsfromnativecalifornia.com
SUMMARY:Walking Shield’s 10th Annual Charity Golf Tournament
DESCRIPTION:All proceeds support the American Indian College Access Program \nTaking place at Native Oaks Golf Club\, 14616 Wood Valley Road Valley Center CA \nFor more information\, please call (657) 900-2197 \n  \nNot a golfer? There are other ways to participate: \n–        Donate merchandise or items for our silent auction or opportunity drawing \n–        Donate wicker baskets to help create gift baskets for our silent auction and opportunity drawing \n–        Donate items for players’ gift bags \n–        Make a tax-deductible donation directly to Walking Shield\, Inc. \n–     Volunteer — there are plenty of spots open for various roles
URL:https://newsfromnativecalifornia.com/event/walking-shields-10th-annual-charity-golf-tournament/
CATEGORIES:Charity,Community,Tournament,Volunteer
ATTACH;FMTTYPE=image/jpeg:https://newsfromnativecalifornia.com/wp-content/uploads/2022/08/unnamed-5.jpg
END:VEVENT
END:VCALENDAR