BEGIN:VCALENDAR
VERSION:2.0
PRODID:-//News from Native California - ECPv6.15.18//NONSGML v1.0//EN
CALSCALE:GREGORIAN
METHOD:PUBLISH
X-ORIGINAL-URL:https://newsfromnativecalifornia.com
X-WR-CALDESC:Events for News from Native California
REFRESH-INTERVAL;VALUE=DURATION:PT1H
X-Robots-Tag:noindex
X-PUBLISHED-TTL:PT1H
BEGIN:VTIMEZONE
TZID:America/Los_Angeles
BEGIN:DAYLIGHT
TZOFFSETFROM:-0800
TZOFFSETTO:-0700
TZNAME:PDT
DTSTART:20230312T100000
END:DAYLIGHT
BEGIN:STANDARD
TZOFFSETFROM:-0700
TZOFFSETTO:-0800
TZNAME:PST
DTSTART:20231105T090000
END:STANDARD
BEGIN:DAYLIGHT
TZOFFSETFROM:-0800
TZOFFSETTO:-0700
TZNAME:PDT
DTSTART:20240310T100000
END:DAYLIGHT
BEGIN:STANDARD
TZOFFSETFROM:-0700
TZOFFSETTO:-0800
TZNAME:PST
DTSTART:20241103T090000
END:STANDARD
BEGIN:DAYLIGHT
TZOFFSETFROM:-0800
TZOFFSETTO:-0700
TZNAME:PDT
DTSTART:20250309T100000
END:DAYLIGHT
BEGIN:STANDARD
TZOFFSETFROM:-0700
TZOFFSETTO:-0800
TZNAME:PST
DTSTART:20251102T090000
END:STANDARD
END:VTIMEZONE
BEGIN:VEVENT
DTSTART;TZID=America/Los_Angeles:20241204T120000
DTEND;TZID=America/Los_Angeles:20241204T160000
DTSTAMP:20260421T065336
CREATED:20241128T234112Z
LAST-MODIFIED:20241128T234112Z
UID:15948-1733313600-1733328000@newsfromnativecalifornia.com
SUMMARY:California Truth & Healing Council: In-person Regional Hearing\, Los Angeles
DESCRIPTION:Please join the California Truth & Healing Council for an in-person Regional Hearing in Los Angeles on Wednesday\, December 4th from 12:00pm-4:00pm at the Autry Museum. \nRegional Hearings are typically a half day meeting and are an opportunity for tribes to provide testimony on record to the Council or can be an opportunity for California Native Americans to provide testimony on specific issues that may be unique to the region. All convenings of the Council are open to the general public; however\, participation of local California Native Americans will be prioritized during the meeting. \nThis meeting will be fully in-person with no hybrid option (recording will be posted to the Governor’s Office of Tribal Affairs YouTube page afterwards). The council is grateful to be hosted by The Autry Museum for this event. Registration is encouraged but not required to attend the event; however\, registration is helpful for event planning purposes/sending logistic updates. \nWednesday\, December 4\, 2024 from 12:00pm – 4:00pm\nLOCATION: Autry Museum of the American West\, classrooms\, 4700 Western Heritage Way\, Los Angeles\, CA 90027.\nRegister here: https://www.eventbrite.com/e/ca-truth-healing-council-december-2024-regional-hearing-los-angeles-tickets-1095568527959?aff=oddtdtcreator \nThe Autry has generously offered free admission to the Museum on December 4th for attendees of the Regional Hearing. Please take a look at the Autry website for details about current exhibits\, the Reclaiming El Camino: Native Resistance in the Missions and Beyond exhibit may be of particular interest to California Native people. The Museum is open 10:00AM to 4:00PM. \nRegional Hearings are typically a half day meeting and are an opportunity for tribes to provide testimony on record to the Council or can be an opportunity for California Native Americans to provide testimony on specific issues that may be unique to the region. All convenings of the Council are open to the general public; however\, we will prioritize participation of local California Native Americans during the meeting.
URL:https://newsfromnativecalifornia.com/event/california-truth-healing-council-in-person-regional-hearing-los-angeles/
LOCATION:The Autry Museum of the American West\, 4700 Western Heritage Way\, Los Angeles\, CA\, 90027\, United States
CATEGORIES:Community,Day of action,Discussion,Wellness
ATTACH;FMTTYPE=image/jpeg:https://newsfromnativecalifornia.com/wp-content/uploads/2024/11/truth-and-rec.jpg
END:VEVENT
BEGIN:VEVENT
DTSTART;TZID=America/Los_Angeles:20241205T080000
DTEND;TZID=America/Los_Angeles:20241205T170000
DTSTAMP:20260421T065336
CREATED:20241118T182803Z
LAST-MODIFIED:20241118T182803Z
UID:15812-1733385600-1733418000@newsfromnativecalifornia.com
SUMMARY:A Poetry Reading for Gaza II
DESCRIPTION:Join Workshops for Gaza for their second online poetry reading featuring Indigenous poetic geniuses Natalie Diaz\, Jamaica Heolimeleikalani Osorio and Leanne Betasamosake Simpson. The reading will be followed by a short moderated discussion. \nNatalie Diaz is Mojave and an enrolled member of the Gila River Indian community. She is the author of the poetry collections Postcolonial Love Poem\, which won the Pulitzer Prize and was a finalist for the National Book Award\, and When My Brother Was an Aztec. She teaches at Arizona State University. \nJamaica Heolimeleikalani is a Kanaka Maoli poet and the author of Remembering our Intimacies: Moʻolelo\, Aloha ʻĀina\, and Ea. She is an associate professor of Indigenous and Native Hawaiian politics at the University of Hawaiʻi at Mānoa. \nLeanne Betasamosake Simpson is a Michi Saagiig Nishnaabeg writer\, musician\, intellectual and member of Alderville First Nation. She is the author of eight previous books including the novel Noopiming: A Cure for White Ladies\, and Rehearsals for Living\, co-authored with Robyn Maynard. \nTo register\, go to workshops4gaza.com/workshops\, donate to the Sameer Project\, and fill out the registration form!
URL:https://newsfromnativecalifornia.com/event/a-poetry-reading-for-gaza-ii/
LOCATION:CA
CATEGORIES:Artist Talk,Community,Fundraiser,Native Arts,Online Event,Story Sharing,Virtual
ATTACH;FMTTYPE=image/png:https://newsfromnativecalifornia.com/wp-content/uploads/2024/11/poetry-4-gaza.png
END:VEVENT
BEGIN:VEVENT
DTSTART;TZID=America/Los_Angeles:20241207T100000
DTEND;TZID=America/Los_Angeles:20241207T160000
DTSTAMP:20260421T065336
CREATED:20241119T202343Z
LAST-MODIFIED:20241119T202343Z
UID:15818-1733565600-1733587200@newsfromnativecalifornia.com
SUMMARY:Malki Museum's Founders History Exhibit Opening
DESCRIPTION:Malki Museum’s Founders History Exhibit Opening \nSaturday\, December 7\, 2024 – 10 am- 4 pm \n@Malki Museum \n11-795 Malki Rd. \nBanning\, CA 92220
URL:https://newsfromnativecalifornia.com/event/malki-museums-founders-history-exhibit-opening/
LOCATION:Malki Museum\, 11795 Malki Rd. Morongo Reservation\, Banning\, CA\, United States
CATEGORIES:Community,Exhibit
ATTACH;FMTTYPE=image/jpeg:https://newsfromnativecalifornia.com/wp-content/uploads/2024/11/malki-museum-logo.jpg
END:VEVENT
BEGIN:VEVENT
DTSTART;TZID=America/Los_Angeles:20241207T100000
DTEND;TZID=America/Los_Angeles:20241207T170000
DTSTAMP:20260421T065336
CREATED:20241119T202833Z
LAST-MODIFIED:20241119T202833Z
UID:15821-1733565600-1733590800@newsfromnativecalifornia.com
SUMMARY:22nd Annual UIHS American Indian Winter Arts and Crafts Fair
DESCRIPTION:22nd Annual UIHS American Indian Winter Arts and Crafts Fair \nSaturday December 7\, 2024 – 10 am- 5pm \n@UIHS Potawot Health Village \nYou are invited to attend the UIHS Potawot Health Village in celebration of the season and in support of local American Indian Artists.
URL:https://newsfromnativecalifornia.com/event/22nd-annual-uihs-american-indian-winter-arts-and-crafts-fair/
LOCATION:UIHS Potawot Health Village\, 1600 Weeot Way\, Arcata\, CA\, 95521\, United States
CATEGORIES:Community,Craft Fair
ATTACH;FMTTYPE=image/jpeg:https://newsfromnativecalifornia.com/wp-content/uploads/2024/11/potawot-craft-fair.jpg
END:VEVENT
BEGIN:VEVENT
DTSTART;TZID=America/Los_Angeles:20241207T110000
DTEND;TZID=America/Los_Angeles:20241207T170000
DTSTAMP:20260421T065336
CREATED:20241203T182633Z
LAST-MODIFIED:20241203T182633Z
UID:15977-1733569200-1733590800@newsfromnativecalifornia.com
SUMMARY:LA NDN Flea Market
DESCRIPTION:Come thru for the LA NDN Flea Market on Saturday\, December 7 from 11 AM to 5 PM! In partnership with Jana Schmieding and featuring vendors selling recycled clothing\, handcrafted jewelry\, art\, and more\, visit The Chapter House to refresh your closet\, eat good food\, and enjoy great music. \nRecommended donation: $5 \nReserve a spot here: https://www.eventbrite.com/e/la-ndn-flea-market-registration-1024142456657 
URL:https://newsfromnativecalifornia.com/event/la-ndn-flea-market/
LOCATION:The Chapter House LA\, 1770 Glendale Blvd\, Los Angeles\, California\, 90026
CATEGORIES:Community,Craft Fair,Native Arts
ATTACH;FMTTYPE=image/jpeg:https://newsfromnativecalifornia.com/wp-content/uploads/2024/12/la-ndn-flea-market.jpeg
END:VEVENT
BEGIN:VEVENT
DTSTART;TZID=America/Los_Angeles:20241207T120000
DTEND;TZID=America/Los_Angeles:20241207T160000
DTSTAMP:20260421T065336
CREATED:20241109T202309Z
LAST-MODIFIED:20241109T202309Z
UID:15745-1733572800-1733587200@newsfromnativecalifornia.com
SUMMARY:Klamath Unbound: Celebrating a Historic River Restoration
DESCRIPTION:Saturday\, December 7\n12:00 – 4:00 pm\nCalifornia Museum\, 1020 O St. Sacramento\, CA\nJoin the California Museum to celebrate the completion of the Klamath River dam removal project—the largest of its kind in U.S. history! \nThis FREE event features:\n•    Screening of the Patagonia short film “Undammed”\n•    Panel discussions with Native American leaders\, ecologists\, and environmental advocates\n•    Book talk and book signing of “River of Renewal\,” and a screening of its companion documentary\n•    Basketweaving demonstrations\n•    Bigfoot Frybread on-site with delicious frybread and tacos available for purchase\n•    Access to all current Museum exhibits.\nCelebrate this new chapter for the Klamath River and learn about this monumental achievement from Native American leaders and environmental advocates who led the way! \nReserve your spot at klamathunbound.eventbrite.com
URL:https://newsfromnativecalifornia.com/event/klamath-unbound-celebrating-a-historic-river-restoration/
LOCATION:California Museum\, 1020 O St\, Sacramento\, California\, 95814
CATEGORIES:Celebration,Community,Cultural Demonstrations,Native Arts,Speaker,Talk,Wellness,Workshop,Youth
ATTACH;FMTTYPE=image/jpeg:https://newsfromnativecalifornia.com/wp-content/uploads/2024/11/klamath.jpg
END:VEVENT
BEGIN:VEVENT
DTSTART;TZID=America/Los_Angeles:20241213T100000
DTEND;TZID=America/Los_Angeles:20241213T150000
DTSTAMP:20260421T065336
CREATED:20241119T201352Z
LAST-MODIFIED:20241119T201352Z
UID:15815-1734084000-1734102000@newsfromnativecalifornia.com
SUMMARY:UAII Holiday Boutique
DESCRIPTION:Shop for unique gifts! Enjoy a plate lunch sale supporting our Senior Program! Enter exciting raffles! \n📅 Date: Friday\, December 13\, 2024\n⏰ Time: 10 AM – 3 PM\n📍 Location: UAII Community Center\n1453 W. Temple St.\, Los Angeles\, CA 90026 \nFor vendor info\, contact: kfiore@uaii.org or hjealousofhim@uaii.org
URL:https://newsfromnativecalifornia.com/event/uaii-holiday-boutique/
LOCATION:United American Indian Involvement\, 1453 W. Temple St.\, Los Angeles\, CA\, United States
CATEGORIES:Community,Craft Fair,Youth
ATTACH;FMTTYPE=image/jpeg:https://newsfromnativecalifornia.com/wp-content/uploads/2024/11/uaii-craft-fair.jpg
ORGANIZER;CN="United American Indian Involvement":MAILTO:vedwards@uaii.org
END:VEVENT
BEGIN:VEVENT
DTSTART;TZID=America/Los_Angeles:20241214T100000
DTEND;TZID=America/Los_Angeles:20241214T150000
DTSTAMP:20260421T065336
CREATED:20241212T025557Z
LAST-MODIFIED:20241212T025557Z
UID:16051-1734170400-1734188400@newsfromnativecalifornia.com
SUMMARY:Winter Solstice & Holiday Boutique
DESCRIPTION:Join the museum for their annual Winter Solstice & Holiday Boutique! Featuring Native vendors for holiday shopping\, food and drinks\, storytelling and the unveiling of their brand new mural featuring a talk from the artist! \nEvent and museum open at 10am\nChumash storytelling at 11am\nArtist mural talk and unveiling 12pm. \nDon’t miss out\, bring your family and friends! Museum admission: $8 adult\, $5 senior\, student\, child\, military
URL:https://newsfromnativecalifornia.com/event/winter-solstice-holiday-boutique-2/
LOCATION:Chumash Indian Museum\, 3290 Lang Ranch Parkway\, Thousand Oaks\, CA\, 91362\, United States
CATEGORIES:Artist Talk,Community,Craft Fair,Market,Native Arts,Storytelling
ATTACH;FMTTYPE=image/jpeg:https://newsfromnativecalifornia.com/wp-content/uploads/2024/12/IMG_1175.jpg
ORGANIZER;CN="Chumash Indian Museum":MAILTO:visit@chumashmuseum.org
END:VEVENT
BEGIN:VEVENT
DTSTART;TZID=America/Los_Angeles:20241214T110000
DTEND;TZID=America/Los_Angeles:20241214T150000
DTSTAMP:20260421T065336
CREATED:20241203T054456Z
LAST-MODIFIED:20241203T054456Z
UID:15972-1734174000-1734188400@newsfromnativecalifornia.com
SUMMARY:Roots of Resilience Uniting Payómkawichum\, Kumeyaay and Ñuu Savi Communities
DESCRIPTION:On December 14th\, come to the Vista Audubon Society Wetlands Reserve\, Payómkawichum territory\, to experience “Returning to Our Homelands.” This project works to re-connect Indigenous young people and their families to their original Payόmkawichum homelands and territories\, and is brought about through collaboration of ‘ataaxum Pomkwaan\, BVAS\, and the San Luis Rey Band of Mission Indians.\n\n\nLook forward to opening remarks delivered by the San Luis Rey River Tribal Council\, a walk of the estuary\, a speaker panel featuring leaders from  non-profit\, binational Kumeyaay organization Tipey Joa and Mixtec communities\, and a delightful light meal offered by Jardin Mixteco\, ‘ataaxum Pomkwaan and San Luis Rey.\n\n\n\n\nDialogue during the event will be centered on the resilience practices of Indigenous peoples confronting forced displacement on their territories. The organization’s intention is to highlight the roots that bring us together when facing settler colonialism and occupation\, the imposition of the US and Mexican nation/states\, the fast growth of urban communities\, and the extracting practices of multinational mining corporations.\n\n\n\nPlease find the Registration Link below! RSVP to this event is needed.\nhttps://docs.google.com/forms/d/e/1FAIpQLSeHlWe_sEKx6sE9FY6eKyzp7xXb45Kmk7heRz57F73mBkOFpA/viewform
URL:https://newsfromnativecalifornia.com/event/roots-of-resilience-uniting-payomkawichum-kumeyaay-and-nuu-savi-communities/
LOCATION:Buena Vista Audubon Nature Center\, 2202 S. Coast Highway\, Oceanside\, California\, 92054
CATEGORIES:Community,Food Sovereignty,Speaker,Tending the Land,Walk,Wellness
ATTACH;FMTTYPE=image/jpeg:https://newsfromnativecalifornia.com/wp-content/uploads/2024/12/audobon.jpg
END:VEVENT
BEGIN:VEVENT
DTSTART;TZID=America/Los_Angeles:20241216T080000
DTEND;TZID=America/Los_Angeles:20241216T170000
DTSTAMP:20260421T065336
CREATED:20241216T231749Z
LAST-MODIFIED:20241216T231749Z
UID:16123-1734336000-1734368400@newsfromnativecalifornia.com
SUMMARY:Yurok Art Market
DESCRIPTION:The Yurok Tribe is seeking vendors for the first ever Yurok Art Market on Saturday\, Dec. 21 in Klamath. \nMark your calendar to shop for unique arts and crafts by Tribal artisans. The sale of food and drinks will benefit Yurok Parks & Recreation Department youth programs. \nTo reserve a vendor space\, follow the link below\, scan the QR code\, or contact Anthony Ulmer at aulmer@yuroktribe.nsn.us or 707-599-5772. \nhttps://docs.google.com/forms/d/e/1FAIpQLScGDXCqsOULWnpYbGuabrpMx8h4toaYMRm16fDTifQvcp6nBQ/viewform 
URL:https://newsfromnativecalifornia.com/event/yurok-art-market/
LOCATION:Ada Waukell Charles Community Center\, 225 Klamath Blvd.\, Klamath\, California\, 95548
CATEGORIES:Community,Craft Fair,Market,Native Arts
ATTACH;FMTTYPE=image/jpeg:https://newsfromnativecalifornia.com/wp-content/uploads/2024/12/yurok-art-market.jpg
END:VEVENT
END:VCALENDAR