BEGIN:VCALENDAR
VERSION:2.0
PRODID:-//News from Native California - ECPv6.15.18//NONSGML v1.0//EN
CALSCALE:GREGORIAN
METHOD:PUBLISH
X-ORIGINAL-URL:https://newsfromnativecalifornia.com
X-WR-CALDESC:Events for News from Native California
REFRESH-INTERVAL;VALUE=DURATION:PT1H
X-Robots-Tag:noindex
X-PUBLISHED-TTL:PT1H
BEGIN:VTIMEZONE
TZID:America/Los_Angeles
BEGIN:DAYLIGHT
TZOFFSETFROM:-0800
TZOFFSETTO:-0700
TZNAME:PDT
DTSTART:20210314T100000
END:DAYLIGHT
BEGIN:STANDARD
TZOFFSETFROM:-0700
TZOFFSETTO:-0800
TZNAME:PST
DTSTART:20211107T090000
END:STANDARD
BEGIN:DAYLIGHT
TZOFFSETFROM:-0800
TZOFFSETTO:-0700
TZNAME:PDT
DTSTART:20220313T100000
END:DAYLIGHT
BEGIN:STANDARD
TZOFFSETFROM:-0700
TZOFFSETTO:-0800
TZNAME:PST
DTSTART:20221106T090000
END:STANDARD
BEGIN:DAYLIGHT
TZOFFSETFROM:-0800
TZOFFSETTO:-0700
TZNAME:PDT
DTSTART:20230312T100000
END:DAYLIGHT
BEGIN:STANDARD
TZOFFSETFROM:-0700
TZOFFSETTO:-0800
TZNAME:PST
DTSTART:20231105T090000
END:STANDARD
BEGIN:DAYLIGHT
TZOFFSETFROM:-0800
TZOFFSETTO:-0700
TZNAME:PDT
DTSTART:20240310T100000
END:DAYLIGHT
BEGIN:STANDARD
TZOFFSETFROM:-0700
TZOFFSETTO:-0800
TZNAME:PST
DTSTART:20241103T090000
END:STANDARD
BEGIN:DAYLIGHT
TZOFFSETFROM:-0800
TZOFFSETTO:-0700
TZNAME:PDT
DTSTART:20250309T100000
END:DAYLIGHT
BEGIN:STANDARD
TZOFFSETFROM:-0700
TZOFFSETTO:-0800
TZNAME:PST
DTSTART:20251102T090000
END:STANDARD
BEGIN:DAYLIGHT
TZOFFSETFROM:-0800
TZOFFSETTO:-0700
TZNAME:PDT
DTSTART:20260308T100000
END:DAYLIGHT
BEGIN:STANDARD
TZOFFSETFROM:-0700
TZOFFSETTO:-0800
TZNAME:PST
DTSTART:20261101T090000
END:STANDARD
BEGIN:DAYLIGHT
TZOFFSETFROM:-0800
TZOFFSETTO:-0700
TZNAME:PDT
DTSTART:20270314T100000
END:DAYLIGHT
BEGIN:STANDARD
TZOFFSETFROM:-0700
TZOFFSETTO:-0800
TZNAME:PST
DTSTART:20271107T090000
END:STANDARD
END:VTIMEZONE
BEGIN:VEVENT
DTSTART;TZID=America/Los_Angeles:20260315T110000
DTEND;TZID=America/Los_Angeles:20260315T160000
DTSTAMP:20260422T150749
CREATED:20260226T205848Z
LAST-MODIFIED:20260226T205848Z
UID:17881-1773572400-1773590400@newsfromnativecalifornia.com
SUMMARY:Indigenous Red Market
DESCRIPTION:Indigenous Red Market is back on Sunday\, March 15\, 2026!!! Mark your calendars to come enjoy the market and see performances from Levi Platero\, Savelle Tha Native\, James & Ernie Comedy\, and more!
URL:https://newsfromnativecalifornia.com/event/indigenous-red-market-8/
LOCATION:Native American Health Center\, 1443 Derby Ave.\, Oakland\, CA\, United States
CATEGORIES:Concert,Market
END:VEVENT
BEGIN:VEVENT
DTSTART;TZID=America/Los_Angeles:20241107T190000
DTEND;TZID=America/Los_Angeles:20241107T220000
DTSTAMP:20260422T150749
CREATED:20240910T205324Z
LAST-MODIFIED:20240910T205324Z
UID:14998-1731006000-1731016800@newsfromnativecalifornia.com
SUMMARY:Mali Obomsawin: Sweet Tooth
DESCRIPTION:Bassist\, singer\, and bandleader Mali Obomsawin performs music from their debut album Sweet Tooth\, a project that shines a light on the Indigenous history of jazz and expresses the vitality and contemporary nature of Indigenous culture. \nAn Abenaki from Odanak First Nation\, Obomsawin studied with the renowned cornetist and composer Taylor Ho Bynam at Dartmouth\, an institution originally founded in the 18th century to educate the Wabanaki people\, and they discovered the archived and unheard field recordings of their Odanak ancestors in storage – recordings that have been integrated into Sweet Tooth. \n\n\nThe Out of Your Head Records release is based around the concepts of adaptation and innovation in modernity\, a project both personal and universal to the stories of the Indiginous populations of the U.S. and Canada. This is a contemporary music\, and is not an expression of the bridging of worlds\, but shows how jazz and Indiginous culture is inextricably linked from the time that colonizers and militaries brought brass band instruments to Native lands. \nThrough their artistry\, Mali Obomsawin lifts their ancestral history of resistance and adaptation\, and carries on a proud tradition of Native jazz artists including Don Cherry\, Mildred Bailey\, Oscar Pettiford\, and many others.
URL:https://newsfromnativecalifornia.com/event/mali-obomsawin-sweet-tooth/
LOCATION:SFJAZZ Center\, 201 Franklin St\, San Francisco\, California\, 94102
CATEGORIES:Concert,Musical Performance,Native Arts,Performance
ATTACH;FMTTYPE=image/jpeg:https://newsfromnativecalifornia.com/wp-content/uploads/2024/09/Mali-Obamsawin.jpg
END:VEVENT
BEGIN:VEVENT
DTSTART;TZID=America/Los_Angeles:20240927T150000
DTEND;TZID=America/Los_Angeles:20240927T170000
DTSTAMP:20260422T150749
CREATED:20240924T050657Z
LAST-MODIFIED:20240924T050657Z
UID:15140-1727449200-1727456400@newsfromnativecalifornia.com
SUMMARY:California Native American Day Performance
DESCRIPTION:Join the music groups to acknowledge California Native American Day 2024 at the Civic Center Courtyard.\nNative flute music will be performed 3-4pm by the Spiritual Wind duo featuring Mel Vernon\, Captain of the San Luis Rey Band of Mission Indians\, and Faustino Fredericks\, a Luiseño flutist.\nNative blues music will be performed 4:15-5pm by Tracy Lee Nelson\, a distinguished Luiseño/Kumeyaay musician and artist\, celebrated for his award-winning blues recordings and notable past with the band Redbone.
URL:https://newsfromnativecalifornia.com/event/california-native-american-day-performance/
LOCATION:Oceanside Civic Center\, 300 N Coast Hwy\, Oceanside\, California\, 92054
CATEGORIES:Celebration,Community,Concert,Musical Performance,Native Arts
ATTACH;FMTTYPE=image/jpeg:https://newsfromnativecalifornia.com/wp-content/uploads/2024/09/ca-native-american-day-music-oceanside.jpg
ORGANIZER;CN="Spiritual Wind Flute Circle":MAILTO:jazzman01@aol.com
END:VEVENT
BEGIN:VEVENT
DTSTART;TZID=America/Los_Angeles:20230618T080000
DTEND;TZID=America/Los_Angeles:20230623T170000
DTSTAMP:20260422T150749
CREATED:20230523T183717Z
LAST-MODIFIED:20230523T183717Z
UID:12120-1687075200-1687539600@newsfromnativecalifornia.com
SUMMARY:Native American Arts Festival Week
DESCRIPTION:Hosted by Idyllwild Arts Native American Arts Center
URL:https://newsfromnativecalifornia.com/event/native-american-arts-festival-week/
LOCATION:CA
CATEGORIES:Artist Showcase,Bird Singing,Camp,Celebration,Class,Comedy,Community,Concert,Craft Fair,Cultural Demonstrations,Exhibit,Festival,Festival Week,Film Screening,Gallery Talk,Gathering,Lecture,Market,Native Arts,Native Food Tasting,Wellness,Youth
ATTACH;FMTTYPE=image/jpeg:https://newsfromnativecalifornia.com/wp-content/uploads/2023/05/IMG_1071.jpg
END:VEVENT
BEGIN:VEVENT
DTSTART;TZID=America/Los_Angeles:20220902T190000
DTEND;TZID=America/Los_Angeles:20220902T210000
DTSTAMP:20260422T150749
CREATED:20220823T232821Z
LAST-MODIFIED:20220823T232821Z
UID:11141-1662145200-1662152400@newsfromnativecalifornia.com
SUMMARY:Digging Roots in Concert
DESCRIPTION:Levitt Pavilion Los Angeles is thrilled to announce its 15th season of summer performances in MacArthur Park that continues to reflect the cultural mosaic of Los Angeles with an outstanding lineup while enjoying an iconic LA outdoor setting. On September 2nd\, Levitt Pavilion is will be hosting Digging Roots in concert. \nLocated at 2230 W 6th St\, Los Angeles\, CA 90057 \nFor more information\, please contact (647) 522-2755
URL:https://newsfromnativecalifornia.com/event/digging-roots-in-concert/
LOCATION:CA
CATEGORIES:Community,Concert
END:VEVENT
END:VCALENDAR