BEGIN:VCALENDAR
VERSION:2.0
PRODID:-//News from Native California - ECPv6.15.18//NONSGML v1.0//EN
CALSCALE:GREGORIAN
METHOD:PUBLISH
X-ORIGINAL-URL:https://newsfromnativecalifornia.com
X-WR-CALDESC:Events for News from Native California
REFRESH-INTERVAL;VALUE=DURATION:PT1H
X-Robots-Tag:noindex
X-PUBLISHED-TTL:PT1H
BEGIN:VTIMEZONE
TZID:America/Los_Angeles
BEGIN:DAYLIGHT
TZOFFSETFROM:-0800
TZOFFSETTO:-0700
TZNAME:PDT
DTSTART:20240310T100000
END:DAYLIGHT
BEGIN:STANDARD
TZOFFSETFROM:-0700
TZOFFSETTO:-0800
TZNAME:PST
DTSTART:20241103T090000
END:STANDARD
BEGIN:DAYLIGHT
TZOFFSETFROM:-0800
TZOFFSETTO:-0700
TZNAME:PDT
DTSTART:20250309T100000
END:DAYLIGHT
BEGIN:STANDARD
TZOFFSETFROM:-0700
TZOFFSETTO:-0800
TZNAME:PST
DTSTART:20251102T090000
END:STANDARD
BEGIN:DAYLIGHT
TZOFFSETFROM:-0800
TZOFFSETTO:-0700
TZNAME:PDT
DTSTART:20260308T100000
END:DAYLIGHT
BEGIN:STANDARD
TZOFFSETFROM:-0700
TZOFFSETTO:-0800
TZNAME:PST
DTSTART:20261101T090000
END:STANDARD
END:VTIMEZONE
BEGIN:VEVENT
DTSTART;TZID=America/Los_Angeles:20251123T120000
DTEND;TZID=America/Los_Angeles:20251123T170000
DTSTAMP:20260420T070633
CREATED:20251104T200613Z
LAST-MODIFIED:20251104T200613Z
UID:17559-1763899200-1763917200@newsfromnativecalifornia.com
SUMMARY:
DESCRIPTION:SAVE THE DATE!\n\n\nWe got another Craft Fair coming up just in time for the holidays!\nIf you’re looking to support your fellow Native artists and vendors while grabbing gifts for the fam\, come on down to IFH.\n\n\nSupport local and spend the day with community.
URL:https://newsfromnativecalifornia.com/event/17559/
LOCATION:Intertribal Friendship House\, 523 International Blvd\, Oakland\, CA\, United States
CATEGORIES:Craft Fair
END:VEVENT
BEGIN:VEVENT
DTSTART;TZID=America/Los_Angeles:20251129T100000
DTEND;TZID=America/Los_Angeles:20251129T160000
DTSTAMP:20260420T070633
CREATED:20251120T041346Z
LAST-MODIFIED:20251120T041423Z
UID:17609-1764410400-1764432000@newsfromnativecalifornia.com
SUMMARY:8th Annual Chico Indian Market
DESCRIPTION:Join us at the Chico Women’s Club for the 8th Annual Chico Indian Market 🛍️ Hosted by the Mechoopda Tribe\, this beautiful cultural display of goods will take place on Saturday\, November 29th from 10am-4pm. \nSee you there!
URL:https://newsfromnativecalifornia.com/event/8th-annual-chico-indian-market/
LOCATION:Chico Women’s Club\, 592 E. 3rd Street\, Chico\, CA\, 95928\, United States
CATEGORIES:Craft Fair,Market
END:VEVENT
END:VCALENDAR