BEGIN:VCALENDAR
VERSION:2.0
PRODID:-//News from Native California - ECPv6.15.18//NONSGML v1.0//EN
CALSCALE:GREGORIAN
METHOD:PUBLISH
X-ORIGINAL-URL:https://newsfromnativecalifornia.com
X-WR-CALDESC:Events for News from Native California
REFRESH-INTERVAL;VALUE=DURATION:PT1H
X-Robots-Tag:noindex
X-PUBLISHED-TTL:PT1H
BEGIN:VTIMEZONE
TZID:America/Los_Angeles
BEGIN:DAYLIGHT
TZOFFSETFROM:-0800
TZOFFSETTO:-0700
TZNAME:PDT
DTSTART:20220313T100000
END:DAYLIGHT
BEGIN:STANDARD
TZOFFSETFROM:-0700
TZOFFSETTO:-0800
TZNAME:PST
DTSTART:20221106T090000
END:STANDARD
BEGIN:DAYLIGHT
TZOFFSETFROM:-0800
TZOFFSETTO:-0700
TZNAME:PDT
DTSTART:20230312T100000
END:DAYLIGHT
BEGIN:STANDARD
TZOFFSETFROM:-0700
TZOFFSETTO:-0800
TZNAME:PST
DTSTART:20231105T090000
END:STANDARD
BEGIN:DAYLIGHT
TZOFFSETFROM:-0800
TZOFFSETTO:-0700
TZNAME:PDT
DTSTART:20240310T100000
END:DAYLIGHT
BEGIN:STANDARD
TZOFFSETFROM:-0700
TZOFFSETTO:-0800
TZNAME:PST
DTSTART:20241103T090000
END:STANDARD
END:VTIMEZONE
BEGIN:VEVENT
DTSTART;VALUE=DATE:20230805
DTEND;VALUE=DATE:20230806
DTSTAMP:20260421T223456
CREATED:20230610T225056Z
LAST-MODIFIED:20230610T225056Z
UID:12159-1691193600-1691279999@newsfromnativecalifornia.com
SUMMARY:Santa Ysabel 24th Annual Traditional Gathering
DESCRIPTION:
URL:https://newsfromnativecalifornia.com/event/santa-ysabel-24th-annual-traditional-gathering/
LOCATION:Santa Ysabel Reservation\, 100 Schoolhouse Canyon Road\, Santa Ysabel\, CA\, United States
CATEGORIES:Bird Singing,Gathering
ATTACH;FMTTYPE=image/jpeg:https://newsfromnativecalifornia.com/wp-content/uploads/2023/06/08.05.23-SY-Gathering-Updated.jpg
END:VEVENT
BEGIN:VEVENT
DTSTART;TZID=America/Los_Angeles:20230729T100000
DTEND;TZID=America/Los_Angeles:20230729T140000
DTSTAMP:20260421T223456
CREATED:20230710T230619Z
LAST-MODIFIED:20230710T230619Z
UID:12301-1690624800-1690639200@newsfromnativecalifornia.com
SUMMARY:Traditional Wellness Gatherings - Being a Good Relative: Kinship and Connection
DESCRIPTION:
URL:https://newsfromnativecalifornia.com/event/traditional-wellness-gatherings-being-a-good-relative-kinship-and-connection/
CATEGORIES:Community,Gathering,Wellness
ATTACH;FMTTYPE=image/jpeg:https://newsfromnativecalifornia.com/wp-content/uploads/2023/07/unnamed-scaled.jpg
END:VEVENT
BEGIN:VEVENT
DTSTART;VALUE=DATE:20230722
DTEND;VALUE=DATE:20230724
DTSTAMP:20260421T223456
CREATED:20230627T225802Z
LAST-MODIFIED:20230627T225802Z
UID:12243-1689984000-1690156799@newsfromnativecalifornia.com
SUMMARY:California Indian Basketry Event
DESCRIPTION:Topics: Harvesting and Preparing the Plants\, Weaving a Legacy\, Basketry Materials\, Basket Styles\, Basket Types. \nLucy Parker and Julia Parker – Award winning California Indian basketry artisans. Time will be reserved for answers to your questions. Lunches are provided. Signed books for all who attend at no additional cost. \nSpace is limited to 20 participants. \nCalifornia Rock Art Foundation Members only $295 each\nNonmembers $350 each \nRegistrations must be cancelled by 11:59 pm PDT\, July 21\, 2023 to receive a refund. \n 
URL:https://newsfromnativecalifornia.com/event/california-indian-basketry-event/
LOCATION:Antelope Valley Indian Museum\, 15701 E Ave M\, Lancaster\, CA\, 93535\, United States
CATEGORIES:Cultural Demonstrations,Elders,Gathering,Lecture,Seminar
END:VEVENT
BEGIN:VEVENT
DTSTART;VALUE=DATE:20230630
DTEND;VALUE=DATE:20230703
DTSTAMP:20260421T223456
CREATED:20230613T000114Z
LAST-MODIFIED:20230613T000114Z
UID:12172-1688083200-1688342399@newsfromnativecalifornia.com
SUMMARY:32nd Annual California Indian Basketweavers Association Gathering
DESCRIPTION:
URL:https://newsfromnativecalifornia.com/event/32nd-annual-california-indian-basketweavers-association-gathering/
CATEGORIES:Gathering
ATTACH;FMTTYPE=image/webp:https://newsfromnativecalifornia.com/wp-content/uploads/2023/06/ciba_save_2023.jpg.webp
END:VEVENT
BEGIN:VEVENT
DTSTART;TZID=America/Los_Angeles:20230624T100000
DTEND;TZID=America/Los_Angeles:20230624T150000
DTSTAMP:20260421T223456
CREATED:20230620T174340Z
LAST-MODIFIED:20230620T174340Z
UID:12197-1687600800-1687618800@newsfromnativecalifornia.com
SUMMARY:Family Wellness Day
DESCRIPTION:Located at 1453 W. Temple St\, Los Angeles\, CA
URL:https://newsfromnativecalifornia.com/event/family-wellness-day-2/
CATEGORIES:Community,Gathering,Youth
ATTACH;FMTTYPE=image/png:https://newsfromnativecalifornia.com/wp-content/uploads/2023/06/Family-Wellness-Day.png
END:VEVENT
BEGIN:VEVENT
DTSTART;VALUE=DATE:20230624
DTEND;VALUE=DATE:20230625
DTSTAMP:20260421T223456
CREATED:20230610T220732Z
LAST-MODIFIED:20230610T220732Z
UID:12156-1687564800-1687651199@newsfromnativecalifornia.com
SUMMARY:Sycuan Iipai-Tipai Mataayum - 15th Annual Traditional Gathering
DESCRIPTION:
URL:https://newsfromnativecalifornia.com/event/sycuan-iipai-tipai-mataayum-15th-annual-traditional-gathering/
LOCATION:Sycuan Band of the Kumeyaay Nation\, 5459 Sycuan Road\, El Cajon\, CA\, 92019\, United States
CATEGORIES:Bird Singing,Gathering
ATTACH;FMTTYPE=image/png:https://newsfromnativecalifornia.com/wp-content/uploads/2023/06/06.24.23-Sycuan-Gathering-Updated-Flyer.png
END:VEVENT
BEGIN:VEVENT
DTSTART;VALUE=DATE:20230624
DTEND;VALUE=DATE:20230625
DTSTAMP:20260421T223456
CREATED:20230327T232405Z
LAST-MODIFIED:20230523T180815Z
UID:11990-1687564800-1687651199@newsfromnativecalifornia.com
SUMMARY:Cahuilla Gathering & Earth Day Save the Date
DESCRIPTION:For more information\, contact cahuillagathering@cahuilla.net
URL:https://newsfromnativecalifornia.com/event/cahuilla-gathering-earth-day-save-the-date/
CATEGORIES:Bird Singing,Community,Craft Fair,Cultural Demonstrations,Fiesta,Gathering
ATTACH;FMTTYPE=image/jpeg:https://newsfromnativecalifornia.com/wp-content/uploads/2023/03/IMG_1111.jpg
END:VEVENT
BEGIN:VEVENT
DTSTART;TZID=America/Los_Angeles:20230618T110000
DTEND;TZID=America/Los_Angeles:20230618T170000
DTSTAMP:20260421T223456
CREATED:20230417T221310Z
LAST-MODIFIED:20230523T180640Z
UID:12059-1687086000-1687107600@newsfromnativecalifornia.com
SUMMARY:Welcoming Home the Birds
DESCRIPTION:Located at Idyllwild Arts Academy \n52500 Temecula Rd #38\, Idyllwild-Pine Cove\, CA 92549
URL:https://newsfromnativecalifornia.com/event/welcoming-home-the-birds-2/
CATEGORIES:Bird Singing,Celebration,Community,Craft Fair,Cultural Demonstrations,Exhibit,Festival,Gathering,Native Food Tasting,Wellness,Workshop,Youth
ATTACH;FMTTYPE=image/jpeg:https://newsfromnativecalifornia.com/wp-content/uploads/2023/04/IMG_1070.jpg
END:VEVENT
BEGIN:VEVENT
DTSTART;TZID=America/Los_Angeles:20230618T080000
DTEND;TZID=America/Los_Angeles:20230623T170000
DTSTAMP:20260421T223456
CREATED:20230523T183717Z
LAST-MODIFIED:20230523T183717Z
UID:12120-1687075200-1687539600@newsfromnativecalifornia.com
SUMMARY:Native American Arts Festival Week
DESCRIPTION:Hosted by Idyllwild Arts Native American Arts Center
URL:https://newsfromnativecalifornia.com/event/native-american-arts-festival-week/
CATEGORIES:Artist Showcase,Bird Singing,Camp,Celebration,Class,Comedy,Community,Concert,Craft Fair,Cultural Demonstrations,Exhibit,Festival,Festival Week,Film Screening,Gallery Talk,Gathering,Lecture,Market,Native Arts,Native Food Tasting,Wellness,Youth
ATTACH;FMTTYPE=image/jpeg:https://newsfromnativecalifornia.com/wp-content/uploads/2023/05/IMG_1071.jpg
END:VEVENT
BEGIN:VEVENT
DTSTART;VALUE=DATE:20230617
DTEND;VALUE=DATE:20230618
DTSTAMP:20260421T223456
CREATED:20230610T220105Z
LAST-MODIFIED:20230610T220105Z
UID:12152-1686960000-1687046399@newsfromnativecalifornia.com
SUMMARY:San Pasqual Reservation Gathering
DESCRIPTION:
URL:https://newsfromnativecalifornia.com/event/san-pasqual-reservation-gathering/
LOCATION:San Pasqual Band of Mission Reservation\, 16400 Kumeyaay Way\, Valley Center\, CA\, 92082\, United States
CATEGORIES:Bird Singing,Gathering
ATTACH;FMTTYPE=image/jpeg:https://newsfromnativecalifornia.com/wp-content/uploads/2023/06/06.17.23-San-Pasqual-Gathering.jpg
END:VEVENT
BEGIN:VEVENT
DTSTART;TZID=America/Los_Angeles:20230610T120000
DTEND;TZID=America/Los_Angeles:20230610T170000
DTSTAMP:20260421T223456
CREATED:20230516T015905Z
LAST-MODIFIED:20230516T015905Z
UID:12099-1686398400-1686416400@newsfromnativecalifornia.com
SUMMARY:Many Nations One Land
DESCRIPTION:
URL:https://newsfromnativecalifornia.com/event/many-nations-one-land/
CATEGORIES:Artist Showcase,Community,Gathering
ATTACH;FMTTYPE=image/jpeg:https://newsfromnativecalifornia.com/wp-content/uploads/2023/05/IMG_0929.jpg
END:VEVENT
BEGIN:VEVENT
DTSTART;VALUE=DATE:20230610
DTEND;VALUE=DATE:20230612
DTSTAMP:20260421T223456
CREATED:20230417T220826Z
LAST-MODIFIED:20230417T221305Z
UID:12056-1686355200-1686527999@newsfromnativecalifornia.com
SUMMARY:Morongo Band of Mission Indians 18th Annual Cultural Heritage Days
DESCRIPTION:Located at 11555 Cottonwood Road\, Morongo Indian Reservation
URL:https://newsfromnativecalifornia.com/event/morongo-band-of-mission-indians-18th-annual-cultural-heritage-days/
CATEGORIES:Bird Singing,Community,Craft Fair,Cultural Demonstrations,Gathering
ATTACH;FMTTYPE=image/jpeg:https://newsfromnativecalifornia.com/wp-content/uploads/2023/04/IMG_9516-2.jpg
END:VEVENT
BEGIN:VEVENT
DTSTART;TZID=America/Los_Angeles:20230603T100000
DTEND;TZID=America/Los_Angeles:20230603T160000
DTSTAMP:20260421T223456
CREATED:20230217T230147Z
LAST-MODIFIED:20230217T230147Z
UID:11843-1685786400-1685808000@newsfromnativecalifornia.com
SUMMARY:Honored Elders Day
DESCRIPTION:This event is held to honor and commemorate California Native Elders—the keepers of the traditions—for their role in passing down the cultural history of Native people.  Lunch is served to tribal Elders from all over California; Native dancers\, community services organizations\, and arts & crafts artisans are on hand to enrich the community experience.  Additionally\, the governor’s office presents an official proclamation in celebration of the contributions of California’s Native people. \nLocated at the State Indian Museum – 2618 K Street\, Sacramento.
URL:https://newsfromnativecalifornia.com/event/honored-elders-day/
CATEGORIES:Community,Elders,Gathering
END:VEVENT
BEGIN:VEVENT
DTSTART;VALUE=DATE:20230602
DTEND;VALUE=DATE:20230605
DTSTAMP:20260421T223456
CREATED:20230110T183153Z
LAST-MODIFIED:20230110T183153Z
UID:11709-1685664000-1685923199@newsfromnativecalifornia.com
SUMMARY:Children of Many Colors Powwow
DESCRIPTION:A cultural celebration and gathering of Indigenous Nations hosted by Redbird\, a Native American and environmental non-profit association. \nLocated at Oxnard College\, Gymnasium Field \n4000 S Rose Avenue\, Oxnard CA 93033
URL:https://newsfromnativecalifornia.com/event/children-of-many-colors-powwow/
CATEGORIES:Community,Gathering,Powwow
ATTACH;FMTTYPE=image/png:https://newsfromnativecalifornia.com/wp-content/uploads/2023/01/Screenshot-2023-01-10-at-10.26.33-AM.png
END:VEVENT
BEGIN:VEVENT
DTSTART;VALUE=DATE:20230602
DTEND;VALUE=DATE:20230603
DTSTAMP:20260421T223456
CREATED:20230208T220716Z
LAST-MODIFIED:20230208T220716Z
UID:11811-1685664000-1685750399@newsfromnativecalifornia.com
SUMMARY:Tekamuk Gathering
DESCRIPTION:Mark your calendars for the Tekamuk Gathering at Mesa grande on 6/2/23
URL:https://newsfromnativecalifornia.com/event/tekamuk-gathering/
CATEGORIES:Community,Gathering
ATTACH;FMTTYPE=image/png:https://newsfromnativecalifornia.com/wp-content/uploads/2023/02/Screenshot-2023-02-08-at-2.04.42-PM.png
END:VEVENT
BEGIN:VEVENT
DTSTART;VALUE=DATE:20230519
DTEND;VALUE=DATE:20230522
DTSTAMP:20260421T223456
CREATED:20230510T202750Z
LAST-MODIFIED:20230510T202750Z
UID:12096-1684454400-1684713599@newsfromnativecalifornia.com
SUMMARY:40th Annual Traditional Indian Health Gathering
DESCRIPTION:
URL:https://newsfromnativecalifornia.com/event/40th-annual-traditional-indian-health-gathering/
CATEGORIES:Gathering,Indian Health,Softball
ATTACH;FMTTYPE=image/jpeg:https://newsfromnativecalifornia.com/wp-content/uploads/2023/05/IMG_0675.jpg
END:VEVENT
BEGIN:VEVENT
DTSTART;TZID=America/Los_Angeles:20230513T080000
DTEND;TZID=America/Los_Angeles:20230513T153000
DTSTAMP:20260421T223456
CREATED:20230510T202043Z
LAST-MODIFIED:20230510T202043Z
UID:12089-1683964800-1683991800@newsfromnativecalifornia.com
SUMMARY:Pauma Tribal Farms 5K & Gathering
DESCRIPTION:Located at 14910 Pauma Valley Drive \nPauma Valley\, CA 92061
URL:https://newsfromnativecalifornia.com/event/pauma-tribal-farms-5k-gathering/
CATEGORIES:5K Run,Gathering
ATTACH;FMTTYPE=image/jpeg:https://newsfromnativecalifornia.com/wp-content/uploads/2023/05/IMG_0625.jpg
END:VEVENT
BEGIN:VEVENT
DTSTART;VALUE=DATE:20230512
DTEND;VALUE=DATE:20230515
DTSTAMP:20260421T223456
CREATED:20230110T184120Z
LAST-MODIFIED:20230110T184120Z
UID:11713-1683849600-1684108799@newsfromnativecalifornia.com
SUMMARY:52nd Annual Stanford Powwow
DESCRIPTION:Located at the Stanford Powwow Grounds \nFor more information\, including the powwow schedule\, please visit https://www.stanfordpowwow.com/
URL:https://newsfromnativecalifornia.com/event/52nd-annual-stanford-powwow/
CATEGORIES:Gathering,Powwow
ATTACH;FMTTYPE=image/png:https://newsfromnativecalifornia.com/wp-content/uploads/2023/01/Screenshot-2023-01-10-at-10.33.19-AM.png
END:VEVENT
BEGIN:VEVENT
DTSTART;VALUE=DATE:20230506
DTEND;VALUE=DATE:20230508
DTSTAMP:20260421T223456
CREATED:20230324T193952Z
LAST-MODIFIED:20230324T193952Z
UID:11978-1683331200-1683503999@newsfromnativecalifornia.com
SUMMARY:48th Annual Cupa Days
DESCRIPTION:For more information\, please call (760) 891-3590
URL:https://newsfromnativecalifornia.com/event/48th-annual-cupa-days/
CATEGORIES:Bird Singing,Community,Craft Fair,Cultural Demonstrations,Elders,Gathering
ATTACH;FMTTYPE=image/png:https://newsfromnativecalifornia.com/wp-content/uploads/2023/03/Screenshot-2023-03-22-at-12.42.13-PM.png
END:VEVENT
BEGIN:VEVENT
DTSTART;VALUE=DATE:20230428
DTEND;VALUE=DATE:20230501
DTSTAMP:20260421T223456
CREATED:20230324T194306Z
LAST-MODIFIED:20230324T194306Z
UID:11981-1682640000-1682899199@newsfromnativecalifornia.com
SUMMARY:Ohlone Big time Gathering & Pow Wow
DESCRIPTION:Located at Tony Cerda Park \n400 W. Grand Ave \nPomona CA 91766 \nFor more information\, visit https://www.costanoanrumsen.org/
URL:https://newsfromnativecalifornia.com/event/ohlone-big-time-gathering-pow-wow/
CATEGORIES:Community,Festival,Gathering,Powwow
ATTACH;FMTTYPE=image/jpeg:https://newsfromnativecalifornia.com/wp-content/uploads/2023/03/IMG_7673.jpg
END:VEVENT
BEGIN:VEVENT
DTSTART;VALUE=DATE:20230422
DTEND;VALUE=DATE:20230423
DTSTAMP:20260421T223456
CREATED:20230320T231615Z
LAST-MODIFIED:20230320T231615Z
UID:11967-1682121600-1682207999@newsfromnativecalifornia.com
SUMMARY:2nd Annual Key Key Tum Fiesta
DESCRIPTION:Located at 66725 Martinez Rd Thermal CA 92274
URL:https://newsfromnativecalifornia.com/event/2nd-annual-key-key-tum-fiesta/
CATEGORIES:Fiesta,Gathering
ATTACH;FMTTYPE=image/jpeg:https://newsfromnativecalifornia.com/wp-content/uploads/2023/03/IMG_7597.jpg
END:VEVENT
BEGIN:VEVENT
DTSTART;VALUE=DATE:20230421
DTEND;VALUE=DATE:20230424
DTSTAMP:20260421T223456
CREATED:20230405T233939Z
LAST-MODIFIED:20230405T233939Z
UID:12026-1682035200-1682294399@newsfromnativecalifornia.com
SUMMARY:Tribal Wellness and Recovery Gathering
DESCRIPTION:
URL:https://newsfromnativecalifornia.com/event/tribal-wellness-and-recovery-gathering/
CATEGORIES:Community,Gathering
END:VEVENT
BEGIN:VEVENT
DTSTART;TZID=America/Los_Angeles:20230415T110000
DTEND;TZID=America/Los_Angeles:20230415T160000
DTSTAMP:20260421T223456
CREATED:20230320T223851Z
LAST-MODIFIED:20230320T223851Z
UID:11960-1681556400-1681574400@newsfromnativecalifornia.com
SUMMARY:Intertribal Dance Gathering
DESCRIPTION:For more information\, please contact Joseph Vasquez/Laura Cedillo at 415-417-3556 \nLocated at Presidio Tunnel Tops \n210 Lincoln Blvd\, San Francisco\, CA 94129
URL:https://newsfromnativecalifornia.com/event/intertribal-dance-gathering/
CATEGORIES:Community,Cultural Demonstrations,Gathering
ATTACH;FMTTYPE=image/jpeg:https://newsfromnativecalifornia.com/wp-content/uploads/2023/03/IMG_7623.jpg
END:VEVENT
BEGIN:VEVENT
DTSTART;TZID=America/Los_Angeles:20230408T110000
DTEND;TZID=America/Los_Angeles:20230408T180000
DTSTAMP:20260421T223456
CREATED:20221222T182921Z
LAST-MODIFIED:20221222T182921Z
UID:11695-1680951600-1680976800@newsfromnativecalifornia.com
SUMMARY:2023 California Indian BIG TIME & Social Gathering
DESCRIPTION:
URL:https://newsfromnativecalifornia.com/event/2023-california-indian-big-time-social-gathering/
CATEGORIES:Big Time,Community,Gathering
ATTACH;FMTTYPE=image/jpeg:https://newsfromnativecalifornia.com/wp-content/uploads/2022/12/Fkh4c12UcAAtwgm.jpg
END:VEVENT
BEGIN:VEVENT
DTSTART;TZID=America/Los_Angeles:20230408T100000
DTEND;TZID=America/Los_Angeles:20230408T150000
DTSTAMP:20260421T223456
CREATED:20230314T192957Z
LAST-MODIFIED:20230314T192957Z
UID:11945-1680948000-1680966000@newsfromnativecalifornia.com
SUMMARY:Malki Museum Agave Roast
DESCRIPTION:The agave roast event allows visitors to taste agave and other native foods. Native plant information booths. Great event for families and food lovers! Lunch served at noon – $10.00 suggested donation per plate \nFor more information\, please visit http://malkimuseum.org/
URL:https://newsfromnativecalifornia.com/event/malki-museum-agave-roast/
CATEGORIES:Gathering,Native Food Tasting
ATTACH;FMTTYPE=application/pdf:https://newsfromnativecalifornia.com/wp-content/uploads/2023/03/Agave-Roast-2023-Flyer-_1_.pdf
END:VEVENT
BEGIN:VEVENT
DTSTART;TZID=America/Los_Angeles:20230401T120000
DTEND;TZID=America/Los_Angeles:20230401T170000
DTSTAMP:20260421T223456
CREATED:20230314T171055Z
LAST-MODIFIED:20230314T171055Z
UID:11940-1680350400-1680368400@newsfromnativecalifornia.com
SUMMARY:Big Time Sierra College
DESCRIPTION:Located at 5100 Sierra College Blvd. Rocklin\, CA
URL:https://newsfromnativecalifornia.com/event/big-time-sierra-college/
CATEGORIES:Community,Gathering
ATTACH;FMTTYPE=image/jpeg:https://newsfromnativecalifornia.com/wp-content/uploads/2023/03/333508885_1075139463876235_2141103865212639053_n.jpg
END:VEVENT
BEGIN:VEVENT
DTSTART;VALUE=DATE:20230401
DTEND;VALUE=DATE:20230403
DTSTAMP:20260421T223456
CREATED:20230225T013825Z
LAST-MODIFIED:20230225T013825Z
UID:11863-1680307200-1680479999@newsfromnativecalifornia.com
SUMMARY:Chumash Day Native American Powwow & Intertribal Gathering
DESCRIPTION:Located at Malibu Bluffs Park \nFree parking and shuttle at 23575 Civic Center Way
URL:https://newsfromnativecalifornia.com/event/chumash-day-native-american-powwow-intertribal-gathering/
CATEGORIES:Gathering,Powwow
ATTACH;FMTTYPE=image/jpeg:https://newsfromnativecalifornia.com/wp-content/uploads/2023/02/04.01-04.02-Malibu-Powwow.jpg
END:VEVENT
BEGIN:VEVENT
DTSTART;TZID=America/Los_Angeles:20230310T120000
DTEND;TZID=America/Los_Angeles:20230310T133000
DTSTAMP:20260421T223456
CREATED:20230304T041602Z
LAST-MODIFIED:20230304T041602Z
UID:11909-1678449600-1678455000@newsfromnativecalifornia.com
SUMMARY:Native American Culture Week: Sacred Spaces
DESCRIPTION:For more information\, email Jmejia@csus.edu or rhorese@csus.edu \nLocated at Sacramento State (Lassen Hall Room 2200 P)
URL:https://newsfromnativecalifornia.com/event/native-american-culture-week-sacred-spaces/
CATEGORIES:Community,Gathering,Lecture
ATTACH;FMTTYPE=image/jpeg:https://newsfromnativecalifornia.com/wp-content/uploads/2023/03/Sacred-Spaces.jpg
END:VEVENT
BEGIN:VEVENT
DTSTART;TZID=America/Los_Angeles:20230309T163000
DTEND;TZID=America/Los_Angeles:20230309T173000
DTSTAMP:20260421T223456
CREATED:20230304T042312Z
LAST-MODIFIED:20230304T042312Z
UID:11912-1678379400-1678383000@newsfromnativecalifornia.com
SUMMARY:Sacramento State Community Gathering
DESCRIPTION:Located at Engrained Restaurant in the University Union (Sacramento State)
URL:https://newsfromnativecalifornia.com/event/sacramento-state-community-gathering/
CATEGORIES:Community,Gathering
ATTACH;FMTTYPE=image/jpeg:https://newsfromnativecalifornia.com/wp-content/uploads/2023/03/Community-Gathering.jpg
END:VEVENT
BEGIN:VEVENT
DTSTART;TZID=America/Los_Angeles:20230218T090000
DTEND;TZID=America/Los_Angeles:20230218T110000
DTSTAMP:20260421T223456
CREATED:20230120T205329Z
LAST-MODIFIED:20230120T205329Z
UID:11750-1676710800-1676718000@newsfromnativecalifornia.com
SUMMARY:25th Annual Ward Valley "Ground Zero" Spiritual Gathering
DESCRIPTION:In 1997\, Greenaction joined with the Colorado River Native Nations Alliance and allies in the campaign to defeat plans by the government & US Ecology to build a nuclear waste dump on sacred lands at Ward Valley near the Colorado River. \nOn February 12th\, 1998\, Greenaction joined with the Fort Mojave Indian Tribe\, Chemehuvi\, Quechan\, Cocopah\, and Colorado River Tribes and many other allies to occupy the proposed dump site on federal land at Ward Valley. Together\, we barricaded the roads as tribal elders\, traditional singers and dancers began ongoing ceremonies — in defiance of a federal eviction order. \nThe standoff against federal police lasted 113 days\, ending in victory when the White House and federal government dropped plans for test drilling for the proposed dump. \nToday\, Ward Valley remains nuclear-free and is a sacred & protected place and a symbol that when people unite\, we can win against all odds.
URL:https://newsfromnativecalifornia.com/event/25th-annual-ward-valley-ground-zero-spiritual-gathering/
CATEGORIES:Community,Gathering
ATTACH;FMTTYPE=image/png:https://newsfromnativecalifornia.com/wp-content/uploads/2023/01/Screenshot-2023-01-20-at-12.49.24-PM.png
END:VEVENT
END:VCALENDAR