BEGIN:VCALENDAR
VERSION:2.0
PRODID:-//News from Native California - ECPv6.15.18//NONSGML v1.0//EN
CALSCALE:GREGORIAN
METHOD:PUBLISH
X-ORIGINAL-URL:https://newsfromnativecalifornia.com
X-WR-CALDESC:Events for News from Native California
REFRESH-INTERVAL;VALUE=DURATION:PT1H
X-Robots-Tag:noindex
X-PUBLISHED-TTL:PT1H
BEGIN:VTIMEZONE
TZID:America/Los_Angeles
BEGIN:DAYLIGHT
TZOFFSETFROM:-0800
TZOFFSETTO:-0700
TZNAME:PDT
DTSTART:20210314T100000
END:DAYLIGHT
BEGIN:STANDARD
TZOFFSETFROM:-0700
TZOFFSETTO:-0800
TZNAME:PST
DTSTART:20211107T090000
END:STANDARD
BEGIN:DAYLIGHT
TZOFFSETFROM:-0800
TZOFFSETTO:-0700
TZNAME:PDT
DTSTART:20220313T100000
END:DAYLIGHT
BEGIN:STANDARD
TZOFFSETFROM:-0700
TZOFFSETTO:-0800
TZNAME:PST
DTSTART:20221106T090000
END:STANDARD
BEGIN:DAYLIGHT
TZOFFSETFROM:-0800
TZOFFSETTO:-0700
TZNAME:PDT
DTSTART:20230312T100000
END:DAYLIGHT
BEGIN:STANDARD
TZOFFSETFROM:-0700
TZOFFSETTO:-0800
TZNAME:PST
DTSTART:20231105T090000
END:STANDARD
END:VTIMEZONE
BEGIN:VEVENT
DTSTART;VALUE=DATE:20220722
DTEND;VALUE=DATE:20220723
DTSTAMP:20260423T183647
CREATED:20220721T220901Z
LAST-MODIFIED:20220721T220943Z
UID:10945-1658448000-1658534399@newsfromnativecalifornia.com
SUMMARY:Brackeen Breakdown
DESCRIPTION:If you want to learn more about the importance of the Indian Child Welfare Act case being presented to the U.S. Supreme Court this Fall\, make sure to tune in for tomorrow’s Brackeen Breakdown episode. \nThe next episode of the California Tribal Families Coalition’s popular web series airs tomorrow at noon. \nFor more information regarding the Brackeen Breakdown follow the link: http://bit.ly/ctfcbrackeen
URL:https://newsfromnativecalifornia.com/event/brackeen-breakdown/
CATEGORIES:Episode,Lecture,podcast,Virtual
ATTACH;FMTTYPE=image/png:https://newsfromnativecalifornia.com/wp-content/uploads/2022/07/292612221_1221458078588407_8165354706252291479_n.png
END:VEVENT
BEGIN:VEVENT
DTSTART;TZID=America/Los_Angeles:20220719T100000
DTEND;TZID=America/Los_Angeles:20220719T120000
DTSTAMP:20260423T183647
CREATED:20220715T191431Z
LAST-MODIFIED:20220715T191545Z
UID:10916-1658224800-1658232000@newsfromnativecalifornia.com
SUMMARY:Webinar: The Evolution of a Native American Arts Collective
DESCRIPTION:Join speakers Melissa Melero-Moose (Fallon Paiute-Shoshone Tribe) and Sigrid Benson (Shingle Springs Band of Miwok) and moderator Melanie LaBorwit for a virtual discussion on the Great Basin Native Artists Collective. \n\n\nGreat Basin Native Artists Collective has been thriving for 8 years as a collective of Native artists from tribes in Nevada\, California\, Southern Oregon\, Southern Idaho and Utah. The work represented in their program is as diverse as their membership. They were formed from a small group of artists whose work was featured in a Nevada Art Museum show. Since then\, they have established a regional archive and online artists directory\, developed opportunities for member exhibitions\, collaborated with other regional organizations and communities to create art business workshops and created new platforms for Native artists to connect with one another and helped rural artists create an online presence. \n\n\nPlease register for this event by clicking the following link: https://aianta.zoom.us/webinar/register/WN_68zf9mINRb-f3DBELZlMxw
URL:https://newsfromnativecalifornia.com/event/webinar-the-evolution-of-a-native-american-arts-collective/
CATEGORIES:Lecture,Virtual
END:VEVENT
BEGIN:VEVENT
DTSTART;TZID=America/Los_Angeles:20220712T150000
DTEND;TZID=America/Los_Angeles:20220712T170000
DTSTAMP:20260423T183647
CREATED:20220716T000816Z
LAST-MODIFIED:20220716T000816Z
UID:10927-1657638000-1657645200@newsfromnativecalifornia.com
SUMMARY:CINC Virtual Information Session
DESCRIPTION:Contact (760) 834-0584 or admissions@CINCollege.org to register
URL:https://newsfromnativecalifornia.com/event/cinc-virtual-information-session/
CATEGORIES:Class,Lecture,Virtual
ATTACH;FMTTYPE=image/jpeg:https://newsfromnativecalifornia.com/wp-content/uploads/2022/07/IMG_1025.jpg
END:VEVENT
BEGIN:VEVENT
DTSTART;TZID=America/Los_Angeles:20220711T180000
DTEND;TZID=America/Los_Angeles:20220711T200000
DTSTAMP:20260423T183647
CREATED:20220708T195853Z
LAST-MODIFIED:20220708T195853Z
UID:10884-1657562400-1657569600@newsfromnativecalifornia.com
SUMMARY:Exploring Native American Art
DESCRIPTION:Exploring Native American Art with artist Gerald Clarke \nHosted by the Dorothy Ramon Learning Center \n127 N. San Gorgonio Ave.\, Banning CA \nForm more information\, please email info@dorothyramon.org or call (951) 849-7736
URL:https://newsfromnativecalifornia.com/event/exploring-native-american-art/
CATEGORIES:Exhibit,Gathering,Lecture
ATTACH;FMTTYPE=image/jpeg:https://newsfromnativecalifornia.com/wp-content/uploads/2022/07/IMG_0906.jpg
END:VEVENT
END:VCALENDAR