BEGIN:VCALENDAR
VERSION:2.0
PRODID:-//News from Native California - ECPv6.15.18//NONSGML v1.0//EN
CALSCALE:GREGORIAN
METHOD:PUBLISH
X-ORIGINAL-URL:https://newsfromnativecalifornia.com
X-WR-CALDESC:Events for News from Native California
REFRESH-INTERVAL;VALUE=DURATION:PT1H
X-Robots-Tag:noindex
X-PUBLISHED-TTL:PT1H
BEGIN:VTIMEZONE
TZID:America/Los_Angeles
BEGIN:DAYLIGHT
TZOFFSETFROM:-0800
TZOFFSETTO:-0700
TZNAME:PDT
DTSTART:20240310T100000
END:DAYLIGHT
BEGIN:STANDARD
TZOFFSETFROM:-0700
TZOFFSETTO:-0800
TZNAME:PST
DTSTART:20241103T090000
END:STANDARD
BEGIN:DAYLIGHT
TZOFFSETFROM:-0800
TZOFFSETTO:-0700
TZNAME:PDT
DTSTART:20250309T100000
END:DAYLIGHT
BEGIN:STANDARD
TZOFFSETFROM:-0700
TZOFFSETTO:-0800
TZNAME:PST
DTSTART:20251102T090000
END:STANDARD
BEGIN:DAYLIGHT
TZOFFSETFROM:-0800
TZOFFSETTO:-0700
TZNAME:PDT
DTSTART:20260308T100000
END:DAYLIGHT
BEGIN:STANDARD
TZOFFSETFROM:-0700
TZOFFSETTO:-0800
TZNAME:PST
DTSTART:20261101T090000
END:STANDARD
END:VTIMEZONE
BEGIN:VEVENT
DTSTART;TZID=America/Los_Angeles:20250721T150000
DTEND;TZID=America/Los_Angeles:20250724T170000
DTSTAMP:20260425T212235
CREATED:20250705T171455Z
LAST-MODIFIED:20250705T171455Z
UID:17183-1753110000-1753376400@newsfromnativecalifornia.com
SUMMARY:Native Youth for Justice Organizing Academy
DESCRIPTION:Join California Native Vote Project for their virtual Summer Youth Organizing Academy designed to build leadership and organizing skills for American Indian/Alaska Native (AI/AN) Youth across the state. \nFrom Struggle to Strength: Youth Power in a Time of Resistance\nThis year’s theme uplifts the brilliance\, resistance\, and vision of Native youth across California. \nJoin the organization for four days of virtual organizing\, followed by an in-person day of culture\, art\, and movement at Artivism in Sacramento. \nRegister here: https://us02web.zoom.us/meeting/register/KjdM0b0xQq6OYLPKn58MXg#/registration
URL:https://newsfromnativecalifornia.com/event/native-youth-for-justice-organizing-academy/
LOCATION:Zoom
CATEGORIES:Community,Education,Virtual,Webinar,Workshop,Youth
ATTACH;FMTTYPE=image/png:https://newsfromnativecalifornia.com/wp-content/uploads/2025/07/ca-native-vote-youth-summer.png
END:VEVENT
END:VCALENDAR