BEGIN:VCALENDAR
VERSION:2.0
PRODID:-//News from Native California - ECPv6.15.18//NONSGML v1.0//EN
CALSCALE:GREGORIAN
METHOD:PUBLISH
X-ORIGINAL-URL:https://newsfromnativecalifornia.com
X-WR-CALDESC:Events for News from Native California
REFRESH-INTERVAL;VALUE=DURATION:PT1H
X-Robots-Tag:noindex
X-PUBLISHED-TTL:PT1H
BEGIN:VTIMEZONE
TZID:America/Los_Angeles
BEGIN:DAYLIGHT
TZOFFSETFROM:-0800
TZOFFSETTO:-0700
TZNAME:PDT
DTSTART:20230312T100000
END:DAYLIGHT
BEGIN:STANDARD
TZOFFSETFROM:-0700
TZOFFSETTO:-0800
TZNAME:PST
DTSTART:20231105T090000
END:STANDARD
BEGIN:DAYLIGHT
TZOFFSETFROM:-0800
TZOFFSETTO:-0700
TZNAME:PDT
DTSTART:20240310T100000
END:DAYLIGHT
BEGIN:STANDARD
TZOFFSETFROM:-0700
TZOFFSETTO:-0800
TZNAME:PST
DTSTART:20241103T090000
END:STANDARD
BEGIN:DAYLIGHT
TZOFFSETFROM:-0800
TZOFFSETTO:-0700
TZNAME:PDT
DTSTART:20250309T100000
END:DAYLIGHT
BEGIN:STANDARD
TZOFFSETFROM:-0700
TZOFFSETTO:-0800
TZNAME:PST
DTSTART:20251102T090000
END:STANDARD
BEGIN:DAYLIGHT
TZOFFSETFROM:-0800
TZOFFSETTO:-0700
TZNAME:PDT
DTSTART:20260308T100000
END:DAYLIGHT
BEGIN:STANDARD
TZOFFSETFROM:-0700
TZOFFSETTO:-0800
TZNAME:PST
DTSTART:20261101T090000
END:STANDARD
BEGIN:DAYLIGHT
TZOFFSETFROM:-0800
TZOFFSETTO:-0700
TZNAME:PDT
DTSTART:20270314T100000
END:DAYLIGHT
BEGIN:STANDARD
TZOFFSETFROM:-0700
TZOFFSETTO:-0800
TZNAME:PST
DTSTART:20271107T090000
END:STANDARD
END:VTIMEZONE
BEGIN:VEVENT
DTSTART;VALUE=DATE:20240907
DTEND;VALUE=DATE:20260622
DTSTAMP:20260422T230345
CREATED:20240503T000052Z
LAST-MODIFIED:20240503T000052Z
UID:14244-1725667200-1782086399@newsfromnativecalifornia.com
SUMMARY:Future Imaginaries: Indigenous Art\, Fashion\, Technology
DESCRIPTION:September 7\, 2024 – June 21\, 2026 \nSamuel & Minna Grodin Gallery \n\n\n\n\nAbout the Exhibition\n\nFuture Imaginaries explores the rise of Futurism in contemporary Indigenous art as a means of enduring colonial trauma\, creating alternative futures and advocating for Indigenous technologies in a more inclusive present and sustainable future. Over 50 artworks are on display\, some interspersed throughout the museum\, creating unexpected encounters and dialogues between contemporary Indigenous creations and historic Autry works. Artists such as Andy Everson\, Ryan Singer and Neil Ambrose Smith wittily upend pop-culture icons by Indigenizing sci-fi characters and storylines; Wendy Red Star places Indigenous people in surreal spacescapes wearing fantastical regalia; Virgil Ortiz brings his own space odyssey\, ReVOlt 1680/2180\, to life in a new\, site-specific installation. By intermingling science fiction\, self-determination\, and Indigenous technologies across a diverse array of Native cultures\, Future Imaginaries envisions sovereign futures while countering historical myths and the ongoing impact of colonization\, including environmental degradation and toxic stereotypes.
URL:https://newsfromnativecalifornia.com/event/future-imaginaries-indigenous-art-fashion-technology/
LOCATION:The Autry Museum of the American West\, 4700 Western Heritage Way\, Los Angeles\, CA\, 90027\, United States
CATEGORIES:Exhibit
ATTACH;FMTTYPE=image/jpeg:https://newsfromnativecalifornia.com/wp-content/uploads/2024/05/ex-if-pst-three-sisters-romero.jpeg
END:VEVENT
BEGIN:VEVENT
DTSTART;VALUE=DATE:20250826
DTEND;VALUE=DATE:20261207
DTSTAMP:20260422T230345
CREATED:20250806T021500Z
LAST-MODIFIED:20250806T021545Z
UID:17345-1756166400-1796601599@newsfromnativecalifornia.com
SUMMARY:Rooted in Place: California Native Art
DESCRIPTION:Part of the reimagining of the de Young’s Arts of Indigenous America galleries\, this is the first in a series of exhibitions that highlights specific regions of Native California. This installation explores the interconnections between art\, ceremony\, and the land in the Karuk\, Yurok\, Hupa\, Tolowa\, and Wiyot communities of northwestern California. The exhibition presents collection highlights alongside major loans\, acquisitions\, and commissions by contemporary artists. \nImage: The Magical Mind in Rural America (2015) Rick Bartow
URL:https://newsfromnativecalifornia.com/event/rooted-in-place-california-native-art/
LOCATION:de Young Museum\, 50 Hagiwara Tea Garden Dr.\, San Francisco\, CA\, 94118\, United States
CATEGORIES:Exhibit,Native Arts
ATTACH;FMTTYPE=image/png:https://newsfromnativecalifornia.com/wp-content/uploads/2025/08/rooted-in-place-mus.png
ORGANIZER;CN="De Young":MAILTO:contact@famsf.org
END:VEVENT
BEGIN:VEVENT
DTSTART;VALUE=DATE:20250830
DTEND;VALUE=DATE:20260803
DTSTAMP:20260422T230345
CREATED:20250806T021908Z
LAST-MODIFIED:20250806T021908Z
UID:17347-1756512000-1785715199@newsfromnativecalifornia.com
SUMMARY:Rose B. Simpson: LEXICON
DESCRIPTION:This exhibition brings together two seemingly distinct art forms: Pueblo pottery and classic cars. In 2014\, Rose B. Simpson\, a mixed-media artist from Santa Clara Pueblo\, New Mexico\, refurbished a 1985 Chevy El Camino\, transforming it with a black-on-black Tewa pottery motif. Simpson titled her work Maria in honor of renowned artist Maria Martinez (San Ildefonso Pueblo\, 1887–1980)\, who popularized the distinctive black-on-black style. Ten years later\, this exhibition debuts Simpson’s second customized car\, a 1964 Buick Riviera painted in vibrant polychrome. Both cars are presented against an expansive geometric design\, evoking the environment of the Southwest and transforming Wilsey Court into a bold\, contemporary expression of Pueblo pottery traditions. Through this use of scale and space\, Simpson forges connections between the ancestral and contemporary\, and forms a new visual vocabulary\, or lexicon\, to assert her cultural heritage and its continuity.
URL:https://newsfromnativecalifornia.com/event/rose-b-simpson-lexicon/
LOCATION:de Young Museum\, 50 Hagiwara Tea Garden Dr.\, San Francisco\, CA\, 94118\, United States
CATEGORIES:Exhibit,Native Arts
ATTACH;FMTTYPE=image/png:https://newsfromnativecalifornia.com/wp-content/uploads/2025/08/rose-b-simpson-car.png
ORGANIZER;CN="De Young":MAILTO:contact@famsf.org
END:VEVENT
BEGIN:VEVENT
DTSTART;VALUE=DATE:20251107
DTEND;VALUE=DATE:20260601
DTSTAMP:20260422T230345
CREATED:20250829T172736Z
LAST-MODIFIED:20250829T172736Z
UID:17421-1762473600-1780271999@newsfromnativecalifornia.com
SUMMARY:Good Fire: Tending Native Lands
DESCRIPTION:The Oakland Museum of California (OMCA) announces Good Fire: Tending Native Lands\, a new special exhibition exploring how Native communities in Northern California have long used controlled fire—also called “good fire” or “cultural burning”—to care for the land and uphold traditions. The exhibition is organized in collaboration with Native fire practitioners\, artists\, ecologists\, and cultural leaders based in Northern California
URL:https://newsfromnativecalifornia.com/event/good-fire-tending-native-lands/
LOCATION:Oakland Museum of California\, 1000 Oak Street\, Oakland\, CA\, 94607\, United States
CATEGORIES:Exhibit
ATTACH;FMTTYPE=image/jpeg:https://newsfromnativecalifornia.com/wp-content/uploads/2025/08/Saif-Azzuz_that-time-will-come_2024_Acrylic-on-canvas_Courtesy-of-the-artist-and-Anthony-Meier-Mill-Valley-scaled.jpg
END:VEVENT
BEGIN:VEVENT
DTSTART;VALUE=DATE:20260214
DTEND;VALUE=DATE:20260511
DTSTAMP:20260422T230345
CREATED:20260222T223425Z
LAST-MODIFIED:20260222T223425Z
UID:17855-1771027200-1778457599@newsfromnativecalifornia.com
SUMMARY:Momím Wené | Medicine Water: Flowing through Indian Country
DESCRIPTION:This Valentine’s day through May 10th enjoy the paintings\, basketry\, jewelry and other works from over 30 Native artists — love letters\, if you will\, to water. The exhibition “Momím Wené: Medicine Water” was curated by the Shingle Springs Band of Miwok Indians Exhibits and Collections Center. Starting in central California Nisenan territory\, it is now flowing to the home of the Ukiah Valley Pomo\, where their voices have been integrated into the story.
URL:https://newsfromnativecalifornia.com/event/momim-wene-medicine-water-flowing-through-indian-country/
LOCATION:Grace Hudson Museum & Sun House\, 431 South Main Street\, Ukiah\, CA\, United States
CATEGORIES:Art Show
END:VEVENT
BEGIN:VEVENT
DTSTART;VALUE=DATE:20260307
DTEND;VALUE=DATE:20260727
DTSTAMP:20260422T230345
CREATED:20260222T224917Z
LAST-MODIFIED:20260222T224917Z
UID:17856-1772841600-1785110399@newsfromnativecalifornia.com
SUMMARY:Raymond LeBeau: Field(s) of View
DESCRIPTION:Raymond LeBeau: Field(s) of View is a solo exhibition by local Pit River\, Lakota\, and Cahuilla artist\, Raymond LeBeau. The exhibition reflects his perspective as a Native Pit River artist shaped by his northeastern California homelands and coastal environments. \nThrough paintings\, drawings\, maps\, and found-object assemblages\, he explores history\, lived experiences\, and the cultural influences that shape his world. Together\, these works form a layered landscape of memory\, place\, and an ongoing story.\n\nRaymond LeBeau: Field(s) of View is\, in part due\, to the Shingle Springs Band of Miwok Indians’ commitment to supporting Indigenous artists. Raymond LeBeau is the recipient of the 2025 Emerging Artists Exhibits Award.  \nOn view: March 7 – July 26\, 2026.\nOpening reception: March 7\, 5:00-7:00pm. Free admission! 
URL:https://newsfromnativecalifornia.com/event/raymond-lebeau-fields-of-view/
LOCATION:Maidu Museum & Historic Site\, 1970 Johnson Ranch Drive\, Roseville\, CA\, 95661\, United States
CATEGORIES:Art Show,Artist Showcase
END:VEVENT
BEGIN:VEVENT
DTSTART;TZID=America/Los_Angeles:20260422T160000
DTEND;TZID=America/Los_Angeles:20260422T190000
DTSTAMP:20260422T230345
CREATED:20260416T182400Z
LAST-MODIFIED:20260416T182452Z
UID:17965-1776873600-1776884400@newsfromnativecalifornia.com
SUMMARY:Mother's Day Gift Making
DESCRIPTION:Celebrate Mother’s Day in a meaningful way Join UAII for a special hands-on workshop led by Navajo artist Bríghid Pulskamp\, where participants will learn about Juniper Necklace stories\, cultural teachings\, and create a heartfelt gift to honor the mothers and women in their lives.This is more than a workshop\, it is a space to connect through culture\, creativity\, and community in LA.Date: April 22Time: 4PM–7PMLocation: Cerritos College\, Room CE-311110 Alondra Blvd\, Cerritos\, CA 90650Parking pass must be purchased at kioskRSVP required: sevengsrsvp@uaii.orgCome create something meaningful and celebrate the women who raised us\, guide us\, and continue to show up for us every day!
URL:https://newsfromnativecalifornia.com/event/mothers-day-gift-making/
LOCATION:Cerritos College Room CE-3\, 11110 Alondra Blvd\, Cerritos\, CA\, 90650\, United States
CATEGORIES:Workshop
ORGANIZER;CN="United American Indian Involvement":MAILTO:vedwards@uaii.org
END:VEVENT
BEGIN:VEVENT
DTSTART;VALUE=DATE:20260423
DTEND;VALUE=DATE:20260425
DTSTAMP:20260422T230345
CREATED:20260420T165641Z
LAST-MODIFIED:20260420T165641Z
UID:17987-1776902400-1777075199@newsfromnativecalifornia.com
SUMMARY:A Walk With Yaamay
DESCRIPTION:A free guided art walk at Grape Day Park led by Native artists. Experience live poetry\, music\, and immersive storytelling inspired by San Diego’s natural landscapes. \nApril 23 and 24\n10 AM to 12 PM\nGrape Day Park\, Escondido\nFree admission \nFeaturing Jessa Calderon\, Alexis Munoa Dyer\, and Matthew Alvarado\, with a live bird singer on April 23. \nFeaturing Jovanny Perez\, Camaray Davalos\, and Juan A. Reynoso on April 24. \nReserve your spot: artcenter.org \nPart of Arts\, Culture and Creativity Month in Escondido.
URL:https://newsfromnativecalifornia.com/event/a-walk-with-yaamay/
LOCATION:Grape Day Park\, 321 N Broadway\, Escondido\, California\, 92025
CATEGORIES:Walk
ORGANIZER;CN="The Queer Sol Collective":MAILTO:thequeersolcollective@gmail.com
END:VEVENT
BEGIN:VEVENT
DTSTART;TZID=America/Los_Angeles:20260425T090000
DTEND;TZID=America/Los_Angeles:20260425T150000
DTSTAMP:20260422T230345
CREATED:20260304T021301Z
LAST-MODIFIED:20260304T021301Z
UID:17908-1777107600-1777129200@newsfromnativecalifornia.com
SUMMARY:Yoomén: A Celebration of Spring
DESCRIPTION:Description:\nThis FREE family-friendly event serves as an opportunity for Indigenous communities to gather\, celebrate and share deep history and traditions with all in attendance. \nFrom Native Pit River artist’s Raymond LeBeau’s debut art exhibition to hands-on activity stations\, there will be something for everyone to enjoy at Yoomén. Visitors can enjoy lunch with a view of the Historic Site\, while indulging in the food available for purchase. Throughout the day\, take a guided tour of the Historic Site\, enjoy the museum’s exhibits\, and enjoy demonstrations of culturally significant skills\, stories\, and performances by Indigenous musicians and dancers. Visitors also have the opportunity to support Native artists directly by shopping the Yoomén market\, featuring beautiful art\, jewelry\, and more! \nSaturday\, April 25\, 2026 from 9:00am-3:00pm. \nDate: 2026-04-25\nLocation: 1970 Johnson Ranch Drive\nRoseville\, CA 95661\nCost: FREE
URL:https://newsfromnativecalifornia.com/event/yoomen-a-celebration-of-spring/
LOCATION:Maidu Museum & Historic Site\, 1970 Johnson Ranch Drive\, Roseville\, CA\, 95661\, United States
CATEGORIES:Community,Cultural Demonstrations
END:VEVENT
BEGIN:VEVENT
DTSTART;TZID=America/Los_Angeles:20260425T090000
DTEND;TZID=America/Los_Angeles:20260425T160000
DTSTAMP:20260422T230345
CREATED:20260416T192809Z
LAST-MODIFIED:20260416T192809Z
UID:17959-1777107600-1777132800@newsfromnativecalifornia.com
SUMMARY:Verona Marina Grand Opening
DESCRIPTION:Verona Marina Grand Opening⠀\nSaturday\, April 25\, 9am – 4pm⠀\n6955 Garden Highway\, Nicolaus\, CA⠀\n⠀\nJoin a day of culture\, community\, and celebration at the Verona Marina Grand Opening event. Enjoy traditional dancers\, local vendors\, cultural demonstrations\, games\, prizes\, and more at this family-friendly\, drug and alcohol-free event.⠀\n⠀\nThere is no admission or parking fee\, however boat launching fees are still in effect. ⠀\n⠀\nQuestions? Contact VMarinaInfo@ssband.org⠀
URL:https://newsfromnativecalifornia.com/event/verona-marina-grand-opening/
LOCATION:Verona Marina\, 6955 Garden Hwy\, Nicolaus\, CA\, 95659\, United States
CATEGORIES:Celebration,Grand Opening
END:VEVENT
BEGIN:VEVENT
DTSTART;TZID=America/Los_Angeles:20260425T120000
DTEND;TZID=America/Los_Angeles:20260426T170000
DTSTAMP:20260422T230345
CREATED:20260416T181817Z
LAST-MODIFIED:20260416T181817Z
UID:17964-1777118400-1777222800@newsfromnativecalifornia.com
SUMMARY:Intertribal Friendship House California Native Spring Festival & Gardening Day
DESCRIPTION:Don’t forget to keep your calendars marked for California Native Spring Festival at IFH!\nCome through on Sunday\, April 26th for a day of music\, workshops\, Native vendors\, and time together to honor California Native traditions. \nGardening Day will take place the day before on Saturday\, April 25. \nSee you there!
URL:https://newsfromnativecalifornia.com/event/intertribal-friendship-house-california-native-spring-festival-gardening-day/
LOCATION:Intertribal Friendship House\, 523 International Blvd\, Oakland\, CA\, United States
CATEGORIES:Festival
END:VEVENT
BEGIN:VEVENT
DTSTART;TZID=America/Los_Angeles:20260428T180000
DTEND;TZID=America/Los_Angeles:20260428T203000
DTSTAMP:20260422T230345
CREATED:20260416T184603Z
LAST-MODIFIED:20260416T184603Z
UID:17972-1777399200-1777408200@newsfromnativecalifornia.com
SUMMARY:SNAHC Open Mic Night
DESCRIPTION:SNAHC presents “Culture is Prevention” Open Mic Night in celebration of National Poetry Month! Join on Tuesday\, April 28\, 2026\, from 6:00 PM–8:30 PM at the SNAHC Family Youth Center on Florin Road for a powerful evening of poetry\, spoken word\, songs\, and storytelling. The night will feature special guest speakers\, singers\, storytellers\, and a live DJ.Community members are invited to step up to the mic and share poems\, songs\, stories\, traditional language\, and creative expression. All are welcome to attend\, perform\, listen\, and celebrate culture and community together. Link to register: https://forms.office.com/r/DiMdvF8ZdL
URL:https://newsfromnativecalifornia.com/event/snahc-open-mic-night/
LOCATION:Sacramento Native American Health Center\, 2020 J Street\, Sacramento\, CA\, United States
CATEGORIES:Open Mic
END:VEVENT
END:VCALENDAR