BEGIN:VCALENDAR
VERSION:2.0
PRODID:-//News from Native California - ECPv6.15.18//NONSGML v1.0//EN
CALSCALE:GREGORIAN
METHOD:PUBLISH
X-ORIGINAL-URL:https://newsfromnativecalifornia.com
X-WR-CALDESC:Events for News from Native California
REFRESH-INTERVAL;VALUE=DURATION:PT1H
X-Robots-Tag:noindex
X-PUBLISHED-TTL:PT1H
BEGIN:VTIMEZONE
TZID:America/Los_Angeles
BEGIN:DAYLIGHT
TZOFFSETFROM:-0800
TZOFFSETTO:-0700
TZNAME:PDT
DTSTART:20250309T100000
END:DAYLIGHT
BEGIN:STANDARD
TZOFFSETFROM:-0700
TZOFFSETTO:-0800
TZNAME:PST
DTSTART:20251102T090000
END:STANDARD
BEGIN:DAYLIGHT
TZOFFSETFROM:-0800
TZOFFSETTO:-0700
TZNAME:PDT
DTSTART:20260308T100000
END:DAYLIGHT
BEGIN:STANDARD
TZOFFSETFROM:-0700
TZOFFSETTO:-0800
TZNAME:PST
DTSTART:20261101T090000
END:STANDARD
BEGIN:DAYLIGHT
TZOFFSETFROM:-0800
TZOFFSETTO:-0700
TZNAME:PDT
DTSTART:20270314T100000
END:DAYLIGHT
BEGIN:STANDARD
TZOFFSETFROM:-0700
TZOFFSETTO:-0800
TZNAME:PST
DTSTART:20271107T090000
END:STANDARD
END:VTIMEZONE
BEGIN:VEVENT
DTSTART;TZID=America/Los_Angeles:20260207T090000
DTEND;TZID=America/Los_Angeles:20260207T180000
DTSTAMP:20260420T033554
CREATED:20260113T025727Z
LAST-MODIFIED:20260113T025727Z
UID:17765-1770454800-1770487200@newsfromnativecalifornia.com
SUMMARY:2026 Indigi-con
DESCRIPTION:💥 🪶💥🪶💥 🪶💥 The 2026 Indigi-Con – Creators Symposium’ at @harrahssocal is February 7th! \n🎫 Register today: $20 early-bird tickets still available (lunch included) and children 15 & under are free! Family-friendly! Group and school scholarships / discounts available!Discounted rooms available! Visit: indigi-com.com \n🤩 Vendor and sponsorship spots still available! \n💯 Full program (workshops and panels) special guests\, entertainment and more …. coming soon! \n🫣 Sneak Peak: indigi-con.com\n📷 Photo Credit: @joelphotoguyortiz\n🤩 Indigi-Con 2025 / 2026 Logo: @weshoyot\n🤠 Hat: @thundervoiceco \n💙 Blue represents the West and Emotional Health! Sacred Colors of the Sky and Water! 🌊
URL:https://newsfromnativecalifornia.com/event/2026-indigi-con/
LOCATION:Harrah’s Resort Southern California\, 777 South Resort Drive\, Valley Center\, California\, 92082
CATEGORIES:Conference,Symposium
END:VEVENT
END:VCALENDAR