BEGIN:VCALENDAR
VERSION:2.0
PRODID:-//News from Native California - ECPv6.15.18//NONSGML v1.0//EN
CALSCALE:GREGORIAN
METHOD:PUBLISH
X-WR-CALNAME:News from Native California
X-ORIGINAL-URL:https://newsfromnativecalifornia.com
X-WR-CALDESC:Events for News from Native California
REFRESH-INTERVAL;VALUE=DURATION:PT1H
X-Robots-Tag:noindex
X-PUBLISHED-TTL:PT1H
BEGIN:VTIMEZONE
TZID:America/Los_Angeles
BEGIN:DAYLIGHT
TZOFFSETFROM:-0800
TZOFFSETTO:-0700
TZNAME:PDT
DTSTART:20240310T100000
END:DAYLIGHT
BEGIN:STANDARD
TZOFFSETFROM:-0700
TZOFFSETTO:-0800
TZNAME:PST
DTSTART:20241103T090000
END:STANDARD
BEGIN:DAYLIGHT
TZOFFSETFROM:-0800
TZOFFSETTO:-0700
TZNAME:PDT
DTSTART:20250309T100000
END:DAYLIGHT
BEGIN:STANDARD
TZOFFSETFROM:-0700
TZOFFSETTO:-0800
TZNAME:PST
DTSTART:20251102T090000
END:STANDARD
BEGIN:DAYLIGHT
TZOFFSETFROM:-0800
TZOFFSETTO:-0700
TZNAME:PDT
DTSTART:20260308T100000
END:DAYLIGHT
BEGIN:STANDARD
TZOFFSETFROM:-0700
TZOFFSETTO:-0800
TZNAME:PST
DTSTART:20261101T090000
END:STANDARD
END:VTIMEZONE
BEGIN:VEVENT
DTSTART;TZID=America/Los_Angeles:20250320T120000
DTEND;TZID=America/Los_Angeles:20250320T130000
DTSTAMP:20260425T172702
CREATED:20250319T202614Z
LAST-MODIFIED:20250319T202614Z
UID:16686-1742472000-1742475600@newsfromnativecalifornia.com
SUMMARY:AICLS Language Revitalization Lunch Hour Symposium: James Yee
DESCRIPTION:Online community language class: Challenges\, opportunities\, and hopes in the midst of diaspora \nAICLS online talk\, presented by James Yee (alap kaswaa)\, will discuss the alap kaswaa (barbareño chumash) online classes. He will describe success\, challenges\, and hopes for the future represented in the community’s online language class. \nRegister here: https://us02web.zoom.us/meeting/register/dVw26cDVRgezTw4z57J11w#/registration
URL:https://newsfromnativecalifornia.com/event/aicls-language-revitalization-lunch-hour-symposium-james-yee/
LOCATION:Zoom
CATEGORIES:Community,Education,Online Event,Speaker,Speaker Series,Talk,Virtual,Webinar
ATTACH;FMTTYPE=image/png:https://newsfromnativecalifornia.com/wp-content/uploads/2025/03/james-yee-aicls.png
END:VEVENT
BEGIN:VEVENT
DTSTART;TZID=America/Los_Angeles:20250322T130000
DTEND;TZID=America/Los_Angeles:20250322T163000
DTSTAMP:20260425T172702
CREATED:20250311T180459Z
LAST-MODIFIED:20250311T180500Z
UID:16595-1742648400-1742661000@newsfromnativecalifornia.com
SUMMARY:‘Meme’ Your Language
DESCRIPTION:A virtual workshop for Indigenous California youth leaders (16-24) supporting Indigenous language revitalization in a silly\, goofy way. Language mentors will lead activities including meme making and playing games. In this workshop\, youth will explore their languages\, gain new perspectives to language revitalization\, network over shared passions\, and connect with community language practitioners. Any level of language experience is invited!  \nGuest speakers: Susan Gehr\, Ruby Tuttle\, Connor Yiamkis \nRegister here: https://us02web.zoom.us/meeting/register/FbPJF5mMSamImiZ_5O0RqA
URL:https://newsfromnativecalifornia.com/event/meme-your-language/
LOCATION:Zoom
CATEGORIES:Community,Speaker Series,Virtual,Workshop,Youth
ATTACH;FMTTYPE=image/png:https://newsfromnativecalifornia.com/wp-content/uploads/2025/03/AICLS-YOUTH-WORKSHOP.zip-1.png
END:VEVENT
END:VCALENDAR