BEGIN:VCALENDAR
VERSION:2.0
PRODID:-//News from Native California - ECPv6.15.18//NONSGML v1.0//EN
CALSCALE:GREGORIAN
METHOD:PUBLISH
X-WR-CALNAME:News from Native California
X-ORIGINAL-URL:https://newsfromnativecalifornia.com
X-WR-CALDESC:Events for News from Native California
REFRESH-INTERVAL;VALUE=DURATION:PT1H
X-Robots-Tag:noindex
X-PUBLISHED-TTL:PT1H
BEGIN:VTIMEZONE
TZID:America/Los_Angeles
BEGIN:DAYLIGHT
TZOFFSETFROM:-0800
TZOFFSETTO:-0700
TZNAME:PDT
DTSTART:20250309T100000
END:DAYLIGHT
BEGIN:STANDARD
TZOFFSETFROM:-0700
TZOFFSETTO:-0800
TZNAME:PST
DTSTART:20251102T090000
END:STANDARD
BEGIN:DAYLIGHT
TZOFFSETFROM:-0800
TZOFFSETTO:-0700
TZNAME:PDT
DTSTART:20260308T100000
END:DAYLIGHT
BEGIN:STANDARD
TZOFFSETFROM:-0700
TZOFFSETTO:-0800
TZNAME:PST
DTSTART:20261101T090000
END:STANDARD
BEGIN:DAYLIGHT
TZOFFSETFROM:-0800
TZOFFSETTO:-0700
TZNAME:PDT
DTSTART:20270314T100000
END:DAYLIGHT
BEGIN:STANDARD
TZOFFSETFROM:-0700
TZOFFSETTO:-0800
TZNAME:PST
DTSTART:20271107T090000
END:STANDARD
END:VTIMEZONE
BEGIN:VEVENT
DTSTART;TZID=America/Los_Angeles:20260213T120000
DTEND;TZID=America/Los_Angeles:20260213T150000
DTSTAMP:20260424T092525
CREATED:20260211T215309Z
LAST-MODIFIED:20260211T215309Z
UID:17817-1770984000-1770994800@newsfromnativecalifornia.com
SUMMARY:Two Spirit Elder Listen & Learn Lunch
DESCRIPTION:🌟 Join Gay American Indians (GAI) for a special event honoring Two Spirit Elders during BAAITS Powwow week. This event is a welcoming space to listen\, learn\, and celebrate our #TwoSpirit Elders with community and good food. FEATURING: Complimentary Lunch\, Talking Circle\, Out of Town Special Guests\, Two Spirit Performances\, and much more! TwoSpirit Elder Listen & Learn Lunch  \n🗓 Friday\, February 13\, 2026 🕛 12 PM – 3 PM  \n📍 Waller Urban Retreat Center 1525 Waller St at Belvedere\, Haight Ashbury\, San Francisco. All are welcome\, especially those committed to Indigenous\, LGBTQ+\, and intergenerational solidarity. Come enjoy a delicious lunch\, uplifting stories\, and meaningful connection.  \n📞 For questions or to perform\, contact Randy Burns\, GAI co-founder\, at 650-359-6473.  \nVolunteers are needed for: \n\nWelcoming elders and setting up the space \nServing lunch and dinner tending to the flow of the events \nCleanup and closing support \nHolding space with warmth and respect. \n\n To help cook on Friday at the Listen & Learn Lunch\, please contact Sky Nebula at +1 (206) 422-9636.
URL:https://newsfromnativecalifornia.com/event/two-spirit-elder-listen-learn-lunch/
LOCATION:Waller Urban Retreat Center\, 1525 Waller Street at Belvedere Street\, San Francisco\, CA\, 94117\, United States
CATEGORIES:Community,Elders,Listening Session,Lunch,Talk
END:VEVENT
BEGIN:VEVENT
DTSTART;VALUE=DATE:20260214
DTEND;VALUE=DATE:20260215
DTSTAMP:20260424T092525
CREATED:20250825T225707Z
LAST-MODIFIED:20250825T225707Z
UID:17413-1771027200-1771113599@newsfromnativecalifornia.com
SUMMARY:15th Annual BAAITS Two-Spirit Powwow
DESCRIPTION:Save the date – 15th Annual BAAITS Two-Spirit Powwow is scheduled for Saturday\, Feb 14\, 2026 at Fort Mason Festival Pavilion in San Francisco. Photos by Hewitt Visuals Photos.
URL:https://newsfromnativecalifornia.com/event/15th-annual-baaits-two-spirit-powwow/
LOCATION:Fort Mason Festival Pavillion\, 2 Marina Blvd Suite 260\, SAN FRANCISCO\, CA\, 94123\, United States
CATEGORIES:Big Time,Community,Powwow,Save the date
ATTACH;FMTTYPE=image/png:https://newsfromnativecalifornia.com/wp-content/uploads/2025/08/baaits-powwow-2026.png
END:VEVENT
END:VCALENDAR