BEGIN:VCALENDAR
VERSION:2.0
PRODID:-//News from Native California - ECPv6.15.18//NONSGML v1.0//EN
CALSCALE:GREGORIAN
METHOD:PUBLISH
X-ORIGINAL-URL:https://newsfromnativecalifornia.com
X-WR-CALDESC:Events for News from Native California
REFRESH-INTERVAL;VALUE=DURATION:PT1H
X-Robots-Tag:noindex
X-PUBLISHED-TTL:PT1H
BEGIN:VTIMEZONE
TZID:America/Los_Angeles
BEGIN:DAYLIGHT
TZOFFSETFROM:-0800
TZOFFSETTO:-0700
TZNAME:PDT
DTSTART:20240310T100000
END:DAYLIGHT
BEGIN:STANDARD
TZOFFSETFROM:-0700
TZOFFSETTO:-0800
TZNAME:PST
DTSTART:20241103T090000
END:STANDARD
BEGIN:DAYLIGHT
TZOFFSETFROM:-0800
TZOFFSETTO:-0700
TZNAME:PDT
DTSTART:20250309T100000
END:DAYLIGHT
BEGIN:STANDARD
TZOFFSETFROM:-0700
TZOFFSETTO:-0800
TZNAME:PST
DTSTART:20251102T090000
END:STANDARD
BEGIN:DAYLIGHT
TZOFFSETFROM:-0800
TZOFFSETTO:-0700
TZNAME:PDT
DTSTART:20260308T100000
END:DAYLIGHT
BEGIN:STANDARD
TZOFFSETFROM:-0700
TZOFFSETTO:-0800
TZNAME:PST
DTSTART:20261101T090000
END:STANDARD
END:VTIMEZONE
BEGIN:VEVENT
DTSTART;TZID=America/Los_Angeles:20250830T100000
DTEND;TZID=America/Los_Angeles:20250830T160000
DTSTAMP:20260421T090845
CREATED:20250722T074355Z
LAST-MODIFIED:20250722T074355Z
UID:17302-1756548000-1756569600@newsfromnativecalifornia.com
SUMMARY:First Annual Two-Spirit Summit
DESCRIPTION:Two-Spirit Summit: Saturday\, August 30th 10am-4pm\nSave the date! Join the organization for the culminating event of the LIA program—the Two-Spirit Summit on Saturday\, August 30th. More details will be released soon\, including RSVP and accessibility information. For now\, mark your calendars and prepare for a day of medicine\, creativity\, and celebration.
URL:https://newsfromnativecalifornia.com/event/first-annual-two-spirit-summit/
LOCATION:Obsidian Healing Camp\, 1200 24th St\, Oakland\, CA\, 94607
CATEGORIES:Pride,Summit,Wellness
ATTACH;FMTTYPE=image/png:https://newsfromnativecalifornia.com/wp-content/uploads/2025/07/two-spirit-summit.png
END:VEVENT
END:VCALENDAR