BEGIN:VCALENDAR
VERSION:2.0
PRODID:-//News from Native California - ECPv6.15.18//NONSGML v1.0//EN
CALSCALE:GREGORIAN
METHOD:PUBLISH
X-WR-CALNAME:News from Native California
X-ORIGINAL-URL:https://newsfromnativecalifornia.com
X-WR-CALDESC:Events for News from Native California
REFRESH-INTERVAL;VALUE=DURATION:PT1H
X-Robots-Tag:noindex
X-PUBLISHED-TTL:PT1H
BEGIN:VTIMEZONE
TZID:America/Los_Angeles
BEGIN:DAYLIGHT
TZOFFSETFROM:-0800
TZOFFSETTO:-0700
TZNAME:PDT
DTSTART:20240310T100000
END:DAYLIGHT
BEGIN:STANDARD
TZOFFSETFROM:-0700
TZOFFSETTO:-0800
TZNAME:PST
DTSTART:20241103T090000
END:STANDARD
BEGIN:DAYLIGHT
TZOFFSETFROM:-0800
TZOFFSETTO:-0700
TZNAME:PDT
DTSTART:20250309T100000
END:DAYLIGHT
BEGIN:STANDARD
TZOFFSETFROM:-0700
TZOFFSETTO:-0800
TZNAME:PST
DTSTART:20251102T090000
END:STANDARD
BEGIN:DAYLIGHT
TZOFFSETFROM:-0800
TZOFFSETTO:-0700
TZNAME:PDT
DTSTART:20260308T100000
END:DAYLIGHT
BEGIN:STANDARD
TZOFFSETFROM:-0700
TZOFFSETTO:-0800
TZNAME:PST
DTSTART:20261101T090000
END:STANDARD
END:VTIMEZONE
BEGIN:VEVENT
DTSTART;TZID=America/Los_Angeles:20250717T180000
DTEND;TZID=America/Los_Angeles:20250717T200000
DTSTAMP:20260424T021913
CREATED:20250717T184214Z
LAST-MODIFIED:20250717T184214Z
UID:17284-1752775200-1752782400@newsfromnativecalifornia.com
SUMMARY:BEAD*ICE OUT OF LA
DESCRIPTION:Guided by Kimberly Robertson\, using tech-infused beads\, create jewelry that connects you to Know Your Rights info and immigration rights resources. \nFREE \nAll materials provided. \nAges 10+ but children under the age of 13 must be accompanied by an adult. \n  \nPlease only RSVP if you plan to attend.
URL:https://newsfromnativecalifornia.com/event/beadice-out-of-la/
LOCATION:Meztli Projects\, 2337 West Whittier Blvd\, Montebello\, CA\, 90640
CATEGORIES:Community,Day of action,Education,Workshop
ATTACH;FMTTYPE=image/png:https://newsfromnativecalifornia.com/wp-content/uploads/2025/07/beadiceoutofLA.png
ORGANIZER;CN="Meztli Projects":MAILTO:joel@meztliprojects.org
END:VEVENT
END:VCALENDAR