BEGIN:VCALENDAR
VERSION:2.0
PRODID:-//News from Native California - ECPv6.15.18//NONSGML v1.0//EN
CALSCALE:GREGORIAN
METHOD:PUBLISH
X-WR-CALNAME:News from Native California
X-ORIGINAL-URL:https://newsfromnativecalifornia.com
X-WR-CALDESC:Events for News from Native California
REFRESH-INTERVAL;VALUE=DURATION:PT1H
X-Robots-Tag:noindex
X-PUBLISHED-TTL:PT1H
BEGIN:VTIMEZONE
TZID:America/Los_Angeles
BEGIN:DAYLIGHT
TZOFFSETFROM:-0800
TZOFFSETTO:-0700
TZNAME:PDT
DTSTART:20240310T100000
END:DAYLIGHT
BEGIN:STANDARD
TZOFFSETFROM:-0700
TZOFFSETTO:-0800
TZNAME:PST
DTSTART:20241103T090000
END:STANDARD
BEGIN:DAYLIGHT
TZOFFSETFROM:-0800
TZOFFSETTO:-0700
TZNAME:PDT
DTSTART:20250309T100000
END:DAYLIGHT
BEGIN:STANDARD
TZOFFSETFROM:-0700
TZOFFSETTO:-0800
TZNAME:PST
DTSTART:20251102T090000
END:STANDARD
BEGIN:DAYLIGHT
TZOFFSETFROM:-0800
TZOFFSETTO:-0700
TZNAME:PDT
DTSTART:20260308T100000
END:DAYLIGHT
BEGIN:STANDARD
TZOFFSETFROM:-0700
TZOFFSETTO:-0800
TZNAME:PST
DTSTART:20261101T090000
END:STANDARD
END:VTIMEZONE
BEGIN:VEVENT
DTSTART;TZID=America/Los_Angeles:20251011T100000
DTEND;TZID=America/Los_Angeles:20251011T180000
DTSTAMP:20260423T045138
CREATED:20250902T182428Z
LAST-MODIFIED:20250902T182835Z
UID:17423-1760176800-1760205600@newsfromnativecalifornia.com
SUMMARY:33rd Annual Berkeley Indigenous Peoples Day Powwow
DESCRIPTION:Berkeley Indigenous Peoples Day Powwow & Indian Market 33rd Annual Celebration: 533 years of Resistance and Renewal\, 1492-2025\n\nNative American Foods\nArts & Crafts and American Indian Culture\nGourd Dance\nRound Dance\nCommittee Specials and Intertribals\n\n\n\n\nMLK Civic Center Park\, Allston Way\, Berkeley | Free Admission! Wheelchair accessible.
URL:https://newsfromnativecalifornia.com/event/33rd-annual-berkeley-indigenous-peoples-day-powwow/
LOCATION:Martin Luther King Way and Civic Center Park\, Martin Luther King Way and Civic Center Park\, Berkeley\, CA\, United States
CATEGORIES:Community,Gathering,Powwow
ATTACH;FMTTYPE=application/pdf:https://newsfromnativecalifornia.com/wp-content/uploads/2025/09/IPD-PowWow-Flyer-2025-current-8-29-2025.pdf
END:VEVENT
END:VCALENDAR