BEGIN:VCALENDAR
VERSION:2.0
PRODID:-//News from Native California - ECPv6.15.18//NONSGML v1.0//EN
CALSCALE:GREGORIAN
METHOD:PUBLISH
X-ORIGINAL-URL:https://newsfromnativecalifornia.com
X-WR-CALDESC:Events for News from Native California
REFRESH-INTERVAL;VALUE=DURATION:PT1H
X-Robots-Tag:noindex
X-PUBLISHED-TTL:PT1H
BEGIN:VTIMEZONE
TZID:America/Los_Angeles
BEGIN:DAYLIGHT
TZOFFSETFROM:-0800
TZOFFSETTO:-0700
TZNAME:PDT
DTSTART:20240310T100000
END:DAYLIGHT
BEGIN:STANDARD
TZOFFSETFROM:-0700
TZOFFSETTO:-0800
TZNAME:PST
DTSTART:20241103T090000
END:STANDARD
BEGIN:DAYLIGHT
TZOFFSETFROM:-0800
TZOFFSETTO:-0700
TZNAME:PDT
DTSTART:20250309T100000
END:DAYLIGHT
BEGIN:STANDARD
TZOFFSETFROM:-0700
TZOFFSETTO:-0800
TZNAME:PST
DTSTART:20251102T090000
END:STANDARD
BEGIN:DAYLIGHT
TZOFFSETFROM:-0800
TZOFFSETTO:-0700
TZNAME:PDT
DTSTART:20260308T100000
END:DAYLIGHT
BEGIN:STANDARD
TZOFFSETFROM:-0700
TZOFFSETTO:-0800
TZNAME:PST
DTSTART:20261101T090000
END:STANDARD
END:VTIMEZONE
BEGIN:VEVENT
DTSTART;TZID=America/Los_Angeles:20250106T190000
DTEND;TZID=America/Los_Angeles:20250106T210000
DTSTAMP:20260424T015912
CREATED:20241227T225951Z
LAST-MODIFIED:20241230T185122Z
UID:16179-1736190000-1736197200@newsfromnativecalifornia.com
SUMMARY:Kinsale Drake Celebrating: The Sky Was Once a Dark Blanket
DESCRIPTION:Join Books on the Park Monday January 6 for a welcome of Kinslae Drake in celebration of her poetry collection The Sky Was Once a Dark Blanket at 9th Ave! \nAbout The Sky Was Once a Dark Blanket\nThe Sky Was Once a Dark Blanket traverses the Southwest landscape\, exploring intricate relationships between Native peoples and the natural world\, land\, pop culture\, twentieth-century music\, and multi-generational representations. Oscillating between musical influences\, including the repercussions of ethnomusicology\, and the present/past/future\, the collection rewrites and rerights what it means to be Indigenous\, queer\, and even formerly-emo in the twenty-first century. \nAbout Kinsale Drake\nKinsale Drake (Diné) is a poet\, playwright\, and performer based out of the Southwest. She is a winner of the 2023 National Poetry Series. Her work has appeared in Poetry Magazine\, Poets.org\, Best New Poets\, Black Warrior Review\, Nylon\, MTV\, Teen Vogue\, Time\, and elsewhere. She recently graduated from Yale University\, where she received the J. Edgar Meeker Prize\, the Academy of American Poets College Prize\, the Young Native Playwrights Award\, and the 2022 Joy Harjo Poetry Prize. She was named by Time Magazine as an artist representing her decade “changing how we see the world\,” and is the founder of NDN Girls Book Club (www.ndngirlsbookclub.org).
URL:https://newsfromnativecalifornia.com/event/kinsale-drake-celebrating-the-sky-was-once-a-dark-blanket/
LOCATION:Books on the Park on 9th Avenue\, 1231 9th Ave.\, San Francisco\, California\, 94122
CATEGORIES:Artist Talk,Book Talk,Celebration,Native Arts
ATTACH;FMTTYPE=image/jpeg:https://newsfromnativecalifornia.com/wp-content/uploads/2024/12/Screen-Shot-2024-12-27-at-2.51.27-PM.jpg
END:VEVENT
END:VCALENDAR