BEGIN:VCALENDAR
VERSION:2.0
PRODID:-//News from Native California - ECPv6.15.18//NONSGML v1.0//EN
CALSCALE:GREGORIAN
METHOD:PUBLISH
X-ORIGINAL-URL:https://newsfromnativecalifornia.com
X-WR-CALDESC:Events for News from Native California
REFRESH-INTERVAL;VALUE=DURATION:PT1H
X-Robots-Tag:noindex
X-PUBLISHED-TTL:PT1H
BEGIN:VTIMEZONE
TZID:America/Los_Angeles
BEGIN:DAYLIGHT
TZOFFSETFROM:-0800
TZOFFSETTO:-0700
TZNAME:PDT
DTSTART:20240310T100000
END:DAYLIGHT
BEGIN:STANDARD
TZOFFSETFROM:-0700
TZOFFSETTO:-0800
TZNAME:PST
DTSTART:20241103T090000
END:STANDARD
BEGIN:DAYLIGHT
TZOFFSETFROM:-0800
TZOFFSETTO:-0700
TZNAME:PDT
DTSTART:20250309T100000
END:DAYLIGHT
BEGIN:STANDARD
TZOFFSETFROM:-0700
TZOFFSETTO:-0800
TZNAME:PST
DTSTART:20251102T090000
END:STANDARD
BEGIN:DAYLIGHT
TZOFFSETFROM:-0800
TZOFFSETTO:-0700
TZNAME:PDT
DTSTART:20260308T100000
END:DAYLIGHT
BEGIN:STANDARD
TZOFFSETFROM:-0700
TZOFFSETTO:-0800
TZNAME:PST
DTSTART:20261101T090000
END:STANDARD
END:VTIMEZONE
BEGIN:VEVENT
DTSTART;TZID=America/Los_Angeles:20250919T180000
DTEND;TZID=America/Los_Angeles:20250919T210000
DTSTAMP:20260422T074621
CREATED:20250819T230751Z
LAST-MODIFIED:20250819T230751Z
UID:17400-1758304800-1758315600@newsfromnativecalifornia.com
SUMMARY:3rd Annual Fire Gala: Going For Gold
DESCRIPTION:California Indian Nations College (CINC)\, a nonprofit two-year Tribal College\, proudly invites you to be part of something extraordinary—their 3rd Annual Fire Gala. This exclusive philanthropic event brings together community\, culture\, and the transformative power of higher education. \nThis year\, the college is thrilled to present Jim Ruel (Bay Mills Band of Ojibwe)\, acclaimed Native comedian and national star of Showtime’s “Goin’ Native: The American Indian Comedy Slam.” With his sharp wit and cultural insight\, Jim promises an evening filled with laughter\, inspiration\, and connection. \nBy joining in\, you’ll not only enjoy an unforgettable night—you’ll directly support the next generation of Native scholars\, leaders\, and changemakers \n  \nFor more information contact: \nTelephone: 760-933-9833\nEmail: GALA@CINCollege.org
URL:https://newsfromnativecalifornia.com/event/3rd-annual-fire-gala-going-for-gold/
LOCATION:Agua Caliente Resort Casino Spa Rancho Mirage\, 32-250 Bob Hope Drive\, Rancho Mirage\, CA\, 92270\, United States
CATEGORIES:Comedy,Fundraiser,Gala
ATTACH;FMTTYPE=image/jpeg:https://newsfromnativecalifornia.com/wp-content/uploads/2025/08/fire-gala.jpg
END:VEVENT
END:VCALENDAR