BEGIN:VCALENDAR
VERSION:2.0
PRODID:-//News from Native California - ECPv6.15.18//NONSGML v1.0//EN
CALSCALE:GREGORIAN
METHOD:PUBLISH
X-ORIGINAL-URL:https://newsfromnativecalifornia.com
X-WR-CALDESC:Events for News from Native California
REFRESH-INTERVAL;VALUE=DURATION:PT1H
X-Robots-Tag:noindex
X-PUBLISHED-TTL:PT1H
BEGIN:VTIMEZONE
TZID:America/Los_Angeles
BEGIN:DAYLIGHT
TZOFFSETFROM:-0800
TZOFFSETTO:-0700
TZNAME:PDT
DTSTART:20240310T100000
END:DAYLIGHT
BEGIN:STANDARD
TZOFFSETFROM:-0700
TZOFFSETTO:-0800
TZNAME:PST
DTSTART:20241103T090000
END:STANDARD
BEGIN:DAYLIGHT
TZOFFSETFROM:-0800
TZOFFSETTO:-0700
TZNAME:PDT
DTSTART:20250309T100000
END:DAYLIGHT
BEGIN:STANDARD
TZOFFSETFROM:-0700
TZOFFSETTO:-0800
TZNAME:PST
DTSTART:20251102T090000
END:STANDARD
BEGIN:DAYLIGHT
TZOFFSETFROM:-0800
TZOFFSETTO:-0700
TZNAME:PDT
DTSTART:20260308T100000
END:DAYLIGHT
BEGIN:STANDARD
TZOFFSETFROM:-0700
TZOFFSETTO:-0800
TZNAME:PST
DTSTART:20261101T090000
END:STANDARD
END:VTIMEZONE
BEGIN:VEVENT
DTSTART;TZID=America/Los_Angeles:20251115T160000
DTEND;TZID=America/Los_Angeles:20251115T190000
DTSTAMP:20260419T164816
CREATED:20250912T165325Z
LAST-MODIFIED:20251114T151944Z
UID:17447-1763222400-1763233200@newsfromnativecalifornia.com
SUMMARY:POSTPONED - 2025 CINC Gathering Under the Stars
DESCRIPTION:THIS EVENT HAS BEEN POSTPONED DUE TO PROJECTED SEVERE WEATHER CONDITIONS \nSave the Date: CINC Gathering Under the Stars event \nNovember 15th\, 4PM-7PM \nInterested vendors\, please contact: Gathering@CINCollege.org
URL:https://newsfromnativecalifornia.com/event/2025-cinc-gathering-under-the-stars/
LOCATION:UCR Palm Desert Campus\, 75080 Frank Sinatra Drive\, Palm Desert\, CA\, United States
CATEGORIES:Gathering
ATTACH;FMTTYPE=image/png:https://newsfromnativecalifornia.com/wp-content/uploads/2025/09/Postponed-Gathering-Under-the-Stars-11-15-25.png
END:VEVENT
END:VCALENDAR