BEGIN:VCALENDAR
VERSION:2.0
PRODID:-//News from Native California - ECPv6.15.18//NONSGML v1.0//EN
CALSCALE:GREGORIAN
METHOD:PUBLISH
X-ORIGINAL-URL:https://newsfromnativecalifornia.com
X-WR-CALDESC:Events for News from Native California
REFRESH-INTERVAL;VALUE=DURATION:PT1H
X-Robots-Tag:noindex
X-PUBLISHED-TTL:PT1H
BEGIN:VTIMEZONE
TZID:America/Los_Angeles
BEGIN:DAYLIGHT
TZOFFSETFROM:-0800
TZOFFSETTO:-0700
TZNAME:PDT
DTSTART:20240310T100000
END:DAYLIGHT
BEGIN:STANDARD
TZOFFSETFROM:-0700
TZOFFSETTO:-0800
TZNAME:PST
DTSTART:20241103T090000
END:STANDARD
BEGIN:DAYLIGHT
TZOFFSETFROM:-0800
TZOFFSETTO:-0700
TZNAME:PDT
DTSTART:20250309T100000
END:DAYLIGHT
BEGIN:STANDARD
TZOFFSETFROM:-0700
TZOFFSETTO:-0800
TZNAME:PST
DTSTART:20251102T090000
END:STANDARD
BEGIN:DAYLIGHT
TZOFFSETFROM:-0800
TZOFFSETTO:-0700
TZNAME:PDT
DTSTART:20260308T100000
END:DAYLIGHT
BEGIN:STANDARD
TZOFFSETFROM:-0700
TZOFFSETTO:-0800
TZNAME:PST
DTSTART:20261101T090000
END:STANDARD
END:VTIMEZONE
BEGIN:VEVENT
DTSTART;TZID=America/Los_Angeles:20250926T100000
DTEND;TZID=America/Los_Angeles:20250926T140000
DTSTAMP:20260423T041107
CREATED:20250717T184720Z
LAST-MODIFIED:20250717T184720Z
UID:17289-1758880800-1758895200@newsfromnativecalifornia.com
SUMMARY:58th Annual California Native American Day
DESCRIPTION:Save the Date! The 2025 California Native American Day will be on September 26th at the California State Capitol. \nThe California Water Boards invite you to apply to showcase a cultural practice at the 58th Annual California Native American Day Cultural Heritage Pavilion. The deadline to submit an application to be considered as a cultural practitioner is August 1\, 2025. Register here: https://forms.office.com/pages/responsepage.aspx?id=JWoY_kl95kGZQQXSKB02wZbpBNl_U5FChY2FnRdwHx1UM0ZGQlo5VFRMOEpNRjJTVk01S0Y2WlA4Ny4u&route=shorturl&fbclid=IwY2xjawLmJCFleHRuA2FlbQIxMQBicmlkETFqVHhUT0dyczNDWmdScjVQAR4ilGTeH-bVdwAktM5T8RiM4Q353AqsdpcMz40Xw0dRXLo-ygmmRq-iTk9NcA_aem_J_LOsQYVRNl5flOP4jXiYw
URL:https://newsfromnativecalifornia.com/event/58th-annual-california-native-american-day/
LOCATION:California State Capitol\, 1315 10th St\, Sacramento\, CA\, 95814\, United States
CATEGORIES:Celebration,Community,Save the date
ATTACH;FMTTYPE=image/jpeg:https://newsfromnativecalifornia.com/wp-content/uploads/2025/07/58th-annual.jpg
ORGANIZER;CN="California Native American Day":MAILTO:nad@nahc.ca.gov
END:VEVENT
END:VCALENDAR