BEGIN:VCALENDAR
VERSION:2.0
PRODID:-//News from Native California - ECPv6.15.18//NONSGML v1.0//EN
CALSCALE:GREGORIAN
METHOD:PUBLISH
X-WR-CALNAME:News from Native California
X-ORIGINAL-URL:https://newsfromnativecalifornia.com
X-WR-CALDESC:Events for News from Native California
REFRESH-INTERVAL;VALUE=DURATION:PT1H
X-Robots-Tag:noindex
X-PUBLISHED-TTL:PT1H
BEGIN:VTIMEZONE
TZID:America/Los_Angeles
BEGIN:DAYLIGHT
TZOFFSETFROM:-0800
TZOFFSETTO:-0700
TZNAME:PDT
DTSTART:20250309T100000
END:DAYLIGHT
BEGIN:STANDARD
TZOFFSETFROM:-0700
TZOFFSETTO:-0800
TZNAME:PST
DTSTART:20251102T090000
END:STANDARD
BEGIN:DAYLIGHT
TZOFFSETFROM:-0800
TZOFFSETTO:-0700
TZNAME:PDT
DTSTART:20260308T100000
END:DAYLIGHT
BEGIN:STANDARD
TZOFFSETFROM:-0700
TZOFFSETTO:-0800
TZNAME:PST
DTSTART:20261101T090000
END:STANDARD
BEGIN:DAYLIGHT
TZOFFSETFROM:-0800
TZOFFSETTO:-0700
TZNAME:PDT
DTSTART:20270314T100000
END:DAYLIGHT
BEGIN:STANDARD
TZOFFSETFROM:-0700
TZOFFSETTO:-0800
TZNAME:PST
DTSTART:20271107T090000
END:STANDARD
END:VTIMEZONE
BEGIN:VEVENT
DTSTART;TZID=America/Los_Angeles:20260422T160000
DTEND;TZID=America/Los_Angeles:20260422T190000
DTSTAMP:20260421T075841
CREATED:20260416T182400Z
LAST-MODIFIED:20260416T182452Z
UID:17965-1776873600-1776884400@newsfromnativecalifornia.com
SUMMARY:Mother's Day Gift Making
DESCRIPTION:Celebrate Mother’s Day in a meaningful way Join UAII for a special hands-on workshop led by Navajo artist Bríghid Pulskamp\, where participants will learn about Juniper Necklace stories\, cultural teachings\, and create a heartfelt gift to honor the mothers and women in their lives.This is more than a workshop\, it is a space to connect through culture\, creativity\, and community in LA.Date: April 22Time: 4PM–7PMLocation: Cerritos College\, Room CE-311110 Alondra Blvd\, Cerritos\, CA 90650Parking pass must be purchased at kioskRSVP required: sevengsrsvp@uaii.orgCome create something meaningful and celebrate the women who raised us\, guide us\, and continue to show up for us every day!
URL:https://newsfromnativecalifornia.com/event/mothers-day-gift-making/
LOCATION:Cerritos College Room CE-3\, 11110 Alondra Blvd\, Cerritos\, CA\, 90650\, United States
CATEGORIES:Workshop
ORGANIZER;CN="United American Indian Involvement":MAILTO:vedwards@uaii.org
END:VEVENT
END:VCALENDAR