BEGIN:VCALENDAR
VERSION:2.0
PRODID:-//News from Native California - ECPv6.15.18//NONSGML v1.0//EN
CALSCALE:GREGORIAN
METHOD:PUBLISH
X-ORIGINAL-URL:https://newsfromnativecalifornia.com
X-WR-CALDESC:Events for News from Native California
REFRESH-INTERVAL;VALUE=DURATION:PT1H
X-Robots-Tag:noindex
X-PUBLISHED-TTL:PT1H
BEGIN:VTIMEZONE
TZID:America/Los_Angeles
BEGIN:DAYLIGHT
TZOFFSETFROM:-0800
TZOFFSETTO:-0700
TZNAME:PDT
DTSTART:20240310T100000
END:DAYLIGHT
BEGIN:STANDARD
TZOFFSETFROM:-0700
TZOFFSETTO:-0800
TZNAME:PST
DTSTART:20241103T090000
END:STANDARD
BEGIN:DAYLIGHT
TZOFFSETFROM:-0800
TZOFFSETTO:-0700
TZNAME:PDT
DTSTART:20250309T100000
END:DAYLIGHT
BEGIN:STANDARD
TZOFFSETFROM:-0700
TZOFFSETTO:-0800
TZNAME:PST
DTSTART:20251102T090000
END:STANDARD
BEGIN:DAYLIGHT
TZOFFSETFROM:-0800
TZOFFSETTO:-0700
TZNAME:PDT
DTSTART:20260308T100000
END:DAYLIGHT
BEGIN:STANDARD
TZOFFSETFROM:-0700
TZOFFSETTO:-0800
TZNAME:PST
DTSTART:20261101T090000
END:STANDARD
END:VTIMEZONE
BEGIN:VEVENT
DTSTART;VALUE=DATE:20250810
DTEND;VALUE=DATE:20250813
DTSTAMP:20260419T210018
CREATED:20250702T194039Z
LAST-MODIFIED:20250804T165130Z
UID:17155-1754784000-1755043199@newsfromnativecalifornia.com
SUMMARY:Live Your Language Alliance (LYLA) 2025 Conference
DESCRIPTION:The Live Your Language Alliance (LYLA) was formed in 2007 by local Native Language Revitalization Teachers because there is a need to share resources\, network with other language teachers\, and offer support opportunities for language revitalization. LYLA provides Native language revitalization training and support to the tribes located in Humboldt and Del Norte counties in Northern California. The summation of LYLA results in community gatherings that historically convened in a bi-annual conference.  This is the first in person gathering since 2019. \nSunday\, August 10 – Dinner and Cultural Share 5:00 PM – 7:30 PM \nMonday\, August 11 – Conference Day 9:00 AM – 5:00 PM \nTuesday\, August 12 – Conference Day 9:00 AM – 5:00 PM \nRegister here: https://forms.office.com/Pages/ResponsePage.aspx?id=_-2QjHIKp0OVaD6yizyPgmq_CcnqCdRPrGIMM1KwgRtUMkxLNDlEODJIVVMxTFcwQ05VUTNZTlhLQS4u&origin=QRCode
URL:https://newsfromnativecalifornia.com/event/live-your-language-alliance-lyla-2025-conference/
LOCATION:College of the Redwoods\, 7351 Tompkins Hill\, Eureka\, CA\, 95501
CATEGORIES:Community,Conference,Education,Elders,Save the date,Symposium,Wellness,Youth
ATTACH;FMTTYPE=image/jpeg:https://newsfromnativecalifornia.com/wp-content/uploads/2025/07/lyla.jpg
END:VEVENT
BEGIN:VEVENT
DTSTART;VALUE=DATE:20250813
DTEND;VALUE=DATE:20250815
DTSTAMP:20260419T210018
CREATED:20250804T170340Z
LAST-MODIFIED:20250804T170340Z
UID:17333-1755043200-1755215999@newsfromnativecalifornia.com
SUMMARY:CRILI College of the Redwoods Indigenous Language Institute
DESCRIPTION:CRILI\nThe College of the Redwoods Indigenous Language Institute is a new effort by College of the Redwoods to meet the needs of local language communities in their efforts to increase language resources\, such as\, curriculum development\, learning teaching methods\, learning language methods\, language material development\, and language planning. \nRegister here: https://forms.office.com/Pages/ResponsePage.aspx?id=_-2QjHIKp0OVaD6yizyPgmq_CcnqCdRPrGIMM1KwgRtUMkxLNDlEODJIVVMxTFcwQ05VUTNZTlhLQS4u&origin=QRCode
URL:https://newsfromnativecalifornia.com/event/crili-college-of-the-redwoods-indigenous-language-institute/
LOCATION:College of the Redwoods\, 7351 Tompkins Hill\, Eureka\, CA\, 95501
CATEGORIES:Community,Education,Elders,Youth
ATTACH;FMTTYPE=image/png:https://newsfromnativecalifornia.com/wp-content/uploads/2025/08/crili.png
END:VEVENT
END:VCALENDAR