BEGIN:VCALENDAR
VERSION:2.0
PRODID:-//News from Native California - ECPv6.15.18//NONSGML v1.0//EN
CALSCALE:GREGORIAN
METHOD:PUBLISH
X-ORIGINAL-URL:https://newsfromnativecalifornia.com
X-WR-CALDESC:Events for News from Native California
REFRESH-INTERVAL;VALUE=DURATION:PT1H
X-Robots-Tag:noindex
X-PUBLISHED-TTL:PT1H
BEGIN:VTIMEZONE
TZID:America/Los_Angeles
BEGIN:DAYLIGHT
TZOFFSETFROM:-0800
TZOFFSETTO:-0700
TZNAME:PDT
DTSTART:20240310T100000
END:DAYLIGHT
BEGIN:STANDARD
TZOFFSETFROM:-0700
TZOFFSETTO:-0800
TZNAME:PST
DTSTART:20241103T090000
END:STANDARD
BEGIN:DAYLIGHT
TZOFFSETFROM:-0800
TZOFFSETTO:-0700
TZNAME:PDT
DTSTART:20250309T100000
END:DAYLIGHT
BEGIN:STANDARD
TZOFFSETFROM:-0700
TZOFFSETTO:-0800
TZNAME:PST
DTSTART:20251102T090000
END:STANDARD
BEGIN:DAYLIGHT
TZOFFSETFROM:-0800
TZOFFSETTO:-0700
TZNAME:PDT
DTSTART:20260308T100000
END:DAYLIGHT
BEGIN:STANDARD
TZOFFSETFROM:-0700
TZOFFSETTO:-0800
TZNAME:PST
DTSTART:20261101T090000
END:STANDARD
END:VTIMEZONE
BEGIN:VEVENT
DTSTART;TZID=America/Los_Angeles:20250812T100000
DTEND;TZID=America/Los_Angeles:20250812T123000
DTSTAMP:20260422T070659
CREATED:20250604T030033Z
LAST-MODIFIED:20250604T030033Z
UID:17070-1754992800-1755001800@newsfromnativecalifornia.com
SUMMARY:Going Beyond Land Acknowledgements Workshop!
DESCRIPTION:Have you ever felt stuck when trying to build relationships with tribes? Do you recognize the importance of Indigenous land stewardship but struggle to know where to start? \nAre you ready to move beyond performative gestures and take real steps toward meaningful partnerships with Native communities? \nJoin Rose Hammock (Pomo\, Wailacki\, Maidu) and Sheridan Noelani Enomoto (Kanaka Maoli) of Redbud Resource Group for an interactive 2.5 hour workshop for individuals seeking to grow their allyship with Native peoples. Participants learn about the strengths and limitations of land acknowledgements and explore concrete\, action-oriented strategies for building connections with Native communities and organizations. \nRegister here: https://www.redbudresourcegroup.org/event-details/masterclass-going-beyond-land-acknowledgements-august-12th-2025
URL:https://newsfromnativecalifornia.com/event/going-beyond-land-acknowledgements-workshop/
LOCATION:Zoom
CATEGORIES:Education,Online Event,Speaker,Talk,Virtual,Workshop
ATTACH;FMTTYPE=image/jpeg:https://newsfromnativecalifornia.com/wp-content/uploads/2025/06/unnamed-19.jpg
ORGANIZER;CN="Redbud Resource Group":MAILTO:​​info@redbudresourcegroup.org
END:VEVENT
END:VCALENDAR