BEGIN:VCALENDAR
VERSION:2.0
PRODID:-//News from Native California - ECPv6.15.18//NONSGML v1.0//EN
CALSCALE:GREGORIAN
METHOD:PUBLISH
X-ORIGINAL-URL:https://newsfromnativecalifornia.com
X-WR-CALDESC:Events for News from Native California
REFRESH-INTERVAL;VALUE=DURATION:PT1H
X-Robots-Tag:noindex
X-PUBLISHED-TTL:PT1H
BEGIN:VTIMEZONE
TZID:America/Los_Angeles
BEGIN:DAYLIGHT
TZOFFSETFROM:-0800
TZOFFSETTO:-0700
TZNAME:PDT
DTSTART:20240310T100000
END:DAYLIGHT
BEGIN:STANDARD
TZOFFSETFROM:-0700
TZOFFSETTO:-0800
TZNAME:PST
DTSTART:20241103T090000
END:STANDARD
BEGIN:DAYLIGHT
TZOFFSETFROM:-0800
TZOFFSETTO:-0700
TZNAME:PDT
DTSTART:20250309T100000
END:DAYLIGHT
BEGIN:STANDARD
TZOFFSETFROM:-0700
TZOFFSETTO:-0800
TZNAME:PST
DTSTART:20251102T090000
END:STANDARD
BEGIN:DAYLIGHT
TZOFFSETFROM:-0800
TZOFFSETTO:-0700
TZNAME:PDT
DTSTART:20260308T100000
END:DAYLIGHT
BEGIN:STANDARD
TZOFFSETFROM:-0700
TZOFFSETTO:-0800
TZNAME:PST
DTSTART:20261101T090000
END:STANDARD
END:VTIMEZONE
BEGIN:VEVENT
DTSTART;VALUE=DATE:20250711
DTEND;VALUE=DATE:20250713
DTSTAMP:20260419T095305
CREATED:20250708T213331Z
LAST-MODIFIED:20250708T213331Z
UID:17243-1752192000-1752364799@newsfromnativecalifornia.com
SUMMARY:Doll Dress Creation Workshop - Orleans
DESCRIPTION:Join the tribe for a Hands-On Doll Dress Creation Workshop! \nExplore regalia-making techniques at their Youth & Family Activities Program’s Doll Dress Creation Workshop. Particpants will learn how to craft miniature ceremonial or bark dresses\, shawls\, and necklaces using natural materials like dentalium\, abalone shell\, bear grass\, and more. \nWorkshops will be held in Orleans on July 11-12 and in Happy Camp on July 25-26. Limited to 10 doll projects per location. Open to all ages and all skill levels. Sign up today or reserve your spot here: https://docs.google.com/forms/u/1/d/e/1FAIpQLSe9st7KNqEagz9NKWDSWqVz7DUd5f_MfzwFTouhArCVD5kL9w/viewform \nFor more information contact Florrine Super: florrinesuper@karuk.us or call 530-598-0768
URL:https://newsfromnativecalifornia.com/event/doll-dress-creation-workshop-orleans/
LOCATION:Orleans Council Chambers\, 37813 Hwy 96\, Orleans\, CA
CATEGORIES:Community,Cultural Demonstrations,Native Arts,Workshop,Youth
ATTACH;FMTTYPE=image/jpeg:https://newsfromnativecalifornia.com/wp-content/uploads/2025/07/IMG_7370.jpg
END:VEVENT
BEGIN:VEVENT
DTSTART;VALUE=DATE:20250725
DTEND;VALUE=DATE:20250727
DTSTAMP:20260419T095305
CREATED:20250708T214009Z
LAST-MODIFIED:20250708T214009Z
UID:17245-1753401600-1753574399@newsfromnativecalifornia.com
SUMMARY:Doll Dress Creation Workshop - Happy Camp
DESCRIPTION:Join the tribe for a Hands-On Doll Dress Creation Workshop! \nExplore regalia-making techniques at their Youth & Family Activities Program’s Doll Dress Creation Workshop. Particpants will learn how to craft miniature ceremonial or bark dresses\, shawls\, and necklaces using natural materials like dentalium\, abalone shell\, bear grass\, and more. \nWorkshops will be held in Happy Camp: \n\nJuly 25\, 4 pm-9 pm\nJuly 26\, 10 am-4 pm\n\nLimited to 10 doll projects per location. Open to all ages and all skill levels. Sign up today or reserve your spot here: https://docs.google.com/forms/u/1/d/e/1FAIpQLSe9st7KNqEagz9NKWDSWqVz7DUd5f_MfzwFTouhArCVD5kL9w/viewform \nFor more information contact Florrine Super: florrinesuper@karuk.us or call 530-598-0768
URL:https://newsfromnativecalifornia.com/event/doll-dress-creation-workshop-happy-camp/
LOCATION:Happy Camp Wellness Center\, 64236 2nd Ave\, Happy Camp\, CA
CATEGORIES:Community,Native Arts,Workshop,Youth
ATTACH;FMTTYPE=image/jpeg:https://newsfromnativecalifornia.com/wp-content/uploads/2025/07/IMG_7370.jpg
END:VEVENT
END:VCALENDAR