BEGIN:VCALENDAR
VERSION:2.0
PRODID:-//News from Native California - ECPv6.15.18//NONSGML v1.0//EN
CALSCALE:GREGORIAN
METHOD:PUBLISH
X-ORIGINAL-URL:https://newsfromnativecalifornia.com
X-WR-CALDESC:Events for News from Native California
REFRESH-INTERVAL;VALUE=DURATION:PT1H
X-Robots-Tag:noindex
X-PUBLISHED-TTL:PT1H
BEGIN:VTIMEZONE
TZID:America/Los_Angeles
BEGIN:DAYLIGHT
TZOFFSETFROM:-0800
TZOFFSETTO:-0700
TZNAME:PDT
DTSTART:20230312T100000
END:DAYLIGHT
BEGIN:STANDARD
TZOFFSETFROM:-0700
TZOFFSETTO:-0800
TZNAME:PST
DTSTART:20231105T090000
END:STANDARD
BEGIN:DAYLIGHT
TZOFFSETFROM:-0800
TZOFFSETTO:-0700
TZNAME:PDT
DTSTART:20240310T100000
END:DAYLIGHT
BEGIN:STANDARD
TZOFFSETFROM:-0700
TZOFFSETTO:-0800
TZNAME:PST
DTSTART:20241103T090000
END:STANDARD
BEGIN:DAYLIGHT
TZOFFSETFROM:-0800
TZOFFSETTO:-0700
TZNAME:PDT
DTSTART:20250309T100000
END:DAYLIGHT
BEGIN:STANDARD
TZOFFSETFROM:-0700
TZOFFSETTO:-0800
TZNAME:PST
DTSTART:20251102T090000
END:STANDARD
END:VTIMEZONE
BEGIN:VEVENT
DTSTART;TZID=America/Los_Angeles:20241102T130000
DTEND;TZID=America/Los_Angeles:20241102T150000
DTSTAMP:20260423T113226
CREATED:20241017T172321Z
LAST-MODIFIED:20241017T172321Z
UID:15460-1730552400-1730559600@newsfromnativecalifornia.com
SUMMARY:Intrinsic: Belonging to the Land - Artist's Talk & Reception
DESCRIPTION:The exhibit Intrinsic: Belonging to the Land serves as a celebration of Native resistance and cultural resilience. The showcased artists provide a glimpse into the vast tapestry of Native America. They were selected for their ability to bridge cultural traditions with contemporary innovation\, reflecting an unbroken connection to their cultural heritage while embracing bold\, contemporary forms. This movement is not a linear departure from history; rather\, it is a cyclical journey that maintains continuous ties with Native roots. Intrinsic: Belonging to the Land embodies this enduring spirit. \nArtistis: Dr. Eric Tippeconnic (Comanche Nation)\, Monica Zavala (Tongva & Acjachemen)\, Lanise Luna (Pala Band of Mission Indians & Mescalero Apache)\, Kawish Trujillo (Kuupangaxwichem & Aha Makav)\, and Dr. Rodney Haring (Seneca Nation) \nExhibit Open: October 11th – November 24th 2024 \nArtist’s Talk & Reception: Saturday November 2nd\, 1-3 pm. 
URL:https://newsfromnativecalifornia.com/event/intrinsic-belonging-to-the-land-artists-talk-reception/
LOCATION:Sasse Museum of Art\, 300 South Thomas St.\, Pomona\, California\, 91766
CATEGORIES:Artist Talk,Exhibit,Native Arts
ATTACH;FMTTYPE=image/png:https://newsfromnativecalifornia.com/wp-content/uploads/2024/10/Screen-Shot-2024-10-17-at-9.43.29-AM.png
END:VEVENT
END:VCALENDAR