BEGIN:VCALENDAR
VERSION:2.0
PRODID:-//News from Native California - ECPv6.15.18//NONSGML v1.0//EN
CALSCALE:GREGORIAN
METHOD:PUBLISH
X-WR-CALNAME:News from Native California
X-ORIGINAL-URL:https://newsfromnativecalifornia.com
X-WR-CALDESC:Events for News from Native California
REFRESH-INTERVAL;VALUE=DURATION:PT1H
X-Robots-Tag:noindex
X-PUBLISHED-TTL:PT1H
BEGIN:VTIMEZONE
TZID:America/Los_Angeles
BEGIN:DAYLIGHT
TZOFFSETFROM:-0800
TZOFFSETTO:-0700
TZNAME:PDT
DTSTART:20240310T100000
END:DAYLIGHT
BEGIN:STANDARD
TZOFFSETFROM:-0700
TZOFFSETTO:-0800
TZNAME:PST
DTSTART:20241103T090000
END:STANDARD
BEGIN:DAYLIGHT
TZOFFSETFROM:-0800
TZOFFSETTO:-0700
TZNAME:PDT
DTSTART:20250309T100000
END:DAYLIGHT
BEGIN:STANDARD
TZOFFSETFROM:-0700
TZOFFSETTO:-0800
TZNAME:PST
DTSTART:20251102T090000
END:STANDARD
BEGIN:DAYLIGHT
TZOFFSETFROM:-0800
TZOFFSETTO:-0700
TZNAME:PDT
DTSTART:20260308T100000
END:DAYLIGHT
BEGIN:STANDARD
TZOFFSETFROM:-0700
TZOFFSETTO:-0800
TZNAME:PST
DTSTART:20261101T090000
END:STANDARD
END:VTIMEZONE
BEGIN:VEVENT
DTSTART;TZID=America/Los_Angeles:20250911T180000
DTEND;TZID=America/Los_Angeles:20250911T200000
DTSTAMP:20260419T081731
CREATED:20250906T163811Z
LAST-MODIFIED:20250906T163811Z
UID:17432-1757613600-1757620800@newsfromnativecalifornia.com
SUMMARY:Sycuan Fashion Show
DESCRIPTION:The Sycuan Band of the Kumeyaay Nation will host the 2025 Sycuan Fashion Show. The theme this year is “Original Land Protectors\,” which honors the profound generational wisdom and knowledge connected to Mother Earth. The fashion industry provides a space to showcase Native American talent and reaffirms its commitment to restoring and safeguarding sacred lands. The show showcases 12 designers: Mart Daglio\, James Star Comes Out\, Katrina and Star Her Many Horses\, Fawn Meshake\, Justine Gustafson\, Homeland\, Alice Phelps & Ashley Garcia\, Rosine Tree\, 3 Feathers\, Shoshini Hostler\, Paipa\, and House of Birds. This event is for individuals 21 and above\, and the designs will be available for sale at the end of the show. For more information\, visit their Instagram page at @SYCUANFASHIONSHOW.
URL:https://newsfromnativecalifornia.com/event/sycuan-fashion-show/
LOCATION:Sycuan Casino\, 5469 Casino Way\, El Cajon\, CA\, 92019\, United States
CATEGORIES:Fashion Show
ATTACH;FMTTYPE=image/png:https://newsfromnativecalifornia.com/wp-content/uploads/2025/09/unnamed-2.png
END:VEVENT
END:VCALENDAR