BEGIN:VCALENDAR
VERSION:2.0
PRODID:-//News from Native California - ECPv6.15.18//NONSGML v1.0//EN
CALSCALE:GREGORIAN
METHOD:PUBLISH
X-ORIGINAL-URL:https://newsfromnativecalifornia.com
X-WR-CALDESC:Events for News from Native California
REFRESH-INTERVAL;VALUE=DURATION:PT1H
X-Robots-Tag:noindex
X-PUBLISHED-TTL:PT1H
BEGIN:VTIMEZONE
TZID:America/Los_Angeles
BEGIN:DAYLIGHT
TZOFFSETFROM:-0800
TZOFFSETTO:-0700
TZNAME:PDT
DTSTART:20250309T100000
END:DAYLIGHT
BEGIN:STANDARD
TZOFFSETFROM:-0700
TZOFFSETTO:-0800
TZNAME:PST
DTSTART:20251102T090000
END:STANDARD
BEGIN:DAYLIGHT
TZOFFSETFROM:-0800
TZOFFSETTO:-0700
TZNAME:PDT
DTSTART:20260308T100000
END:DAYLIGHT
BEGIN:STANDARD
TZOFFSETFROM:-0700
TZOFFSETTO:-0800
TZNAME:PST
DTSTART:20261101T090000
END:STANDARD
BEGIN:DAYLIGHT
TZOFFSETFROM:-0800
TZOFFSETTO:-0700
TZNAME:PDT
DTSTART:20270314T100000
END:DAYLIGHT
BEGIN:STANDARD
TZOFFSETFROM:-0700
TZOFFSETTO:-0800
TZNAME:PST
DTSTART:20271107T090000
END:STANDARD
END:VTIMEZONE
BEGIN:VEVENT
DTSTART;VALUE=DATE:20260423
DTEND;VALUE=DATE:20260425
DTSTAMP:20260421T224654
CREATED:20260420T165641Z
LAST-MODIFIED:20260420T165641Z
UID:17987-1776902400-1777075199@newsfromnativecalifornia.com
SUMMARY:A Walk With Yaamay
DESCRIPTION:A free guided art walk at Grape Day Park led by Native artists. Experience live poetry\, music\, and immersive storytelling inspired by San Diego’s natural landscapes. \nApril 23 and 24\n10 AM to 12 PM\nGrape Day Park\, Escondido\nFree admission \nFeaturing Jessa Calderon\, Alexis Munoa Dyer\, and Matthew Alvarado\, with a live bird singer on April 23. \nFeaturing Jovanny Perez\, Camaray Davalos\, and Juan A. Reynoso on April 24. \nReserve your spot: artcenter.org \nPart of Arts\, Culture and Creativity Month in Escondido.
URL:https://newsfromnativecalifornia.com/event/a-walk-with-yaamay/
LOCATION:Grape Day Park\, 321 N Broadway\, Escondido\, California\, 92025
CATEGORIES:Walk
ORGANIZER;CN="The Queer Sol Collective":MAILTO:thequeersolcollective@gmail.com
END:VEVENT
END:VCALENDAR