BEGIN:VCALENDAR
VERSION:2.0
PRODID:-//News from Native California - ECPv6.15.18//NONSGML v1.0//EN
CALSCALE:GREGORIAN
METHOD:PUBLISH
X-WR-CALNAME:News from Native California
X-ORIGINAL-URL:https://newsfromnativecalifornia.com
X-WR-CALDESC:Events for News from Native California
REFRESH-INTERVAL;VALUE=DURATION:PT1H
X-Robots-Tag:noindex
X-PUBLISHED-TTL:PT1H
BEGIN:VTIMEZONE
TZID:America/Los_Angeles
BEGIN:DAYLIGHT
TZOFFSETFROM:-0800
TZOFFSETTO:-0700
TZNAME:PDT
DTSTART:20240310T100000
END:DAYLIGHT
BEGIN:STANDARD
TZOFFSETFROM:-0700
TZOFFSETTO:-0800
TZNAME:PST
DTSTART:20241103T090000
END:STANDARD
BEGIN:DAYLIGHT
TZOFFSETFROM:-0800
TZOFFSETTO:-0700
TZNAME:PDT
DTSTART:20250309T100000
END:DAYLIGHT
BEGIN:STANDARD
TZOFFSETFROM:-0700
TZOFFSETTO:-0800
TZNAME:PST
DTSTART:20251102T090000
END:STANDARD
BEGIN:DAYLIGHT
TZOFFSETFROM:-0800
TZOFFSETTO:-0700
TZNAME:PDT
DTSTART:20260308T100000
END:DAYLIGHT
BEGIN:STANDARD
TZOFFSETFROM:-0700
TZOFFSETTO:-0800
TZNAME:PST
DTSTART:20261101T090000
END:STANDARD
END:VTIMEZONE
BEGIN:VEVENT
DTSTART;VALUE=DATE:20251202
DTEND;VALUE=DATE:20251203
DTSTAMP:20260422T225837
CREATED:20251118T184549Z
LAST-MODIFIED:20251118T184549Z
UID:17604-1764633600-1764719999@newsfromnativecalifornia.com
SUMMARY:Indigenous Truthtelling Symposium and Art Exhibit
DESCRIPTION:The California Center for Native Nations (CCNN)\, in collaboration with the Department of Media and Cultural Studies (MCS)\, invites you to the Indigenous Truthtelling Symposium & Art Exhibit. This one-day gathering honors artists\, poets\, writers\, scholars\, and journalists who dedicate their lives to truth-telling in the face of ongoing violence. The exhibit features an original installation by CCNN artist-in-residence Weshoyot Alvitre\, a Tongva-Scottish artist whose work reflects Indigenous legacies of resistance to displacement and erasure\, alongside mosaic portraits and sculptures honoring truth-tellers such as Bisan Owda\, Shireen Abu Akleh\, and Dr. Refaat Alareer\, whose poem “If I Must Die” will appear in multiple languages. \n  \nRSVP at https://docs.google.com/forms/d/e/1FAIpQLSdNClz4cQCAl5D1G-yY2HnG2_EjjDCrFDJ7fpkgwMBgqCjRQg/viewform
URL:https://newsfromnativecalifornia.com/event/indigenous-truthtelling-symposium-and-art-exhibit/
LOCATION:UC Riverside\, 900 University Ave.\, Riverside\, CA\, 92521\, United States
CATEGORIES:Exhibit,Exhibition,Symposium
ATTACH;FMTTYPE=image/png:https://newsfromnativecalifornia.com/wp-content/uploads/2025/11/Main-Flyer-1.png
END:VEVENT
END:VCALENDAR