BEGIN:VCALENDAR
VERSION:2.0
PRODID:-//News from Native California - ECPv6.15.18//NONSGML v1.0//EN
CALSCALE:GREGORIAN
METHOD:PUBLISH
X-WR-CALNAME:News from Native California
X-ORIGINAL-URL:https://newsfromnativecalifornia.com
X-WR-CALDESC:Events for News from Native California
REFRESH-INTERVAL;VALUE=DURATION:PT1H
X-Robots-Tag:noindex
X-PUBLISHED-TTL:PT1H
BEGIN:VTIMEZONE
TZID:America/Los_Angeles
BEGIN:DAYLIGHT
TZOFFSETFROM:-0800
TZOFFSETTO:-0700
TZNAME:PDT
DTSTART:20240310T100000
END:DAYLIGHT
BEGIN:STANDARD
TZOFFSETFROM:-0700
TZOFFSETTO:-0800
TZNAME:PST
DTSTART:20241103T090000
END:STANDARD
BEGIN:DAYLIGHT
TZOFFSETFROM:-0800
TZOFFSETTO:-0700
TZNAME:PDT
DTSTART:20250309T100000
END:DAYLIGHT
BEGIN:STANDARD
TZOFFSETFROM:-0700
TZOFFSETTO:-0800
TZNAME:PST
DTSTART:20251102T090000
END:STANDARD
BEGIN:DAYLIGHT
TZOFFSETFROM:-0800
TZOFFSETTO:-0700
TZNAME:PDT
DTSTART:20260308T100000
END:DAYLIGHT
BEGIN:STANDARD
TZOFFSETFROM:-0700
TZOFFSETTO:-0800
TZNAME:PST
DTSTART:20261101T090000
END:STANDARD
END:VTIMEZONE
BEGIN:VEVENT
DTSTART;TZID=America/Los_Angeles:20251123T173000
DTEND;TZID=America/Los_Angeles:20251123T210000
DTSTAMP:20260420T233631
CREATED:20251109T040549Z
LAST-MODIFIED:20251109T040549Z
UID:17588-1763919000-1763931600@newsfromnativecalifornia.com
SUMMARY:Thangs Taken: Rethinking Thanksgiving
DESCRIPTION:Thangs Taken: Rethinking Thanksgiving 2025 \nNow in its 18th year\, Thangs Taken continues to challenge and reshape the colonial “thanksgiving” narrative by centering Native resistance\, rematriation\, and collective healing through art\, music\, dance\, ancestral knowledge\, and storytelling. \nGuided by Indigenous organizers\, this annual gathering is both medicine and movement\, creating space for truth-telling\, reflection\, and solidarity. \nSliding scale tickets $15–$60 are on sale now! This event sells out every year\, get yours early at Lapena.info/ThangsTaken. \nSunday\, November 23\, 2025 | 5:30-9 PM \nHuchiun\, Berkeley\, CA\n@lapenaculturalcenter
URL:https://newsfromnativecalifornia.com/event/thangs-taken-rethinking-thanksgiving/
LOCATION:La Pena Cultural Center\, 3105 Shattuck Ave.\, Berkeley\, CA\, United States
CATEGORIES:Community,Gathering,Native Arts
ATTACH;FMTTYPE=image/jpeg:https://newsfromnativecalifornia.com/wp-content/uploads/2025/11/Square-Thangstaken-2025.jpg
END:VEVENT
END:VCALENDAR