BEGIN:VCALENDAR
VERSION:2.0
PRODID:-//News from Native California - ECPv6.15.18//NONSGML v1.0//EN
CALSCALE:GREGORIAN
METHOD:PUBLISH
X-ORIGINAL-URL:https://newsfromnativecalifornia.com
X-WR-CALDESC:Events for News from Native California
REFRESH-INTERVAL;VALUE=DURATION:PT1H
X-Robots-Tag:noindex
X-PUBLISHED-TTL:PT1H
BEGIN:VTIMEZONE
TZID:America/Los_Angeles
BEGIN:DAYLIGHT
TZOFFSETFROM:-0800
TZOFFSETTO:-0700
TZNAME:PDT
DTSTART:20230312T100000
END:DAYLIGHT
BEGIN:STANDARD
TZOFFSETFROM:-0700
TZOFFSETTO:-0800
TZNAME:PST
DTSTART:20231105T090000
END:STANDARD
BEGIN:DAYLIGHT
TZOFFSETFROM:-0800
TZOFFSETTO:-0700
TZNAME:PDT
DTSTART:20240310T100000
END:DAYLIGHT
BEGIN:STANDARD
TZOFFSETFROM:-0700
TZOFFSETTO:-0800
TZNAME:PST
DTSTART:20241103T090000
END:STANDARD
BEGIN:DAYLIGHT
TZOFFSETFROM:-0800
TZOFFSETTO:-0700
TZNAME:PDT
DTSTART:20250309T100000
END:DAYLIGHT
BEGIN:STANDARD
TZOFFSETFROM:-0700
TZOFFSETTO:-0800
TZNAME:PST
DTSTART:20251102T090000
END:STANDARD
END:VTIMEZONE
BEGIN:VEVENT
DTSTART;TZID=America/Los_Angeles:20241012T140000
DTEND;TZID=America/Los_Angeles:20241012T180000
DTSTAMP:20260424T112745
CREATED:20241007T174448Z
LAST-MODIFIED:20241007T174448Z
UID:15319-1728741600-1728756000@newsfromnativecalifornia.com
SUMMARY:The Chapter House Indigenous Peoples' Day Party
DESCRIPTION:October 12\, 2024\n2:00 p.m. – 6:00 p.m.\nFree parking for first 400 cars \nAngelenos can shop at a vibrant marketplace on Jerry Moss Plaza at The Music Center\, connect to local Indigenous-serving resource groups\, participate in artist-led workshops and storysharing and view visual artwork and live performances featuring the rich cultural heritage and contemporary expressions of Indigenous communities. \nPerformances By: Emcee & DJ Val the Vandal\, Navajo country band Dirt Rhodes\, and Hale & Company Drum Group \nMarketplace Vendors: Neon Navajo\, Joolie Fiveash\, Tekenya Sanchez\, and Lauren Nicole Creations \nArt Workshops: Coloring with Blue Bird Flour design outlines with The Chapter House\, stencil-making with Ernesto Yerena and block printing workshop with Meztli Projects \nVisual Artwork By: Mercedes Dorame \nCommunity Organizations: California Native Vote Project\, The Chapter House\, Indigenous Circle of Wellness\, Sacred Path Indigenous Wellness Center\, So’oh-Shinálí Sister Project\, CIELO\, L.A. County Library American Indian Resource Center\, Native Ways to College \nFood Offerings: Cuisine and Conversations with Chef Pyet DeSpain
URL:https://newsfromnativecalifornia.com/event/the-chapter-house-indigenous-peoples-day-party/
LOCATION:Jerry Moss Plaza at The Music Center\, 135 N Grand Ave\, Los Angeles\, California\, 90012
CATEGORIES:Artist Showcase,Artist Talk,Celebration,Community,Craft Fair,Cultural Demonstrations,Education,Expo,Musical Performance,Native Arts,Native Food Tasting,Performance,Youth
ATTACH;FMTTYPE=image/jpeg:https://newsfromnativecalifornia.com/wp-content/uploads/2024/10/indigenous-peoples-day-party.jpg
END:VEVENT
END:VCALENDAR