BEGIN:VCALENDAR
VERSION:2.0
PRODID:-//News from Native California - ECPv6.15.18//NONSGML v1.0//EN
CALSCALE:GREGORIAN
METHOD:PUBLISH
X-ORIGINAL-URL:https://newsfromnativecalifornia.com
X-WR-CALDESC:Events for News from Native California
REFRESH-INTERVAL;VALUE=DURATION:PT1H
X-Robots-Tag:noindex
X-PUBLISHED-TTL:PT1H
BEGIN:VTIMEZONE
TZID:America/Los_Angeles
BEGIN:DAYLIGHT
TZOFFSETFROM:-0800
TZOFFSETTO:-0700
TZNAME:PDT
DTSTART:20240310T100000
END:DAYLIGHT
BEGIN:STANDARD
TZOFFSETFROM:-0700
TZOFFSETTO:-0800
TZNAME:PST
DTSTART:20241103T090000
END:STANDARD
BEGIN:DAYLIGHT
TZOFFSETFROM:-0800
TZOFFSETTO:-0700
TZNAME:PDT
DTSTART:20250309T100000
END:DAYLIGHT
BEGIN:STANDARD
TZOFFSETFROM:-0700
TZOFFSETTO:-0800
TZNAME:PST
DTSTART:20251102T090000
END:STANDARD
BEGIN:DAYLIGHT
TZOFFSETFROM:-0800
TZOFFSETTO:-0700
TZNAME:PDT
DTSTART:20260308T100000
END:DAYLIGHT
BEGIN:STANDARD
TZOFFSETFROM:-0700
TZOFFSETTO:-0800
TZNAME:PST
DTSTART:20261101T090000
END:STANDARD
END:VTIMEZONE
BEGIN:VEVENT
DTSTART;VALUE=DATE:20250208
DTEND;VALUE=DATE:20250210
DTSTAMP:20260421T092845
CREATED:20250203T003721Z
LAST-MODIFIED:20250203T003721Z
UID:16362-1738972800-1739145599@newsfromnativecalifornia.com
SUMMARY:Learning Landscapes: Ninkičem Taxu’uniwettem
DESCRIPTION:Calling all CA Native sisters! The organization is dedicating a special Learning Landscapes to women interested in pathways into conservation\, TEK\, restoration\, advocacy and more! Whether you’re an emerging cultural educator or just interested to see and know about the exciting work women are doing in Indian Country\, this promises to be a weekend of friendship\, strengthening voices\, and resolves!\nMade possible with funding by the Coachella Valley Mountains Conservancy\, the organization is eager to uplift culture bearers who will be at the forefront of land management!\nRegister at www.nativeamericanland.org today!\nThere are a limited number scholarships available that cover accommodations and/or travel expenses for qualifying participants! \nTo apply or for more information please email: programs@nativeamericanland.org\n“Ninkičem Taxu’uniwettem” translates to ‘women who are masters and who teach.’ \nAčima to B Dodd for her time and expertise!
URL:https://newsfromnativecalifornia.com/event/learning-landscapes-ninkicem-taxuuniwettem/
LOCATION:Joshua Tree and Morongo Valley\, CA
CATEGORIES:Tending the Land,Workshop
ATTACH;FMTTYPE=image/png:https://newsfromnativecalifornia.com/wp-content/uploads/2025/02/learning-landscapes-nalc.png
END:VEVENT
END:VCALENDAR