BEGIN:VCALENDAR
VERSION:2.0
PRODID:-//News from Native California - ECPv6.15.18//NONSGML v1.0//EN
CALSCALE:GREGORIAN
METHOD:PUBLISH
X-ORIGINAL-URL:https://newsfromnativecalifornia.com
X-WR-CALDESC:Events for News from Native California
REFRESH-INTERVAL;VALUE=DURATION:PT1H
X-Robots-Tag:noindex
X-PUBLISHED-TTL:PT1H
BEGIN:VTIMEZONE
TZID:America/Los_Angeles
BEGIN:DAYLIGHT
TZOFFSETFROM:-0800
TZOFFSETTO:-0700
TZNAME:PDT
DTSTART:20240310T100000
END:DAYLIGHT
BEGIN:STANDARD
TZOFFSETFROM:-0700
TZOFFSETTO:-0800
TZNAME:PST
DTSTART:20241103T090000
END:STANDARD
BEGIN:DAYLIGHT
TZOFFSETFROM:-0800
TZOFFSETTO:-0700
TZNAME:PDT
DTSTART:20250309T100000
END:DAYLIGHT
BEGIN:STANDARD
TZOFFSETFROM:-0700
TZOFFSETTO:-0800
TZNAME:PST
DTSTART:20251102T090000
END:STANDARD
BEGIN:DAYLIGHT
TZOFFSETFROM:-0800
TZOFFSETTO:-0700
TZNAME:PDT
DTSTART:20260308T100000
END:DAYLIGHT
BEGIN:STANDARD
TZOFFSETFROM:-0700
TZOFFSETTO:-0800
TZNAME:PST
DTSTART:20261101T090000
END:STANDARD
END:VTIMEZONE
BEGIN:VEVENT
DTSTART;TZID=America/Los_Angeles:20250412T180000
DTEND;TZID=America/Los_Angeles:20250412T210000
DTSTAMP:20260424T145306
CREATED:20250331T220020Z
LAST-MODIFIED:20250331T220020Z
UID:16776-1744480800-1744491600@newsfromnativecalifornia.com
SUMMARY:Good Medicine: An Evening of Live Native Stand-Up
DESCRIPTION:TICKETS: $35–45 | YOUTH AGE 17 AND UNDER: $17 | CHICO STATE STUDENT: $17\nAfter selling out venues throughout the country\, the smash-hit\, all-Native comedy show\, Good Medicine\, comes to the Chico Performances for a one-night-stand of stand-up! Hosted and produced by comedian Jackie Keliiaa (Netflix) the showcase features the best and brightest Native comedians across North America. Founded in 2020\, Good Medicine was first launched as a virtual comedy show raising funds for tribes impacted by covid-19. Since the show’s humble beginnings on Keliiaa’s kitchen table\, Good Medicine has sold-out shows across the country and featured comedians hailing from over 30 tribal Nations who have been seen on Comedy Central\, Netflix\, ABC\, NBC\, FX and more!\nGood Medicine is more than a comedy show—it cultivates joy\, community\, and creates narrative change. “We believe that humor has the power to heal and build bridges of understanding across communities. And did I mention our shows are also really funny?\,” said Keliiaa\, “You won’t find any stoic Hollywood tropes in these sets; these comedians are using humor to define Native identity in our own words and on our own terms.” Don’t miss this nationally acclaimed showcase featuring fresh and diverse Native voices.\nJoin Chico Performances for a pre-performance Party on the Patio featuring food trucks\, beverages\, and live music. The fun starts at 6 PM\, see you there!\nLearn more about Good Medicine: An Evening of Live Native Stand-Up at https://www.chicoperformances.com/…/good-medicine.php\nChicoPerformances.com is the only authorized ticket seller for all Chico Performances events. Purchase directly and look carefully at the URL as we’ve seen an increase in activity by ticket resellers who charge higher than face value and may not deliver tickets.
URL:https://newsfromnativecalifornia.com/event/good-medicine-an-evening-of-live-native-stand-up/
LOCATION:Laxson Auditorium\, 400 W 1st St\, Chico\, California\, 95929
CATEGORIES:Comedy,Native Arts,Performance
ATTACH;FMTTYPE=image/jpeg:https://newsfromnativecalifornia.com/wp-content/uploads/2025/03/good-medicine.jpg
END:VEVENT
END:VCALENDAR