BEGIN:VCALENDAR
VERSION:2.0
PRODID:-//News from Native California - ECPv6.15.18//NONSGML v1.0//EN
CALSCALE:GREGORIAN
METHOD:PUBLISH
X-ORIGINAL-URL:https://newsfromnativecalifornia.com
X-WR-CALDESC:Events for News from Native California
REFRESH-INTERVAL;VALUE=DURATION:PT1H
X-Robots-Tag:noindex
X-PUBLISHED-TTL:PT1H
BEGIN:VTIMEZONE
TZID:America/Los_Angeles
BEGIN:DAYLIGHT
TZOFFSETFROM:-0800
TZOFFSETTO:-0700
TZNAME:PDT
DTSTART:20240310T100000
END:DAYLIGHT
BEGIN:STANDARD
TZOFFSETFROM:-0700
TZOFFSETTO:-0800
TZNAME:PST
DTSTART:20241103T090000
END:STANDARD
BEGIN:DAYLIGHT
TZOFFSETFROM:-0800
TZOFFSETTO:-0700
TZNAME:PDT
DTSTART:20250309T100000
END:DAYLIGHT
BEGIN:STANDARD
TZOFFSETFROM:-0700
TZOFFSETTO:-0800
TZNAME:PST
DTSTART:20251102T090000
END:STANDARD
BEGIN:DAYLIGHT
TZOFFSETFROM:-0800
TZOFFSETTO:-0700
TZNAME:PDT
DTSTART:20260308T100000
END:DAYLIGHT
BEGIN:STANDARD
TZOFFSETFROM:-0700
TZOFFSETTO:-0800
TZNAME:PST
DTSTART:20261101T090000
END:STANDARD
END:VTIMEZONE
BEGIN:VEVENT
DTSTART;TZID=America/Los_Angeles:20250504T100000
DTEND;TZID=America/Los_Angeles:20250504T140000
DTSTAMP:20260424T134150
CREATED:20250329T195336Z
LAST-MODIFIED:20250329T195336Z
UID:16768-1746352800-1746367200@newsfromnativecalifornia.com
SUMMARY:MMIP Awareness Walk
DESCRIPTION:MMIP Awareness Walk with the Pinoleville Pomo Nation. Open to the public. \nMay 4\, 2025 \nWalk starts at 10:00am at the Ukiah Fairgrounds (1055 N. State St. Ukiah\, Ca 95482) to Alex Thomas Plaza (20290 S. State St. Ukiah\, Ca 95482).
URL:https://newsfromnativecalifornia.com/event/mmip-awareness-walk/
LOCATION:Ukiah Fairgrounds
CATEGORIES:Community,Cultural Demonstrations,Day of action,Elders,MMIP,Walk,Wellness,Youth
ATTACH;FMTTYPE=image/jpeg:https://newsfromnativecalifornia.com/wp-content/uploads/2025/03/mmip-walk.jpg
ORGANIZER;CN="Pinoleville Pomo Nation":MAILTO:webmaster@pinoleville-nsn.gov
END:VEVENT
END:VCALENDAR