BEGIN:VCALENDAR
VERSION:2.0
PRODID:-//News from Native California - ECPv6.15.18//NONSGML v1.0//EN
CALSCALE:GREGORIAN
METHOD:PUBLISH
X-ORIGINAL-URL:https://newsfromnativecalifornia.com
X-WR-CALDESC:Events for News from Native California
REFRESH-INTERVAL;VALUE=DURATION:PT1H
X-Robots-Tag:noindex
X-PUBLISHED-TTL:PT1H
BEGIN:VTIMEZONE
TZID:America/Los_Angeles
BEGIN:DAYLIGHT
TZOFFSETFROM:-0800
TZOFFSETTO:-0700
TZNAME:PDT
DTSTART:20240310T100000
END:DAYLIGHT
BEGIN:STANDARD
TZOFFSETFROM:-0700
TZOFFSETTO:-0800
TZNAME:PST
DTSTART:20241103T090000
END:STANDARD
BEGIN:DAYLIGHT
TZOFFSETFROM:-0800
TZOFFSETTO:-0700
TZNAME:PDT
DTSTART:20250309T100000
END:DAYLIGHT
BEGIN:STANDARD
TZOFFSETFROM:-0700
TZOFFSETTO:-0800
TZNAME:PST
DTSTART:20251102T090000
END:STANDARD
BEGIN:DAYLIGHT
TZOFFSETFROM:-0800
TZOFFSETTO:-0700
TZNAME:PDT
DTSTART:20260308T100000
END:DAYLIGHT
BEGIN:STANDARD
TZOFFSETFROM:-0700
TZOFFSETTO:-0800
TZNAME:PST
DTSTART:20261101T090000
END:STANDARD
END:VTIMEZONE
BEGIN:VEVENT
DTSTART;VALUE=DATE:20250926
DTEND;VALUE=DATE:20250929
DTSTAMP:20260423T084949
CREATED:20250514T175518Z
LAST-MODIFIED:20250514T175518Z
UID:17007-1758844800-1759103999@newsfromnativecalifornia.com
SUMMARY:Morongo Powwow 2025 - Save the Date
DESCRIPTION:Save the Date for the Morongo Band of Mission Indians 2025 Thunder and Lightning Powwow! \nSeptember 26-28 \nThe tribe welcomes all to participate in this community event. Stay tuned for more details. \nFor inqueries\, contact: mlorenzo@morongo-nsn.gov
URL:https://newsfromnativecalifornia.com/event/morongo-powwow-2025-save-the-date/
LOCATION:Morongo Thunder and Lighting\, 49500 Seminole Dr.\, Cabazon\, California\, 92230
CATEGORIES:Community,Craft Fair,Elders,Powwow,Save the date,Youth
ATTACH;FMTTYPE=image/jpeg:https://newsfromnativecalifornia.com/wp-content/uploads/2025/05/morongo-powwow.jpg
END:VEVENT
END:VCALENDAR