BEGIN:VCALENDAR
VERSION:2.0
PRODID:-//News from Native California - ECPv6.15.18//NONSGML v1.0//EN
CALSCALE:GREGORIAN
METHOD:PUBLISH
X-ORIGINAL-URL:https://newsfromnativecalifornia.com
X-WR-CALDESC:Events for News from Native California
REFRESH-INTERVAL;VALUE=DURATION:PT1H
X-Robots-Tag:noindex
X-PUBLISHED-TTL:PT1H
BEGIN:VTIMEZONE
TZID:America/Los_Angeles
BEGIN:DAYLIGHT
TZOFFSETFROM:-0800
TZOFFSETTO:-0700
TZNAME:PDT
DTSTART:20250309T100000
END:DAYLIGHT
BEGIN:STANDARD
TZOFFSETFROM:-0700
TZOFFSETTO:-0800
TZNAME:PST
DTSTART:20251102T090000
END:STANDARD
BEGIN:DAYLIGHT
TZOFFSETFROM:-0800
TZOFFSETTO:-0700
TZNAME:PDT
DTSTART:20260308T100000
END:DAYLIGHT
BEGIN:STANDARD
TZOFFSETFROM:-0700
TZOFFSETTO:-0800
TZNAME:PST
DTSTART:20261101T090000
END:STANDARD
BEGIN:DAYLIGHT
TZOFFSETFROM:-0800
TZOFFSETTO:-0700
TZNAME:PDT
DTSTART:20270314T100000
END:DAYLIGHT
BEGIN:STANDARD
TZOFFSETFROM:-0700
TZOFFSETTO:-0800
TZNAME:PST
DTSTART:20271107T090000
END:STANDARD
END:VTIMEZONE
BEGIN:VEVENT
DTSTART;TZID=America/Los_Angeles:20260627T190000
DTEND;TZID=America/Los_Angeles:20260627T213000
DTSTAMP:20260419T215237
CREATED:20260417T193257Z
LAST-MODIFIED:20260417T193257Z
UID:17984-1782586800-1782595800@newsfromnativecalifornia.com
SUMMARY:Reclaiming Our Stories: Live Podcast Recording
DESCRIPTION:Experience and evening of conversation\, storytelling\, and community as voices from the series gather to explore Indigenous histories\, cultures\, and futures. \nHosted and story-woven by the Honorable Victorio L. Shaw\, Esq.\, this six-episode “Reclaiming Our Stories” series centers on Indigenous voices\, leadership\, and lived experiences from across California. Through conversations with tribal leaders\, artists\, educators\, and advocates\, the series explores narrative sovereignty\, cultural continuity\, and the power of storytelling. \nAs the United States approaches the 250th anniversary of the Declaration of Independence\, Reclaiming Our Stories invites listeners to broaden their understanding of history by engaging perspectives that are too often absent from mainstream narratives. \nFeatured voices in the series include Judge Abby Abinanti (Yurok)\, Georgiana Sanchez (Chumash\, O’odham)\, Cristina Gonzales (Chumash)\, Terria Smith (Cahuilla)\, Cindi Alvitre (Tongva)\, Nicole Myers-Lim (Pomo)\, and Michelle Lee (Pit River\, Cahuilla).
URL:https://newsfromnativecalifornia.com/event/reclaiming-our-stories-live-podcast-recording/
LOCATION:The Autry Museum of the American West\, 4700 Western Heritage Way\, Los Angeles\, CA\, 90027\, United States
CATEGORIES:Listening Session,podcast
ATTACH;FMTTYPE=image/png:https://newsfromnativecalifornia.com/wp-content/uploads/2026/04/ROS-PODCAST-INVITATION-1-scaled.png
END:VEVENT
END:VCALENDAR