BEGIN:VCALENDAR
VERSION:2.0
PRODID:-//News from Native California - ECPv6.15.18//NONSGML v1.0//EN
CALSCALE:GREGORIAN
METHOD:PUBLISH
X-WR-CALNAME:News from Native California
X-ORIGINAL-URL:https://newsfromnativecalifornia.com
X-WR-CALDESC:Events for News from Native California
REFRESH-INTERVAL;VALUE=DURATION:PT1H
X-Robots-Tag:noindex
X-PUBLISHED-TTL:PT1H
BEGIN:VTIMEZONE
TZID:America/Los_Angeles
BEGIN:DAYLIGHT
TZOFFSETFROM:-0800
TZOFFSETTO:-0700
TZNAME:PDT
DTSTART:20230312T100000
END:DAYLIGHT
BEGIN:STANDARD
TZOFFSETFROM:-0700
TZOFFSETTO:-0800
TZNAME:PST
DTSTART:20231105T090000
END:STANDARD
BEGIN:DAYLIGHT
TZOFFSETFROM:-0800
TZOFFSETTO:-0700
TZNAME:PDT
DTSTART:20240310T100000
END:DAYLIGHT
BEGIN:STANDARD
TZOFFSETFROM:-0700
TZOFFSETTO:-0800
TZNAME:PST
DTSTART:20241103T090000
END:STANDARD
BEGIN:DAYLIGHT
TZOFFSETFROM:-0800
TZOFFSETTO:-0700
TZNAME:PDT
DTSTART:20250309T100000
END:DAYLIGHT
BEGIN:STANDARD
TZOFFSETFROM:-0700
TZOFFSETTO:-0800
TZNAME:PST
DTSTART:20251102T090000
END:STANDARD
BEGIN:DAYLIGHT
TZOFFSETFROM:-0800
TZOFFSETTO:-0700
TZNAME:PDT
DTSTART:20260308T100000
END:DAYLIGHT
BEGIN:STANDARD
TZOFFSETFROM:-0700
TZOFFSETTO:-0800
TZNAME:PST
DTSTART:20261101T090000
END:STANDARD
END:VTIMEZONE
BEGIN:VEVENT
DTSTART;VALUE=DATE:20241108
DTEND;VALUE=DATE:20250623
DTSTAMP:20260422T000001
CREATED:20241008T194648Z
LAST-MODIFIED:20241118T181228Z
UID:15333-1731024000-1750636799@newsfromnativecalifornia.com
SUMMARY:Born of the Bear Dance: Dugan Aguilar’s Photographs of Native California
DESCRIPTION:Experience the diverse voices of California’s Indigenous peoples as they shape the present and future through the lens of celebrated Indigenous photographer Dugan Aguilar. \nOMCA’s latest exhibition\, Born of the Bear Dance: Dugan Aguilar’s Photographs of Native California offers guests a first look at a significant collection that highlights Indigenous endurance and explores the vivid tapestry of contemporary Indigenous California life. \nAguilar’s work\, spanning from 1982 to 2018\, defies colonial narratives and captures instead an unwavering Indigenous presence and dynamic cultural practices. His powerful images document a rich array of Indigenous experiences\, from the breathtaking California landscapes to gatherings\, ceremonies\, and the artistry of basket weaving. \nThis collection honors and showcases moments of profound cultural significance and weaves together the stories of resilience and unyielding vitality that define contemporary Native life. More than simple documents\, his photographs radiate a sense of quiet but determined celebration and resistance. Drawing from Aguilar’s extensive photographic archive\, gifted to OMCA by his family in 2022\, the exhibition brings these images to life through video\, audio\, and narratives from Indigenous artists\, activists\, elders\, and community members.
URL:https://newsfromnativecalifornia.com/event/born-of-the-bear-dance-dugan-aguilars-photographs-of-native-california/
LOCATION:Oakland Museum of California\, 1000 Oak Street\, Oakland\, CA\, 94607\, United States
CATEGORIES:Exhibit,Grand Opening,Native Arts
ATTACH;FMTTYPE=image/jpeg:https://newsfromnativecalifornia.com/wp-content/uploads/2024/10/aguilar-self-protrait.jpg
END:VEVENT
BEGIN:VEVENT
DTSTART;TZID=America/Los_Angeles:20250518T130000
DTEND;TZID=America/Los_Angeles:20250518T143000
DTSTAMP:20260422T000001
CREATED:20250514T190433Z
LAST-MODIFIED:20250514T190433Z
UID:17012-1747573200-1747578600@newsfromnativecalifornia.com
SUMMARY:Spotlight Sundays: Screening of The School: The Legacy of Hintil Ku’u Ca and Panel Talk with School Participants and Film Director
DESCRIPTION:Join the museum for the premiere of The School: The Legacy of Hintil Ku’u Ca\, a powerful film created and directed by an all-Native team. This documentary traces the origins of Oakland’s first urban Native child development center\, which began during the All-Tribes occupation of Alcatraz Island (1969-1971) and is still in operation today. \nThe afternoon will begin with a traditional drum and dance offering from J.J. Ahboah (Kiowa/Cheyenne) and Teresa Littlebird (Northern Cheyenne)\, followed by the film screening. \nAfterward\, a panel featuring those who attended\, taught\, and shaped The School—Linda Aranaydo (Muscogee Creek/Kialegee Tribal Town/Bear Clan & Filipina)\, Lisa McKay (Pomo/Wailaki/Wintun)\, Kevin Nez (Navajo)\, and language carrier for her Tribe\, Deja Gould (Chochenyo/Confederated Villages of Lisjan)—will engage in a discussion about cultural reawakening and language preservation. The conversation will be moderated by the film’s director and Hintil Ku’u Ca student and teacher\, Mike J. Marin (Navajo/Laguna Pueblo/Washoe). \nThis event is part of our exhibition programming for  Born of the Bear Dance: Dugan Aguilar’s Photographs of Native California—on view through June 2025. Don’t miss it!
URL:https://newsfromnativecalifornia.com/event/spotlight-sundays-screening-of-the-school-the-legacy-of-hintil-kuu-ca-and-panel-talk-with-school-participants-and-film-director/
LOCATION:Oakland Museum of California\, 1000 Oak Street\, Oakland\, CA\, 94607\, United States
CATEGORIES:Artist Showcase,Artist Talk,Community,Education,Film Screening,Youth
ATTACH;FMTTYPE=image/jpeg:https://newsfromnativecalifornia.com/wp-content/uploads/2025/05/film-screening.jpg
END:VEVENT
END:VCALENDAR