BEGIN:VCALENDAR
VERSION:2.0
PRODID:-//News from Native California - ECPv6.15.18//NONSGML v1.0//EN
CALSCALE:GREGORIAN
METHOD:PUBLISH
X-WR-CALNAME:News from Native California
X-ORIGINAL-URL:https://newsfromnativecalifornia.com
X-WR-CALDESC:Events for News from Native California
REFRESH-INTERVAL;VALUE=DURATION:PT1H
X-Robots-Tag:noindex
X-PUBLISHED-TTL:PT1H
BEGIN:VTIMEZONE
TZID:America/Los_Angeles
BEGIN:DAYLIGHT
TZOFFSETFROM:-0800
TZOFFSETTO:-0700
TZNAME:PDT
DTSTART:20240310T100000
END:DAYLIGHT
BEGIN:STANDARD
TZOFFSETFROM:-0700
TZOFFSETTO:-0800
TZNAME:PST
DTSTART:20241103T090000
END:STANDARD
BEGIN:DAYLIGHT
TZOFFSETFROM:-0800
TZOFFSETTO:-0700
TZNAME:PDT
DTSTART:20250309T100000
END:DAYLIGHT
BEGIN:STANDARD
TZOFFSETFROM:-0700
TZOFFSETTO:-0800
TZNAME:PST
DTSTART:20251102T090000
END:STANDARD
BEGIN:DAYLIGHT
TZOFFSETFROM:-0800
TZOFFSETTO:-0700
TZNAME:PDT
DTSTART:20260308T100000
END:DAYLIGHT
BEGIN:STANDARD
TZOFFSETFROM:-0700
TZOFFSETTO:-0800
TZNAME:PST
DTSTART:20261101T090000
END:STANDARD
END:VTIMEZONE
BEGIN:VEVENT
DTSTART;TZID=America/Los_Angeles:20250619T120000
DTEND;TZID=America/Los_Angeles:20250619T140000
DTSTAMP:20260423T105856
CREATED:20250514T012302Z
LAST-MODIFIED:20250514T012302Z
UID:16998-1750334400-1750341600@newsfromnativecalifornia.com
SUMMARY:Michael Kabotie Lecture Series: Kinsale Drake (Diné)
DESCRIPTION:The Native American Arts Festival Week presents its annual Michael Kabotie Lecture Series. This year’s guest lecturers are Indigenous folks who are making positive change in their communities and beyond in their fields that are outside of visual arts. \nKinsale Drake is a Diné poet/editor/playwright whose work has appeared in Poetry\, Best New Poets\, Poets.org\, Poetry Northwest\, The Slowdown\, Black Warrior Review\, The Adroit Journal\, Poetry Online\, Yale Literary Magazine\, TIME\, NPR\, MTV\, and elsewhere. Her debut collection\, THE SKY WAS ONCE A DARK BLANKET (University of Georgia Press\, 2024)\, won the 2023 National Poetry Series. She is the Director of the Ndn Girls Book Club\, a nonprofit organization that promotes Indigenous literature on every level.
URL:https://newsfromnativecalifornia.com/event/michael-kabotie-lecture-series-kinsale-drake-dine/
LOCATION:Idyllwild Arts Campus\, 52500 Temecula Rd.\, Idyllwild-Pine Cove\, CA\, 92549\, United States
CATEGORIES:Artist Talk,Poetry Reading/Spoken Word
ATTACH;FMTTYPE=image/jpeg:https://newsfromnativecalifornia.com/wp-content/uploads/2025/05/kinsale.jpg
END:VEVENT
END:VCALENDAR