BEGIN:VCALENDAR
VERSION:2.0
PRODID:-//News from Native California - ECPv6.15.18//NONSGML v1.0//EN
CALSCALE:GREGORIAN
METHOD:PUBLISH
X-WR-CALNAME:News from Native California
X-ORIGINAL-URL:https://newsfromnativecalifornia.com
X-WR-CALDESC:Events for News from Native California
REFRESH-INTERVAL;VALUE=DURATION:PT1H
X-Robots-Tag:noindex
X-PUBLISHED-TTL:PT1H
BEGIN:VTIMEZONE
TZID:America/Los_Angeles
BEGIN:DAYLIGHT
TZOFFSETFROM:-0800
TZOFFSETTO:-0700
TZNAME:PDT
DTSTART:20240310T100000
END:DAYLIGHT
BEGIN:STANDARD
TZOFFSETFROM:-0700
TZOFFSETTO:-0800
TZNAME:PST
DTSTART:20241103T090000
END:STANDARD
BEGIN:DAYLIGHT
TZOFFSETFROM:-0800
TZOFFSETTO:-0700
TZNAME:PDT
DTSTART:20250309T100000
END:DAYLIGHT
BEGIN:STANDARD
TZOFFSETFROM:-0700
TZOFFSETTO:-0800
TZNAME:PST
DTSTART:20251102T090000
END:STANDARD
BEGIN:DAYLIGHT
TZOFFSETFROM:-0800
TZOFFSETTO:-0700
TZNAME:PDT
DTSTART:20260308T100000
END:DAYLIGHT
BEGIN:STANDARD
TZOFFSETFROM:-0700
TZOFFSETTO:-0800
TZNAME:PST
DTSTART:20261101T090000
END:STANDARD
END:VTIMEZONE
BEGIN:VEVENT
DTSTART;TZID=America/Los_Angeles:20250621T130000
DTEND;TZID=America/Los_Angeles:20250621T170000
DTSTAMP:20260425T051346
CREATED:20250605T195453Z
LAST-MODIFIED:20250605T195453Z
UID:17090-1750510800-1750525200@newsfromnativecalifornia.com
SUMMARY:San Pasqual Reservation Gathering
DESCRIPTION:The San Pasqual Band of Mission Indians presents their San Pasqual Reservation Gathering\, featuring Bird Singers\, Games for kids\, Watermelon Eating Contest\, Grease Pole\, Tug of War\, and Peon Games at Dusk! All are welcome to attend. \nFor more information\, check the following: \nEvent Inquiries: DESIREEM@SANPASQUALTRIBE.ORG \nVendor Inquiries: ANGELINAA@SANPASQUALTRIBE.ORG \nBird Inquiries: DESTINEEM@SANPASQUALTRIBE.ORG
URL:https://newsfromnativecalifornia.com/event/san-pasqual-reservation-gathering-3/
LOCATION:San Pasqual Ball Fields\, 27315 N. Lake Wohlford Rd.\, Valley Center\, CA\, 92082\, United States
CATEGORIES:Bird Singing,Celebration,Community,Craft Fair,Cultural Demonstrations,Elders,Gathering,Youth
ATTACH;FMTTYPE=image/jpeg:https://newsfromnativecalifornia.com/wp-content/uploads/2025/06/unnamed-26.jpg
END:VEVENT
END:VCALENDAR