BEGIN:VCALENDAR
VERSION:2.0
PRODID:-//News from Native California - ECPv6.15.18//NONSGML v1.0//EN
CALSCALE:GREGORIAN
METHOD:PUBLISH
X-ORIGINAL-URL:https://newsfromnativecalifornia.com
X-WR-CALDESC:Events for News from Native California
REFRESH-INTERVAL;VALUE=DURATION:PT1H
X-Robots-Tag:noindex
X-PUBLISHED-TTL:PT1H
BEGIN:VTIMEZONE
TZID:America/Los_Angeles
BEGIN:DAYLIGHT
TZOFFSETFROM:-0800
TZOFFSETTO:-0700
TZNAME:PDT
DTSTART:20240310T100000
END:DAYLIGHT
BEGIN:STANDARD
TZOFFSETFROM:-0700
TZOFFSETTO:-0800
TZNAME:PST
DTSTART:20241103T090000
END:STANDARD
BEGIN:DAYLIGHT
TZOFFSETFROM:-0800
TZOFFSETTO:-0700
TZNAME:PDT
DTSTART:20250309T100000
END:DAYLIGHT
BEGIN:STANDARD
TZOFFSETFROM:-0700
TZOFFSETTO:-0800
TZNAME:PST
DTSTART:20251102T090000
END:STANDARD
BEGIN:DAYLIGHT
TZOFFSETFROM:-0800
TZOFFSETTO:-0700
TZNAME:PDT
DTSTART:20260308T100000
END:DAYLIGHT
BEGIN:STANDARD
TZOFFSETFROM:-0700
TZOFFSETTO:-0800
TZNAME:PST
DTSTART:20261101T090000
END:STANDARD
END:VTIMEZONE
BEGIN:VEVENT
DTSTART;TZID=America/Los_Angeles:20251018T100000
DTEND;TZID=America/Los_Angeles:20251018T210000
DTSTAMP:20260423T082814
CREATED:20250924T194821Z
LAST-MODIFIED:20250924T194821Z
UID:17472-1760781600-1760821200@newsfromnativecalifornia.com
SUMMARY:18th Annual Auburn Big Time-Pow Wow
DESCRIPTION:This in-person event will be a day-long celebration of Indigenous music and dance honoring diverse\nNative American cultures and traditions. Native American dancers\, drummers\, singers and artists will\ngather from across the region at the Gold Country Fairgrounds (209 Fairgate Rd. Auburn\, CA 95603). \nThis fun filled event hosts a market of Native artists\, crafts\, cultural demonstrations\, and food booths.\nStarting the day will be California Native Dancing from 10 am to 12 pm. Grand Entry will begin at 1 pm.\nTiny Tots and Youth contest will follow Grand Entry\, with a dinner break at 5 pm. Intertribal Dancing will\ncontinue until 9 pm.
URL:https://newsfromnativecalifornia.com/event/18th-annual-auburn-big-time-pow-wow/
LOCATION:Gold County Fairground\, 1273 High Street\, Auburn\, CA\, United States
CATEGORIES:Big Time,Powwow
END:VEVENT
END:VCALENDAR