BEGIN:VCALENDAR
VERSION:2.0
PRODID:-//News from Native California - ECPv6.15.18//NONSGML v1.0//EN
CALSCALE:GREGORIAN
METHOD:PUBLISH
X-WR-CALNAME:News from Native California
X-ORIGINAL-URL:https://newsfromnativecalifornia.com
X-WR-CALDESC:Events for News from Native California
REFRESH-INTERVAL;VALUE=DURATION:PT1H
X-Robots-Tag:noindex
X-PUBLISHED-TTL:PT1H
BEGIN:VTIMEZONE
TZID:America/Los_Angeles
BEGIN:DAYLIGHT
TZOFFSETFROM:-0800
TZOFFSETTO:-0700
TZNAME:PDT
DTSTART:20240310T100000
END:DAYLIGHT
BEGIN:STANDARD
TZOFFSETFROM:-0700
TZOFFSETTO:-0800
TZNAME:PST
DTSTART:20241103T090000
END:STANDARD
BEGIN:DAYLIGHT
TZOFFSETFROM:-0800
TZOFFSETTO:-0700
TZNAME:PDT
DTSTART:20250309T100000
END:DAYLIGHT
BEGIN:STANDARD
TZOFFSETFROM:-0700
TZOFFSETTO:-0800
TZNAME:PST
DTSTART:20251102T090000
END:STANDARD
BEGIN:DAYLIGHT
TZOFFSETFROM:-0800
TZOFFSETTO:-0700
TZNAME:PDT
DTSTART:20260308T100000
END:DAYLIGHT
BEGIN:STANDARD
TZOFFSETFROM:-0700
TZOFFSETTO:-0800
TZNAME:PST
DTSTART:20261101T090000
END:STANDARD
END:VTIMEZONE
BEGIN:VEVENT
DTSTART;TZID=America/Los_Angeles:20250718T100000
DTEND;TZID=America/Los_Angeles:20250718T160000
DTSTAMP:20260420T085631
CREATED:20250514T191617Z
LAST-MODIFIED:20250514T191852Z
UID:17014-1752832800-1752854400@newsfromnativecalifornia.com
SUMMARY:Indigenous Science Camp at Sumêg Village
DESCRIPTION:Local Tribes and Non-profits are hosting a free Youth & Families Indigenous Science Camp on July 18th at Sue-Meg State Park from 10am to 4pm. Additional details will be emailed to all registrants prior to the event. Lunch and snacks will be provided. July 18th will include activities\, a tour and hands on learning.  There will be a overnight camping option with tent spaces available\, camping accommodations will be your own responsibility. **If you have dietary restrictions or allergies\, please bring food for yourself. It is no guaranteed that there will be something that will fit all restrictions. \n  \nSign ups: tinyurl.com/SueMeg-ScienceCamp-Register
URL:https://newsfromnativecalifornia.com/event/indigenous-science-camp-at-sumeg-village/
LOCATION:Sumeg Village\, 4150 Patricks Point Dr\, Trinidad\, California\, 95570
CATEGORIES:Community,Cultural Demonstrations,Education,Elders,Food Sovereignty,Speaker,Story Sharing,Talk,Youth
ATTACH;FMTTYPE=image/jpeg:https://newsfromnativecalifornia.com/wp-content/uploads/2025/05/n8-summer-camp.jpg
END:VEVENT
END:VCALENDAR