BEGIN:VCALENDAR
VERSION:2.0
PRODID:-//News from Native California - ECPv6.15.18//NONSGML v1.0//EN
CALSCALE:GREGORIAN
METHOD:PUBLISH
X-ORIGINAL-URL:https://newsfromnativecalifornia.com
X-WR-CALDESC:Events for News from Native California
REFRESH-INTERVAL;VALUE=DURATION:PT1H
X-Robots-Tag:noindex
X-PUBLISHED-TTL:PT1H
BEGIN:VTIMEZONE
TZID:America/Los_Angeles
BEGIN:DAYLIGHT
TZOFFSETFROM:-0800
TZOFFSETTO:-0700
TZNAME:PDT
DTSTART:20240310T100000
END:DAYLIGHT
BEGIN:STANDARD
TZOFFSETFROM:-0700
TZOFFSETTO:-0800
TZNAME:PST
DTSTART:20241103T090000
END:STANDARD
BEGIN:DAYLIGHT
TZOFFSETFROM:-0800
TZOFFSETTO:-0700
TZNAME:PDT
DTSTART:20250309T100000
END:DAYLIGHT
BEGIN:STANDARD
TZOFFSETFROM:-0700
TZOFFSETTO:-0800
TZNAME:PST
DTSTART:20251102T090000
END:STANDARD
BEGIN:DAYLIGHT
TZOFFSETFROM:-0800
TZOFFSETTO:-0700
TZNAME:PDT
DTSTART:20260308T100000
END:DAYLIGHT
BEGIN:STANDARD
TZOFFSETFROM:-0700
TZOFFSETTO:-0800
TZNAME:PST
DTSTART:20261101T090000
END:STANDARD
END:VTIMEZONE
BEGIN:VEVENT
DTSTART;TZID=America/Los_Angeles:20251011T110000
DTEND;TZID=America/Los_Angeles:20251011T160000
DTSTAMP:20260419T204544
CREATED:20250912T164615Z
LAST-MODIFIED:20250912T164615Z
UID:17444-1760180400-1760198400@newsfromnativecalifornia.com
SUMMARY:Celebrating Indigenous Peoples' Day
DESCRIPTION:Free outdoor family festival! \nIn honor of Indigenous Peoples’ Day\, Getty hosts its fourth annual family event to learn about Southern California’s vibrant Native American cultures. The theme this year celebrates libraries and storytelling\, with activities sharing traditional and contemporary Indigenous perspectives and narratives. This year’s celebration is presented in partnership with The Chapter House.
URL:https://newsfromnativecalifornia.com/event/celebrating-indigenous-peoples-day/
LOCATION:Getty Center\, 1200 Getty Center Dr.\, Los Angeles\, 90049\, United States
CATEGORIES:Community,Festival
ATTACH;FMTTYPE=image/jpeg:https://newsfromnativecalifornia.com/wp-content/uploads/2025/09/f9a88f21-2d04-44cf-b6b0-a0b9e27be1ac_2000x1125.jpg
END:VEVENT
END:VCALENDAR