BEGIN:VCALENDAR
VERSION:2.0
PRODID:-//News from Native California - ECPv6.15.18//NONSGML v1.0//EN
CALSCALE:GREGORIAN
METHOD:PUBLISH
X-WR-CALNAME:News from Native California
X-ORIGINAL-URL:https://newsfromnativecalifornia.com
X-WR-CALDESC:Events for News from Native California
REFRESH-INTERVAL;VALUE=DURATION:PT1H
X-Robots-Tag:noindex
X-PUBLISHED-TTL:PT1H
BEGIN:VTIMEZONE
TZID:America/Los_Angeles
BEGIN:DAYLIGHT
TZOFFSETFROM:-0800
TZOFFSETTO:-0700
TZNAME:PDT
DTSTART:20240310T100000
END:DAYLIGHT
BEGIN:STANDARD
TZOFFSETFROM:-0700
TZOFFSETTO:-0800
TZNAME:PST
DTSTART:20241103T090000
END:STANDARD
BEGIN:DAYLIGHT
TZOFFSETFROM:-0800
TZOFFSETTO:-0700
TZNAME:PDT
DTSTART:20250309T100000
END:DAYLIGHT
BEGIN:STANDARD
TZOFFSETFROM:-0700
TZOFFSETTO:-0800
TZNAME:PST
DTSTART:20251102T090000
END:STANDARD
BEGIN:DAYLIGHT
TZOFFSETFROM:-0800
TZOFFSETTO:-0700
TZNAME:PDT
DTSTART:20260308T100000
END:DAYLIGHT
BEGIN:STANDARD
TZOFFSETFROM:-0700
TZOFFSETTO:-0800
TZNAME:PST
DTSTART:20261101T090000
END:STANDARD
END:VTIMEZONE
BEGIN:VEVENT
DTSTART;TZID=America/Los_Angeles:20250410T190000
DTEND;TZID=America/Los_Angeles:20250410T210000
DTSTAMP:20260423T214521
CREATED:20250408T223812Z
LAST-MODIFIED:20250408T223812Z
UID:16852-1744311600-1744318800@newsfromnativecalifornia.com
SUMMARY:15th Annual Short Play Festival: To Indigeneity and Beyond!
DESCRIPTION:Join the museum for an exhilarating afternoon of staged readings featuring these groundbreaking new plays\, where talented playwrights will compete for the $500 Thomas Studie Gadugi Audience Prize and the $1000 Von Marie Atchley Excellence in Playwriting Award. \nFor far too long\, when most people thought of Native Americans\, they often conjured up outdated images of exotic figures from history\, adorned in leather and feathers\, trapped behind museum glass. Few see a beautifully vibrant culture that thrives today. \nFor their 15th Annual Short Play Festival\, they asked Native playwrights to boldly go where few have imagined Native people before: the future! What captivating tales have they woven? Witness a future filled with hope\, the delightfully absurd\, and the downright terrifying.
URL:https://newsfromnativecalifornia.com/event/15th-annual-short-play-festival-to-indigeneity-and-beyond/
LOCATION:The Autry Museum of the American West\, 4700 Western Heritage Way\, Los Angeles\, CA\, 90027\, United States
CATEGORIES:Festival,Native Arts,Performance
ATTACH;FMTTYPE=image/jpeg:https://newsfromnativecalifornia.com/wp-content/uploads/2025/04/to-ind-and-beyond-scaled.jpg
END:VEVENT
END:VCALENDAR