BEGIN:VCALENDAR
VERSION:2.0
PRODID:-//News from Native California - ECPv6.15.18//NONSGML v1.0//EN
CALSCALE:GREGORIAN
METHOD:PUBLISH
X-WR-CALNAME:News from Native California
X-ORIGINAL-URL:https://newsfromnativecalifornia.com
X-WR-CALDESC:Events for News from Native California
REFRESH-INTERVAL;VALUE=DURATION:PT1H
X-Robots-Tag:noindex
X-PUBLISHED-TTL:PT1H
BEGIN:VTIMEZONE
TZID:America/Los_Angeles
BEGIN:DAYLIGHT
TZOFFSETFROM:-0800
TZOFFSETTO:-0700
TZNAME:PDT
DTSTART:20220313T100000
END:DAYLIGHT
BEGIN:STANDARD
TZOFFSETFROM:-0700
TZOFFSETTO:-0800
TZNAME:PST
DTSTART:20221106T090000
END:STANDARD
BEGIN:DAYLIGHT
TZOFFSETFROM:-0800
TZOFFSETTO:-0700
TZNAME:PDT
DTSTART:20230312T100000
END:DAYLIGHT
BEGIN:STANDARD
TZOFFSETFROM:-0700
TZOFFSETTO:-0800
TZNAME:PST
DTSTART:20231105T090000
END:STANDARD
BEGIN:DAYLIGHT
TZOFFSETFROM:-0800
TZOFFSETTO:-0700
TZNAME:PDT
DTSTART:20240310T100000
END:DAYLIGHT
BEGIN:STANDARD
TZOFFSETFROM:-0700
TZOFFSETTO:-0800
TZNAME:PST
DTSTART:20241103T090000
END:STANDARD
END:VTIMEZONE
BEGIN:VEVENT
DTSTART;TZID=America/Los_Angeles:20231118T170000
DTEND;TZID=America/Los_Angeles:20231118T220000
DTSTAMP:20260422T164239
CREATED:20231103T174712Z
LAST-MODIFIED:20231103T174750Z
UID:13020-1700326800-1700344800@newsfromnativecalifornia.com
SUMMARY:Sacramento Native American Health Center Presents Round Dance
DESCRIPTION:Sacramento Native American Health Center presents: Round Dance Ceremony on November 18th from 5:00 pm to 10:00 pm in our Youth and Family Space at SNAHC Florin Road. Join us for this free Community Wellness and Healing Gathering\, which is a Cree teaching out of Canada and a ceremony that connects our world to the spirit world during the Round Dance. This event will have activities including a Pipe Ceremony\, Traditional Feed\, Round Dance\, vendors\, and more! \nClick to Register \n*This program is funded by the Division of Behavioral Health Services through the voter-approved Proposition 63\, Mental Health Services Act (MHSA).*
URL:https://newsfromnativecalifornia.com/event/sacramento-native-american-health-center-presents-round-dance/
LOCATION:SNAHC Florin Youth & Family Space\, 3800 Florin Road\, Sacramento\, CA\, 95823\, United States
CATEGORIES:Gathering,Indian Health,Round Dance,Wellness
ATTACH;FMTTYPE=image/png:https://newsfromnativecalifornia.com/wp-content/uploads/2023/11/Screen-Shot-2023-11-03-at-10.45.56-AM.png
END:VEVENT
END:VCALENDAR