BEGIN:VCALENDAR
VERSION:2.0
PRODID:-//News from Native California - ECPv6.15.18//NONSGML v1.0//EN
CALSCALE:GREGORIAN
METHOD:PUBLISH
X-ORIGINAL-URL:https://newsfromnativecalifornia.com
X-WR-CALDESC:Events for News from Native California
REFRESH-INTERVAL;VALUE=DURATION:PT1H
X-Robots-Tag:noindex
X-PUBLISHED-TTL:PT1H
BEGIN:VTIMEZONE
TZID:America/Los_Angeles
BEGIN:DAYLIGHT
TZOFFSETFROM:-0800
TZOFFSETTO:-0700
TZNAME:PDT
DTSTART:20230312T100000
END:DAYLIGHT
BEGIN:STANDARD
TZOFFSETFROM:-0700
TZOFFSETTO:-0800
TZNAME:PST
DTSTART:20231105T090000
END:STANDARD
BEGIN:DAYLIGHT
TZOFFSETFROM:-0800
TZOFFSETTO:-0700
TZNAME:PDT
DTSTART:20240310T100000
END:DAYLIGHT
BEGIN:STANDARD
TZOFFSETFROM:-0700
TZOFFSETTO:-0800
TZNAME:PST
DTSTART:20241103T090000
END:STANDARD
BEGIN:DAYLIGHT
TZOFFSETFROM:-0800
TZOFFSETTO:-0700
TZNAME:PDT
DTSTART:20250309T100000
END:DAYLIGHT
BEGIN:STANDARD
TZOFFSETFROM:-0700
TZOFFSETTO:-0800
TZNAME:PST
DTSTART:20251102T090000
END:STANDARD
END:VTIMEZONE
BEGIN:VEVENT
DTSTART;VALUE=DATE:20240203
DTEND;VALUE=DATE:20240205
DTSTAMP:20260421T031339
CREATED:20240104T002553Z
LAST-MODIFIED:20240104T002553Z
UID:13326-1706918400-1707091199@newsfromnativecalifornia.com
SUMMARY:26th Annual Wildhorse Powwow
DESCRIPTION:Free Admission! All Drums and Dancers Welcome! \nFebruary 3 -4\, 2024\nSaturday 11 AM – 9 PM\, Grand Entry at Noon\nSunday 11 AM – 6 PM\, Grand Entry at Noon \n  \nHead Staff\nMC: Arlie Neskahi (Dine)\nHead Man: Jacob Pratt (Dakota/Ojibway)\nHead Woman: Nanabah Kadenehii (Dine)\nHost Drum: Sorrel Rider (Siksika Nation) Alberta\, Canada \nHead Woman Jingle Dress Specials: 1. 17 and Under\, 2. 18 and Over\nGrass Dance Specials (3 places) sponsored by Toni Battle & Family\nHand Drum Contest\nLuck of the Draw (Sunday) Dance Contest sponsored by Powwow Committee\nFive man Drum Contest sponsored by Wildhorse Singers \nVendors Info\n$300 for 2 days\, $200 for 1 day. Applications can be downloaded from: www.wildhorsesingers.com or facebook.com/WildhorseSingers \nFor more information: WILDHORSESINGERS@YAHOO.COM \nDate: 2024-02-03\nLocation: *New Location*New Location*New Location*\nEl Camino College\, North Gym\n16007 Crenshaw Blvd. Torrance\, CA 90506\n(Cross Streets: Manhattan Beach Blvd. and Crenshaw Blvd.)\nCost: Free
URL:https://newsfromnativecalifornia.com/event/26th-annual-wildhorse-powwow/
LOCATION:El Camino College\, North Gym\, 16007 Crenshaw Blvd.\, Torrance\, CA\, 90506\, United States
CATEGORIES:Powwow
ATTACH;FMTTYPE=image/jpeg:https://newsfromnativecalifornia.com/wp-content/uploads/2024/01/WHFLYER2024.jpeg
END:VEVENT
BEGIN:VEVENT
DTSTART;TZID=America/Los_Angeles:20240224T100000
DTEND;TZID=America/Los_Angeles:20240224T200000
DTSTAMP:20260421T031339
CREATED:20240123T184303Z
LAST-MODIFIED:20240123T184303Z
UID:13480-1708768800-1708804800@newsfromnativecalifornia.com
SUMMARY:Save the Date! 1st Annual Southwestern College Powwow
DESCRIPTION:
URL:https://newsfromnativecalifornia.com/event/save-the-date-1st-annual-southwestern-college-powwow/
LOCATION:Southwestern College\, 900 Otay Lakes Road\, Chula Vista\, CA\, 91910\, United States
CATEGORIES:Powwow,Save the date
ATTACH;FMTTYPE=image/png:https://newsfromnativecalifornia.com/wp-content/uploads/2024/01/Untitled-design.png
END:VEVENT
END:VCALENDAR