BEGIN:VCALENDAR
VERSION:2.0
PRODID:-//News from Native California - ECPv6.15.18//NONSGML v1.0//EN
CALSCALE:GREGORIAN
METHOD:PUBLISH
X-ORIGINAL-URL:https://newsfromnativecalifornia.com
X-WR-CALDESC:Events for News from Native California
REFRESH-INTERVAL;VALUE=DURATION:PT1H
X-Robots-Tag:noindex
X-PUBLISHED-TTL:PT1H
BEGIN:VTIMEZONE
TZID:America/Los_Angeles
BEGIN:DAYLIGHT
TZOFFSETFROM:-0800
TZOFFSETTO:-0700
TZNAME:PDT
DTSTART:20240310T100000
END:DAYLIGHT
BEGIN:STANDARD
TZOFFSETFROM:-0700
TZOFFSETTO:-0800
TZNAME:PST
DTSTART:20241103T090000
END:STANDARD
BEGIN:DAYLIGHT
TZOFFSETFROM:-0800
TZOFFSETTO:-0700
TZNAME:PDT
DTSTART:20250309T100000
END:DAYLIGHT
BEGIN:STANDARD
TZOFFSETFROM:-0700
TZOFFSETTO:-0800
TZNAME:PST
DTSTART:20251102T090000
END:STANDARD
BEGIN:DAYLIGHT
TZOFFSETFROM:-0800
TZOFFSETTO:-0700
TZNAME:PDT
DTSTART:20260308T100000
END:DAYLIGHT
BEGIN:STANDARD
TZOFFSETFROM:-0700
TZOFFSETTO:-0800
TZNAME:PST
DTSTART:20261101T090000
END:STANDARD
END:VTIMEZONE
BEGIN:VEVENT
DTSTART;TZID=America/Los_Angeles:20250306T100000
DTEND;TZID=America/Los_Angeles:20250306T170000
DTSTAMP:20260420T170111
CREATED:20250303T060520Z
LAST-MODIFIED:20250303T060520Z
UID:16529-1741255200-1741280400@newsfromnativecalifornia.com
SUMMARY:Justice Involved Re-Entry Initiative
DESCRIPTION:Join for a day full of guest speakers\, informational booths\, vendors\, and a wonderful keynote speech from Al Pooley\, Founder and President of the Native American Fatherhood and Families Association (NAFFA). \nWho should attend? Tribes\, community members\, enhanced care management and community supports providers\, formally incarcerated individuals and their families\, law enforcement\, probation\, parole\, social workers\, mental health providers\, AOD counselors and all others interested in this innitiative. \nFor more information or to reserve a booth\, contact: Diana Billy- Elliott\, ASW (707-234-0086)
URL:https://newsfromnativecalifornia.com/event/justice-involved-re-entry-initiative/
LOCATION:Ukiah Conference Center\, 200 S School St.\, Ukiah\, California\, 95482
CATEGORIES:Community,Discussion,Luncheon,Market,Speaker,Talk,Wellness
ATTACH;FMTTYPE=image/jpeg:https://newsfromnativecalifornia.com/wp-content/uploads/2025/03/unnamed-17.jpg
END:VEVENT
BEGIN:VEVENT
DTSTART;VALUE=DATE:20250308
DTEND;VALUE=DATE:20250310
DTSTAMP:20260420T170111
CREATED:20250218T181535Z
LAST-MODIFIED:20250218T181535Z
UID:16448-1741392000-1741564799@newsfromnativecalifornia.com
SUMMARY:52nd Annual California State University\, Long Beach Pow Wow at Puvungna
DESCRIPTION:Date: March 8 – 9\, 2025\nNEW LOCATION: INTRAMURAL RUGBY AND SOCCER FIELDS \nCalifornia State University\, Long Beach’s annual Pow Wow at Puvungna\, an American Indian social celebration\, is the largest spring event of its kind in Southern California. The Pow Wow is focused on displaying the university’s strong American Indian presence. Admission and parking are free. \nThe two-day event\, which will feature American Indian dancing\, arts\, crafts and food begins at 11 AM each day and runs until 10 PM on Saturday and 7 PM on Sunday. In addition to dance contests and inter-tribal dancing\, there will be California Indian Cultural Presentations\, Gourd dancing with Dancer Registration closing at 2 PM on Saturday. All dancers and drums are invited. \nNative foods\, such as mutton and beef stew\, Navajo tacos\, fry bread\, and Indian burgers will be on sale at the event\, and American Indian vendors will be selling both traditional and contemporary American Indian art. \nA campus map and directions can be found at www.csulb.edu/map.
URL:https://newsfromnativecalifornia.com/event/52nd-annual-california-state-university-long-beach-pow-wow-at-puvungna/
LOCATION:CSULB Intramural Rugby and Soccer Fields\, 1250 Bellflower Boulevard\, Long Beach\, California\, 90840
CATEGORIES:Community,Craft Fair,Education,Elders,Meet and Greet,Powwow,Youth
ATTACH;FMTTYPE=application/pdf:https://newsfromnativecalifornia.com/wp-content/uploads/2025/02/CSULB_Pow_Wow_2025_flyer.pdf
END:VEVENT
BEGIN:VEVENT
DTSTART;TZID=America/Los_Angeles:20250329T193000
DTEND;TZID=America/Los_Angeles:20250329T220000
DTSTAMP:20260420T170111
CREATED:20250311T190115Z
LAST-MODIFIED:20250311T191346Z
UID:16597-1743276600-1743285600@newsfromnativecalifornia.com
SUMMARY:NDN Girls Book Club - Poetry Lounge and Land Back Fundraiser
DESCRIPTION:READING | $15 | ALL AGES | Join NDN Girls Book Club for a poetry lounge & small Native artisans market on March 29th\, 7:30-10pm. The event will feature a lineup of Native women authors with debut books out 2024-2025\, a food truck\, a live DJ\, free books from NDN Girls Book Club\, and a pop-up by Quiet Quail Books\, an Indigenous woman-owned bookstore. All are welcome; tix are required because of limited space. \nDress code: disco<3 \nTickets and raffle giveaways will raise funds for the Tongva Taraxat Paxaavxa Conservancy\, which is working to restore affected areas in the wake of the Eaton fires: https://www.tongva.land \nPurchase tickets here: https://juniorhighlosangeles.com/calendar/ndngirlsopoetrylounge-2025
URL:https://newsfromnativecalifornia.com/event/16597/
LOCATION:Junior High Los Angeles\, 603 S Brand Blvd\, Glendale\, California\, 91204
CATEGORIES:Bird Singing,Book Talk,Community,Fundraiser,Native Arts,Native Jam Night,Performance,Speaker Series,Story Sharing
ATTACH;FMTTYPE=image/png:https://newsfromnativecalifornia.com/wp-content/uploads/2025/03/poetry-lounge-kinsale.png
END:VEVENT
END:VCALENDAR