BEGIN:VCALENDAR
VERSION:2.0
PRODID:-//News from Native California - ECPv6.15.18//NONSGML v1.0//EN
CALSCALE:GREGORIAN
METHOD:PUBLISH
X-ORIGINAL-URL:https://newsfromnativecalifornia.com
X-WR-CALDESC:Events for News from Native California
REFRESH-INTERVAL;VALUE=DURATION:PT1H
X-Robots-Tag:noindex
X-PUBLISHED-TTL:PT1H
BEGIN:VTIMEZONE
TZID:America/Los_Angeles
BEGIN:DAYLIGHT
TZOFFSETFROM:-0800
TZOFFSETTO:-0700
TZNAME:PDT
DTSTART:20250309T100000
END:DAYLIGHT
BEGIN:STANDARD
TZOFFSETFROM:-0700
TZOFFSETTO:-0800
TZNAME:PST
DTSTART:20251102T090000
END:STANDARD
BEGIN:DAYLIGHT
TZOFFSETFROM:-0800
TZOFFSETTO:-0700
TZNAME:PDT
DTSTART:20260308T100000
END:DAYLIGHT
BEGIN:STANDARD
TZOFFSETFROM:-0700
TZOFFSETTO:-0800
TZNAME:PST
DTSTART:20261101T090000
END:STANDARD
BEGIN:DAYLIGHT
TZOFFSETFROM:-0800
TZOFFSETTO:-0700
TZNAME:PDT
DTSTART:20270314T100000
END:DAYLIGHT
BEGIN:STANDARD
TZOFFSETFROM:-0700
TZOFFSETTO:-0800
TZNAME:PST
DTSTART:20271107T090000
END:STANDARD
END:VTIMEZONE
BEGIN:VEVENT
DTSTART;TZID=America/Los_Angeles:20260513T080000
DTEND;TZID=America/Los_Angeles:20260514T170000
DTSTAMP:20260419T124908
CREATED:20260416T182916Z
LAST-MODIFIED:20260416T182916Z
UID:17968-1778659200-1778778000@newsfromnativecalifornia.com
SUMMARY:Tribal Veterans Mental Health Summit
DESCRIPTION:The California Department of Veterans Affairs Tribal Veterans Mental Health Summit is a two‑day event focused on honoring Native American veterans and promoting suicide prevention through culturally grounded approaches. The summit brings together Tribal leaders\, veterans\, clinicians\, service providers\, and state partners to learn\, connect\, and share resources that reflect the unique needs of Tribal Veterans.13-14 MAY 20268 a.m. – 5 p.m.Sycuan Casino Resort5469 Casino WayEl Cajon\, CA 92019SCAN THE QR CODE TO PRE-REGISTERFor event updates or questions\, please contact MinorityVeterans@calvet.ca.gov or (916) 651-3054.
URL:https://newsfromnativecalifornia.com/event/tribal-veterans-mental-health-summit/
LOCATION:Sycuan Casino\, 5469 Casino Way\, El Cajon\, CA\, 92019\, United States
CATEGORIES:Summit
END:VEVENT
END:VCALENDAR