BEGIN:VCALENDAR
VERSION:2.0
PRODID:-//News from Native California - ECPv6.15.18//NONSGML v1.0//EN
CALSCALE:GREGORIAN
METHOD:PUBLISH
X-WR-CALNAME:News from Native California
X-ORIGINAL-URL:https://newsfromnativecalifornia.com
X-WR-CALDESC:Events for News from Native California
REFRESH-INTERVAL;VALUE=DURATION:PT1H
X-Robots-Tag:noindex
X-PUBLISHED-TTL:PT1H
BEGIN:VTIMEZONE
TZID:America/Los_Angeles
BEGIN:DAYLIGHT
TZOFFSETFROM:-0800
TZOFFSETTO:-0700
TZNAME:PDT
DTSTART:20240310T100000
END:DAYLIGHT
BEGIN:STANDARD
TZOFFSETFROM:-0700
TZOFFSETTO:-0800
TZNAME:PST
DTSTART:20241103T090000
END:STANDARD
BEGIN:DAYLIGHT
TZOFFSETFROM:-0800
TZOFFSETTO:-0700
TZNAME:PDT
DTSTART:20250309T100000
END:DAYLIGHT
BEGIN:STANDARD
TZOFFSETFROM:-0700
TZOFFSETTO:-0800
TZNAME:PST
DTSTART:20251102T090000
END:STANDARD
BEGIN:DAYLIGHT
TZOFFSETFROM:-0800
TZOFFSETTO:-0700
TZNAME:PDT
DTSTART:20260308T100000
END:DAYLIGHT
BEGIN:STANDARD
TZOFFSETFROM:-0700
TZOFFSETTO:-0800
TZNAME:PST
DTSTART:20261101T090000
END:STANDARD
END:VTIMEZONE
BEGIN:VEVENT
DTSTART;VALUE=DATE:20250627
DTEND;VALUE=DATE:20250702
DTSTAMP:20260419T111312
CREATED:20240909T175443Z
LAST-MODIFIED:20240909T175443Z
UID:14948-1750982400-1751414399@newsfromnativecalifornia.com
SUMMARY:2025 National UNITY Conference
DESCRIPTION:The National UNITY Conference is an impactful five-day youth-led annual event held every July in a pre-selected region of the U.S. About 2\,500 Native youth and advisors are expected to attend the 2025 National UNITY Conference in San Deigo\, California\, (June 27 – July 1\, 2025). The National UNITY Conference complete with general sessions\, regional caucuses\, workshops\, career/education fair\, and fun evening activities provides hands-on leadership development activities and where the National UNITY Council conducts elections and its annual business meeting. The national conference is a place where Native youth voices are encouraged and valued. All activities are planned with safety in mind. In addition\, UNITY offers unique youth programming through its UNITY Spirit Room and UNITY Drum. The Spirit Room\, led by alumni\, is used for social and prayer purposes and has provided conference attendees an opportunity for support\, healing\, and spiritual nourishment. The Spirit Room is meant for all beliefs and religions to share their “Good Medicine” with other participants. The UNITY Drum\, also led by alumni\, is an open drum with roots in the southern style of powwow singing. All youth singers are encouraged to bring their drumsticks to join in. While youth leaders meet\, advisors and adults who work with youth are also involved in intense training and networking activities. Adult training may include building rapport\, peer-to-peer sharing\, conflict resolution\, approaches to youth work\, and more. \nAffiliated Youth Councils and individual members are eligible for registration discounts. Become a member today!
URL:https://newsfromnativecalifornia.com/event/2025-national-unity-conference/
LOCATION:Town and Country Resort San Diego\, 500 Hotel Cir N\, San Diego\, California\, 92108
CATEGORIES:Conference,Youth
ATTACH;FMTTYPE=image/jpeg:https://newsfromnativecalifornia.com/wp-content/uploads/2024/09/unity-conference.jpg
END:VEVENT
END:VCALENDAR