BEGIN:VCALENDAR
VERSION:2.0
PRODID:-//News from Native California - ECPv6.15.18//NONSGML v1.0//EN
CALSCALE:GREGORIAN
METHOD:PUBLISH
X-ORIGINAL-URL:https://newsfromnativecalifornia.com
X-WR-CALDESC:Events for News from Native California
REFRESH-INTERVAL;VALUE=DURATION:PT1H
X-Robots-Tag:noindex
X-PUBLISHED-TTL:PT1H
BEGIN:VTIMEZONE
TZID:America/Los_Angeles
BEGIN:DAYLIGHT
TZOFFSETFROM:-0800
TZOFFSETTO:-0700
TZNAME:PDT
DTSTART:20240310T100000
END:DAYLIGHT
BEGIN:STANDARD
TZOFFSETFROM:-0700
TZOFFSETTO:-0800
TZNAME:PST
DTSTART:20241103T090000
END:STANDARD
BEGIN:DAYLIGHT
TZOFFSETFROM:-0800
TZOFFSETTO:-0700
TZNAME:PDT
DTSTART:20250309T100000
END:DAYLIGHT
BEGIN:STANDARD
TZOFFSETFROM:-0700
TZOFFSETTO:-0800
TZNAME:PST
DTSTART:20251102T090000
END:STANDARD
BEGIN:DAYLIGHT
TZOFFSETFROM:-0800
TZOFFSETTO:-0700
TZNAME:PDT
DTSTART:20260308T100000
END:DAYLIGHT
BEGIN:STANDARD
TZOFFSETFROM:-0700
TZOFFSETTO:-0800
TZNAME:PST
DTSTART:20261101T090000
END:STANDARD
END:VTIMEZONE
BEGIN:VEVENT
DTSTART;VALUE=DATE:20250313
DTEND;VALUE=DATE:20250317
DTSTAMP:20260425T123240
CREATED:20250218T191259Z
LAST-MODIFIED:20250218T191259Z
UID:16469-1741824000-1742169599@newsfromnativecalifornia.com
SUMMARY:Two Spirit Celebration and Awareness Week
DESCRIPTION:Exciting Events Coming up in March. SAVE THE DATE! Spread the Word!
URL:https://newsfromnativecalifornia.com/event/two-spirit-celebration-and-awareness-week/
CATEGORIES:Community,Pride,Save the date,Youth
ATTACH;FMTTYPE=image/png:https://newsfromnativecalifornia.com/wp-content/uploads/2025/02/two-spirit-.png
END:VEVENT
END:VCALENDAR